BEGIN:VCALENDAR
VERSION:2.0
PRODID:-//Christ Church Plano - ECPv6.9.0//NONSGML v1.0//EN
CALSCALE:GREGORIAN
METHOD:PUBLISH
X-WR-CALNAME:Christ Church Plano
X-ORIGINAL-URL:https://christchurch.codestagingdevelopment.com
X-WR-CALDESC:Events for Christ Church Plano
REFRESH-INTERVAL;VALUE=DURATION:PT1H
X-Robots-Tag:noindex
X-PUBLISHED-TTL:PT1H
BEGIN:VTIMEZONE
TZID:America/Chicago
BEGIN:DAYLIGHT
TZOFFSETFROM:-0600
TZOFFSETTO:-0500
TZNAME:CDT
DTSTART:20250309T080000
END:DAYLIGHT
BEGIN:STANDARD
TZOFFSETFROM:-0500
TZOFFSETTO:-0600
TZNAME:CST
DTSTART:20251102T070000
END:STANDARD
END:VTIMEZONE
BEGIN:VEVENT
DTSTART;TZID=America/Chicago:20250420T120000
DTEND;TZID=America/Chicago:20250420T173000
DTSTAMP:20260420T021935
CREATED:20250109T173859Z
LAST-MODIFIED:20250117T180815Z
UID:10002160-1745150400-1745170200@christchurch.codestagingdevelopment.com
SUMMARY:Easter Services
DESCRIPTION:Sanctuary\n9 & 11 a.m. Worship Services \n\n\n\n\nChapel\n7 a.m. Sunrise Service \n\n\n\nA livestream of the 11 a.m. service will be available at ChristChurchPlano.org/Live
URL:https://christchurch.codestagingdevelopment.com/event/easter-services/
LOCATION:Sanctuary
CATEGORIES:Worship
END:VEVENT
BEGIN:VEVENT
DTSTART;TZID=America/Chicago:20250422T140000
DTEND;TZID=America/Chicago:20250422T143000
DTSTAMP:20260420T021935
CREATED:20250109T151802Z
LAST-MODIFIED:20250114T203748Z
UID:10000803-1745330400-1745332200@christchurch.codestagingdevelopment.com
SUMMARY:Tuesday Chapel
DESCRIPTION:Join us for a brief service of Morning Prayer and a gospel message. \nLearn more about worship at Christ Church \nWatch recent sermons
URL:https://christchurch.codestagingdevelopment.com/event/tuesday-chapel/2025-04-22/
LOCATION:Chapel
CATEGORIES:Worship
ATTACH;FMTTYPE=image/jpeg:https://christchurch.codestagingdevelopment.com/wp-content/uploads/2025/01/Interior-Chapel-960.jpg
END:VEVENT
BEGIN:VEVENT
DTSTART;TZID=America/Chicago:20250423T230000
DTEND;TZID=America/Chicago:20250424T010000
DTSTAMP:20260420T021935
CREATED:20250109T152923Z
LAST-MODIFIED:20250109T155324Z
UID:10001327-1745449200-1745456400@christchurch.codestagingdevelopment.com
SUMMARY:Family Ministry Wednesdays
DESCRIPTION:
URL:https://christchurch.codestagingdevelopment.com/event/family-ministry-wednesdays/2025-04-23/
LOCATION:Archgate Center
CATEGORIES:High School,Sunday School,Middle School
END:VEVENT
END:VCALENDAR