BEGIN:VCALENDAR
VERSION:2.0
PRODID:-//Christ Church Plano - ECPv6.9.0//NONSGML v1.0//EN
CALSCALE:GREGORIAN
METHOD:PUBLISH
X-ORIGINAL-URL:https://christchurch.codestagingdevelopment.com
X-WR-CALDESC:Events for Christ Church Plano
REFRESH-INTERVAL;VALUE=DURATION:PT1H
X-Robots-Tag:noindex
X-PUBLISHED-TTL:PT1H
BEGIN:VTIMEZONE
TZID:America/Chicago
BEGIN:DAYLIGHT
TZOFFSETFROM:-0600
TZOFFSETTO:-0500
TZNAME:CDT
DTSTART:20250309T080000
END:DAYLIGHT
BEGIN:STANDARD
TZOFFSETFROM:-0500
TZOFFSETTO:-0600
TZNAME:CST
DTSTART:20251102T070000
END:STANDARD
END:VTIMEZONE
BEGIN:VEVENT
DTSTART;TZID=America/Chicago:20250112T131500
DTEND;TZID=America/Chicago:20250112T141500
DTSTAMP:20260422T023608
CREATED:20250109T150557Z
LAST-MODIFIED:20250114T203721Z
UID:10001051-1736687700-1736691300@christchurch.codestagingdevelopment.com
SUMMARY:Chapel Worship
DESCRIPTION:Christ Church celebrates the death and resurrection of our Lord and Savior Jesus Christ through participation in weekly worship and special services. \nLearn more about worship at Christ Church \nWatch recent sermons
URL:https://christchurch.codestagingdevelopment.com/event/chapel-worship/2025-01-12/
LOCATION:Chapel
CATEGORIES:Nursery,Worship
ATTACH;FMTTYPE=image/jpeg:https://christchurch.codestagingdevelopment.com/wp-content/uploads/2025/01/Interior-Chapel-960.jpg
END:VEVENT
BEGIN:VEVENT
DTSTART;TZID=America/Chicago:20250112T150000
DTEND;TZID=America/Chicago:20250112T181500
DTSTAMP:20260422T023608
CREATED:20250109T192110Z
LAST-MODIFIED:20250114T203641Z
UID:10002174-1736694000-1736705700@christchurch.codestagingdevelopment.com
SUMMARY:Sanctuary Worship
DESCRIPTION:Christ Church celebrates the death and resurrection of our Lord and Savior Jesus Christ through participation in weekly worship and special services. \nLearn more about worship at Christ Church \nWatch recent sermons
URL:https://christchurch.codestagingdevelopment.com/event/sanctuary-worship-2/2025-01-12/
LOCATION:Sanctuary
CATEGORIES:Nursery,Worship
ATTACH;FMTTYPE=image/jpeg:https://christchurch.codestagingdevelopment.com/wp-content/uploads/2025/01/Interior-Sanctuary-960.jpg
END:VEVENT
BEGIN:VEVENT
DTSTART;TZID=America/Chicago:20250114T150000
DTEND;TZID=America/Chicago:20250114T153000
DTSTAMP:20260422T023608
CREATED:20250109T151802Z
LAST-MODIFIED:20250114T203748Z
UID:10000789-1736866800-1736868600@christchurch.codestagingdevelopment.com
SUMMARY:Tuesday Chapel
DESCRIPTION:Join us for a brief service of Morning Prayer and a gospel message. \nLearn more about worship at Christ Church \nWatch recent sermons
URL:https://christchurch.codestagingdevelopment.com/event/tuesday-chapel/2025-01-14/
LOCATION:Chapel
CATEGORIES:Worship
ATTACH;FMTTYPE=image/jpeg:https://christchurch.codestagingdevelopment.com/wp-content/uploads/2025/01/Interior-Chapel-960.jpg
END:VEVENT
BEGIN:VEVENT
DTSTART;TZID=America/Chicago:20250114T153000
DTEND;TZID=America/Chicago:20250114T170000
DTSTAMP:20260422T023608
CREATED:20241210T182339Z
LAST-MODIFIED:20250112T183626Z
UID:10000226-1736868600-1736874000@christchurch.codestagingdevelopment.com
SUMMARY:Women's Breakfast
DESCRIPTION:Register for Women’s breakfast at one of our two available times: Tuesday 9:30 a.m. or Wednesday 6 p.m. \nBoth fellowship times have the same teaching. Childcare available by reservation.
URL:https://christchurch.codestagingdevelopment.com/event/womens-breakfast-jan/
LOCATION:Fellowship Hall
CATEGORIES:Nursery,Adults,Women Only
ATTACH;FMTTYPE=image/jpeg:https://christchurch.codestagingdevelopment.com/wp-content/uploads/2024/12/Monthly-Women-960.jpg
ORGANIZER;CN="Marci Dittmer":MAILTO:marcid@ChristChurchPlano.org
END:VEVENT
BEGIN:VEVENT
DTSTART;TZID=America/Chicago:20250116T000000
DTEND;TZID=America/Chicago:20250116T013000
DTSTAMP:20260422T023608
CREATED:20250109T155956Z
LAST-MODIFIED:20250109T161058Z
UID:10001574-1736985600-1736991000@christchurch.codestagingdevelopment.com
SUMMARY:Women's Breakfast for Dinner
DESCRIPTION:Register for Women’s breakfast at one of our two available times: Tuesday 9:30 a.m. or Wednesday 6 p.m. \nBoth fellowship times have the same teaching. Childcare available by reservation.
URL:https://christchurch.codestagingdevelopment.com/event/womens-breakfast-for-dinner/
LOCATION:Adult Education Building
CATEGORIES:Nursery,Adults,Women Only
ATTACH;FMTTYPE=image/jpeg:https://christchurch.codestagingdevelopment.com/wp-content/uploads/2024/12/Monthly-Women-960.jpg
ORGANIZER;CN="Marci Dittmer":MAILTO:marcid@ChristChurchPlano.org
END:VEVENT
BEGIN:VEVENT
DTSTART;TZID=America/Chicago:20250116T000000
DTEND;TZID=America/Chicago:20250116T020000
DTSTAMP:20260422T023608
CREATED:20250109T152923Z
LAST-MODIFIED:20250109T155324Z
UID:10001313-1736985600-1736992800@christchurch.codestagingdevelopment.com
SUMMARY:Family Ministry Wednesdays
DESCRIPTION:
URL:https://christchurch.codestagingdevelopment.com/event/family-ministry-wednesdays/2025-01-15/
LOCATION:Archgate Center
CATEGORIES:High School,Sunday School,Middle School
END:VEVENT
BEGIN:VEVENT
DTSTART;TZID=America/Chicago:20250116T130000
DTEND;TZID=America/Chicago:20250116T140000
DTSTAMP:20260422T023608
CREATED:20241210T184530Z
LAST-MODIFIED:20250117T035102Z
UID:10000227-1737032400-1737036000@christchurch.codestagingdevelopment.com
SUMMARY:Men's Breakfast
DESCRIPTION:
URL:https://christchurch.codestagingdevelopment.com/event/mens-breakfast-jan/
LOCATION:Fellowship Hall
CATEGORIES:Adults,Men Only
ATTACH;FMTTYPE=image/jpeg:https://christchurch.codestagingdevelopment.com/wp-content/uploads/2024/12/Monthly-Men-960.jpg
ORGANIZER;CN="The Rev. Robert Kincaid":MAILTO:robertk@christchurchplano.org
END:VEVENT
BEGIN:VEVENT
DTSTART;TZID=America/Chicago:20250116T180000
DTEND;TZID=America/Chicago:20250116T200000
DTSTAMP:20260422T023608
CREATED:20241216T222818Z
LAST-MODIFIED:20250117T035228Z
UID:10000256-1737050400-1737057600@christchurch.codestagingdevelopment.com
SUMMARY:Primetimer's Luncheon
DESCRIPTION:
URL:https://christchurch.codestagingdevelopment.com/event/primetimers-luncheon-jan/
LOCATION:Fellowship Hall
CATEGORIES:Nursery,Adults,Primetimers
ATTACH;FMTTYPE=image/jpeg:https://christchurch.codestagingdevelopment.com/wp-content/uploads/2024/12/Monthly-Primetimers-960.jpg
ORGANIZER;CN="The Rev. Robert Kincaid":MAILTO:robertk@christchurchplano.org
END:VEVENT
END:VCALENDAR