BEGIN:VCALENDAR
VERSION:2.0
PRODID:-//Christ Church Plano - ECPv6.9.0//NONSGML v1.0//EN
CALSCALE:GREGORIAN
METHOD:PUBLISH
X-WR-CALNAME:Christ Church Plano
X-ORIGINAL-URL:https://christchurch.codestagingdevelopment.com
X-WR-CALDESC:Events for Christ Church Plano
REFRESH-INTERVAL;VALUE=DURATION:PT1H
X-Robots-Tag:noindex
X-PUBLISHED-TTL:PT1H
BEGIN:VTIMEZONE
TZID:America/Chicago
BEGIN:DAYLIGHT
TZOFFSETFROM:-0600
TZOFFSETTO:-0500
TZNAME:CDT
DTSTART:20250309T080000
END:DAYLIGHT
BEGIN:STANDARD
TZOFFSETFROM:-0500
TZOFFSETTO:-0600
TZNAME:CST
DTSTART:20251102T070000
END:STANDARD
END:VTIMEZONE
BEGIN:VEVENT
DTSTART;TZID=America/Chicago:20250928T140000
DTEND;TZID=America/Chicago:20250928T171500
DTSTAMP:20260420T013745
CREATED:20250109T192110Z
LAST-MODIFIED:20250114T203641Z
UID:10001936-1759068000-1759079700@christchurch.codestagingdevelopment.com
SUMMARY:Sanctuary Worship
DESCRIPTION:Christ Church celebrates the death and resurrection of our Lord and Savior Jesus Christ through participation in weekly worship and special services. \nLearn more about worship at Christ Church \nWatch recent sermons
URL:https://christchurch.codestagingdevelopment.com/event/sanctuary-worship-2/2025-09-28/
LOCATION:Sanctuary
CATEGORIES:Nursery,Worship
ATTACH;FMTTYPE=image/jpeg:https://christchurch.codestagingdevelopment.com/wp-content/uploads/2025/01/Interior-Sanctuary-960.jpg
END:VEVENT
BEGIN:VEVENT
DTSTART;TZID=America/Chicago:20250928T121500
DTEND;TZID=America/Chicago:20250928T131500
DTSTAMP:20260420T013745
CREATED:20250109T150557Z
LAST-MODIFIED:20250114T203721Z
UID:10001088-1759061700-1759065300@christchurch.codestagingdevelopment.com
SUMMARY:Chapel Worship
DESCRIPTION:Christ Church celebrates the death and resurrection of our Lord and Savior Jesus Christ through participation in weekly worship and special services. \nLearn more about worship at Christ Church \nWatch recent sermons
URL:https://christchurch.codestagingdevelopment.com/event/chapel-worship/2025-09-28/
LOCATION:Chapel
CATEGORIES:Nursery,Worship
ATTACH;FMTTYPE=image/jpeg:https://christchurch.codestagingdevelopment.com/wp-content/uploads/2025/01/Interior-Chapel-960.jpg
END:VEVENT
BEGIN:VEVENT
DTSTART;TZID=America/Chicago:20250924T230000
DTEND;TZID=America/Chicago:20250925T010000
DTSTAMP:20260420T013745
CREATED:20250109T152923Z
LAST-MODIFIED:20250109T155324Z
UID:10001349-1758754800-1758762000@christchurch.codestagingdevelopment.com
SUMMARY:Family Ministry Wednesdays
DESCRIPTION:
URL:https://christchurch.codestagingdevelopment.com/event/family-ministry-wednesdays/2025-09-24/
LOCATION:Archgate Center
CATEGORIES:High School,Sunday School,Middle School
END:VEVENT
BEGIN:VEVENT
DTSTART;TZID=America/Chicago:20250923T140000
DTEND;TZID=America/Chicago:20250923T143000
DTSTAMP:20260420T013745
CREATED:20250109T151802Z
LAST-MODIFIED:20250114T203748Z
UID:10000825-1758636000-1758637800@christchurch.codestagingdevelopment.com
SUMMARY:Tuesday Chapel
DESCRIPTION:Join us for a brief service of Morning Prayer and a gospel message. \nLearn more about worship at Christ Church \nWatch recent sermons
URL:https://christchurch.codestagingdevelopment.com/event/tuesday-chapel/2025-09-23/
LOCATION:Chapel
CATEGORIES:Worship
ATTACH;FMTTYPE=image/jpeg:https://christchurch.codestagingdevelopment.com/wp-content/uploads/2025/01/Interior-Chapel-960.jpg
END:VEVENT
BEGIN:VEVENT
DTSTART;TZID=America/Chicago:20250921T140000
DTEND;TZID=America/Chicago:20250921T171500
DTSTAMP:20260420T013745
CREATED:20250109T192110Z
LAST-MODIFIED:20250114T203641Z
UID:10001935-1758463200-1758474900@christchurch.codestagingdevelopment.com
SUMMARY:Sanctuary Worship
DESCRIPTION:Christ Church celebrates the death and resurrection of our Lord and Savior Jesus Christ through participation in weekly worship and special services. \nLearn more about worship at Christ Church \nWatch recent sermons
URL:https://christchurch.codestagingdevelopment.com/event/sanctuary-worship-2/2025-09-21/
LOCATION:Sanctuary
CATEGORIES:Nursery,Worship
ATTACH;FMTTYPE=image/jpeg:https://christchurch.codestagingdevelopment.com/wp-content/uploads/2025/01/Interior-Sanctuary-960.jpg
END:VEVENT
BEGIN:VEVENT
DTSTART;TZID=America/Chicago:20250921T121500
DTEND;TZID=America/Chicago:20250921T131500
DTSTAMP:20260420T013745
CREATED:20250109T150557Z
LAST-MODIFIED:20250114T203721Z
UID:10001087-1758456900-1758460500@christchurch.codestagingdevelopment.com
SUMMARY:Chapel Worship
DESCRIPTION:Christ Church celebrates the death and resurrection of our Lord and Savior Jesus Christ through participation in weekly worship and special services. \nLearn more about worship at Christ Church \nWatch recent sermons
URL:https://christchurch.codestagingdevelopment.com/event/chapel-worship/2025-09-21/
LOCATION:Chapel
CATEGORIES:Nursery,Worship
ATTACH;FMTTYPE=image/jpeg:https://christchurch.codestagingdevelopment.com/wp-content/uploads/2025/01/Interior-Chapel-960.jpg
END:VEVENT
BEGIN:VEVENT
DTSTART;TZID=America/Chicago:20250917T230000
DTEND;TZID=America/Chicago:20250918T010000
DTSTAMP:20260420T013745
CREATED:20250109T152923Z
LAST-MODIFIED:20250109T155324Z
UID:10001348-1758150000-1758157200@christchurch.codestagingdevelopment.com
SUMMARY:Family Ministry Wednesdays
DESCRIPTION:
URL:https://christchurch.codestagingdevelopment.com/event/family-ministry-wednesdays/2025-09-17/
LOCATION:Archgate Center
CATEGORIES:High School,Sunday School,Middle School
END:VEVENT
BEGIN:VEVENT
DTSTART;TZID=America/Chicago:20250916T140000
DTEND;TZID=America/Chicago:20250916T143000
DTSTAMP:20260420T013745
CREATED:20250109T151802Z
LAST-MODIFIED:20250114T203748Z
UID:10000824-1758031200-1758033000@christchurch.codestagingdevelopment.com
SUMMARY:Tuesday Chapel
DESCRIPTION:Join us for a brief service of Morning Prayer and a gospel message. \nLearn more about worship at Christ Church \nWatch recent sermons
URL:https://christchurch.codestagingdevelopment.com/event/tuesday-chapel/2025-09-16/
LOCATION:Chapel
CATEGORIES:Worship
ATTACH;FMTTYPE=image/jpeg:https://christchurch.codestagingdevelopment.com/wp-content/uploads/2025/01/Interior-Chapel-960.jpg
END:VEVENT
BEGIN:VEVENT
DTSTART;TZID=America/Chicago:20250914T140000
DTEND;TZID=America/Chicago:20250914T171500
DTSTAMP:20260420T013745
CREATED:20250109T192110Z
LAST-MODIFIED:20250114T203641Z
UID:10001934-1757858400-1757870100@christchurch.codestagingdevelopment.com
SUMMARY:Sanctuary Worship
DESCRIPTION:Christ Church celebrates the death and resurrection of our Lord and Savior Jesus Christ through participation in weekly worship and special services. \nLearn more about worship at Christ Church \nWatch recent sermons
URL:https://christchurch.codestagingdevelopment.com/event/sanctuary-worship-2/2025-09-14/
LOCATION:Sanctuary
CATEGORIES:Nursery,Worship
ATTACH;FMTTYPE=image/jpeg:https://christchurch.codestagingdevelopment.com/wp-content/uploads/2025/01/Interior-Sanctuary-960.jpg
END:VEVENT
BEGIN:VEVENT
DTSTART;TZID=America/Chicago:20250914T121500
DTEND;TZID=America/Chicago:20250914T131500
DTSTAMP:20260420T013745
CREATED:20250109T150557Z
LAST-MODIFIED:20250114T203721Z
UID:10001086-1757852100-1757855700@christchurch.codestagingdevelopment.com
SUMMARY:Chapel Worship
DESCRIPTION:Christ Church celebrates the death and resurrection of our Lord and Savior Jesus Christ through participation in weekly worship and special services. \nLearn more about worship at Christ Church \nWatch recent sermons
URL:https://christchurch.codestagingdevelopment.com/event/chapel-worship/2025-09-14/
LOCATION:Chapel
CATEGORIES:Nursery,Worship
ATTACH;FMTTYPE=image/jpeg:https://christchurch.codestagingdevelopment.com/wp-content/uploads/2025/01/Interior-Chapel-960.jpg
END:VEVENT
BEGIN:VEVENT
DTSTART;TZID=America/Chicago:20250910T230000
DTEND;TZID=America/Chicago:20250911T010000
DTSTAMP:20260420T013745
CREATED:20250109T152923Z
LAST-MODIFIED:20250109T155324Z
UID:10001347-1757545200-1757552400@christchurch.codestagingdevelopment.com
SUMMARY:Family Ministry Wednesdays
DESCRIPTION:
URL:https://christchurch.codestagingdevelopment.com/event/family-ministry-wednesdays/2025-09-10/
LOCATION:Archgate Center
CATEGORIES:High School,Sunday School,Middle School
END:VEVENT
BEGIN:VEVENT
DTSTART;TZID=America/Chicago:20250909T140000
DTEND;TZID=America/Chicago:20250909T143000
DTSTAMP:20260420T013745
CREATED:20250109T151802Z
LAST-MODIFIED:20250114T203748Z
UID:10000823-1757426400-1757428200@christchurch.codestagingdevelopment.com
SUMMARY:Tuesday Chapel
DESCRIPTION:Join us for a brief service of Morning Prayer and a gospel message. \nLearn more about worship at Christ Church \nWatch recent sermons
URL:https://christchurch.codestagingdevelopment.com/event/tuesday-chapel/2025-09-09/
LOCATION:Chapel
CATEGORIES:Worship
ATTACH;FMTTYPE=image/jpeg:https://christchurch.codestagingdevelopment.com/wp-content/uploads/2025/01/Interior-Chapel-960.jpg
END:VEVENT
BEGIN:VEVENT
DTSTART;TZID=America/Chicago:20250907T140000
DTEND;TZID=America/Chicago:20250907T171500
DTSTAMP:20260420T013745
CREATED:20250109T192110Z
LAST-MODIFIED:20250114T203641Z
UID:10001933-1757253600-1757265300@christchurch.codestagingdevelopment.com
SUMMARY:Sanctuary Worship
DESCRIPTION:Christ Church celebrates the death and resurrection of our Lord and Savior Jesus Christ through participation in weekly worship and special services. \nLearn more about worship at Christ Church \nWatch recent sermons
URL:https://christchurch.codestagingdevelopment.com/event/sanctuary-worship-2/2025-09-07/
LOCATION:Sanctuary
CATEGORIES:Nursery,Worship
ATTACH;FMTTYPE=image/jpeg:https://christchurch.codestagingdevelopment.com/wp-content/uploads/2025/01/Interior-Sanctuary-960.jpg
END:VEVENT
BEGIN:VEVENT
DTSTART;TZID=America/Chicago:20250907T121500
DTEND;TZID=America/Chicago:20250907T131500
DTSTAMP:20260420T013745
CREATED:20250109T150557Z
LAST-MODIFIED:20250114T203721Z
UID:10001085-1757247300-1757250900@christchurch.codestagingdevelopment.com
SUMMARY:Chapel Worship
DESCRIPTION:Christ Church celebrates the death and resurrection of our Lord and Savior Jesus Christ through participation in weekly worship and special services. \nLearn more about worship at Christ Church \nWatch recent sermons
URL:https://christchurch.codestagingdevelopment.com/event/chapel-worship/2025-09-07/
LOCATION:Chapel
CATEGORIES:Nursery,Worship
ATTACH;FMTTYPE=image/jpeg:https://christchurch.codestagingdevelopment.com/wp-content/uploads/2025/01/Interior-Chapel-960.jpg
END:VEVENT
BEGIN:VEVENT
DTSTART;TZID=America/Chicago:20250903T230000
DTEND;TZID=America/Chicago:20250904T010000
DTSTAMP:20260420T013745
CREATED:20250109T152923Z
LAST-MODIFIED:20250109T155324Z
UID:10001346-1756940400-1756947600@christchurch.codestagingdevelopment.com
SUMMARY:Family Ministry Wednesdays
DESCRIPTION:
URL:https://christchurch.codestagingdevelopment.com/event/family-ministry-wednesdays/2025-09-03/
LOCATION:Archgate Center
CATEGORIES:High School,Sunday School,Middle School
END:VEVENT
BEGIN:VEVENT
DTSTART;TZID=America/Chicago:20250902T140000
DTEND;TZID=America/Chicago:20250902T143000
DTSTAMP:20260420T013745
CREATED:20250109T151802Z
LAST-MODIFIED:20250114T203748Z
UID:10000822-1756821600-1756823400@christchurch.codestagingdevelopment.com
SUMMARY:Tuesday Chapel
DESCRIPTION:Join us for a brief service of Morning Prayer and a gospel message. \nLearn more about worship at Christ Church \nWatch recent sermons
URL:https://christchurch.codestagingdevelopment.com/event/tuesday-chapel/2025-09-02/
LOCATION:Chapel
CATEGORIES:Worship
ATTACH;FMTTYPE=image/jpeg:https://christchurch.codestagingdevelopment.com/wp-content/uploads/2025/01/Interior-Chapel-960.jpg
END:VEVENT
BEGIN:VEVENT
DTSTART;TZID=America/Chicago:20250831T140000
DTEND;TZID=America/Chicago:20250831T171500
DTSTAMP:20260420T013745
CREATED:20250109T192110Z
LAST-MODIFIED:20250114T203641Z
UID:10001932-1756648800-1756660500@christchurch.codestagingdevelopment.com
SUMMARY:Sanctuary Worship
DESCRIPTION:Christ Church celebrates the death and resurrection of our Lord and Savior Jesus Christ through participation in weekly worship and special services. \nLearn more about worship at Christ Church \nWatch recent sermons
URL:https://christchurch.codestagingdevelopment.com/event/sanctuary-worship-2/2025-08-31/
LOCATION:Sanctuary
CATEGORIES:Nursery,Worship
ATTACH;FMTTYPE=image/jpeg:https://christchurch.codestagingdevelopment.com/wp-content/uploads/2025/01/Interior-Sanctuary-960.jpg
END:VEVENT
BEGIN:VEVENT
DTSTART;TZID=America/Chicago:20250831T121500
DTEND;TZID=America/Chicago:20250831T131500
DTSTAMP:20260420T013745
CREATED:20250109T150557Z
LAST-MODIFIED:20250114T203721Z
UID:10001084-1756642500-1756646100@christchurch.codestagingdevelopment.com
SUMMARY:Chapel Worship
DESCRIPTION:Christ Church celebrates the death and resurrection of our Lord and Savior Jesus Christ through participation in weekly worship and special services. \nLearn more about worship at Christ Church \nWatch recent sermons
URL:https://christchurch.codestagingdevelopment.com/event/chapel-worship/2025-08-31/
LOCATION:Chapel
CATEGORIES:Nursery,Worship
ATTACH;FMTTYPE=image/jpeg:https://christchurch.codestagingdevelopment.com/wp-content/uploads/2025/01/Interior-Chapel-960.jpg
END:VEVENT
BEGIN:VEVENT
DTSTART;TZID=America/Chicago:20250827T230000
DTEND;TZID=America/Chicago:20250828T010000
DTSTAMP:20260420T013745
CREATED:20250109T152923Z
LAST-MODIFIED:20250109T155324Z
UID:10001345-1756335600-1756342800@christchurch.codestagingdevelopment.com
SUMMARY:Family Ministry Wednesdays
DESCRIPTION:
URL:https://christchurch.codestagingdevelopment.com/event/family-ministry-wednesdays/2025-08-27/
LOCATION:Archgate Center
CATEGORIES:High School,Sunday School,Middle School
END:VEVENT
BEGIN:VEVENT
DTSTART;TZID=America/Chicago:20250826T140000
DTEND;TZID=America/Chicago:20250826T143000
DTSTAMP:20260420T013745
CREATED:20250109T151802Z
LAST-MODIFIED:20250114T203748Z
UID:10000821-1756216800-1756218600@christchurch.codestagingdevelopment.com
SUMMARY:Tuesday Chapel
DESCRIPTION:Join us for a brief service of Morning Prayer and a gospel message. \nLearn more about worship at Christ Church \nWatch recent sermons
URL:https://christchurch.codestagingdevelopment.com/event/tuesday-chapel/2025-08-26/
LOCATION:Chapel
CATEGORIES:Worship
ATTACH;FMTTYPE=image/jpeg:https://christchurch.codestagingdevelopment.com/wp-content/uploads/2025/01/Interior-Chapel-960.jpg
END:VEVENT
BEGIN:VEVENT
DTSTART;TZID=America/Chicago:20250824T140000
DTEND;TZID=America/Chicago:20250824T171500
DTSTAMP:20260420T013745
CREATED:20250109T192110Z
LAST-MODIFIED:20250114T203641Z
UID:10001931-1756044000-1756055700@christchurch.codestagingdevelopment.com
SUMMARY:Sanctuary Worship
DESCRIPTION:Christ Church celebrates the death and resurrection of our Lord and Savior Jesus Christ through participation in weekly worship and special services. \nLearn more about worship at Christ Church \nWatch recent sermons
URL:https://christchurch.codestagingdevelopment.com/event/sanctuary-worship-2/2025-08-24/
LOCATION:Sanctuary
CATEGORIES:Nursery,Worship
ATTACH;FMTTYPE=image/jpeg:https://christchurch.codestagingdevelopment.com/wp-content/uploads/2025/01/Interior-Sanctuary-960.jpg
END:VEVENT
BEGIN:VEVENT
DTSTART;TZID=America/Chicago:20250824T121500
DTEND;TZID=America/Chicago:20250824T131500
DTSTAMP:20260420T013745
CREATED:20250109T150557Z
LAST-MODIFIED:20250114T203721Z
UID:10001083-1756037700-1756041300@christchurch.codestagingdevelopment.com
SUMMARY:Chapel Worship
DESCRIPTION:Christ Church celebrates the death and resurrection of our Lord and Savior Jesus Christ through participation in weekly worship and special services. \nLearn more about worship at Christ Church \nWatch recent sermons
URL:https://christchurch.codestagingdevelopment.com/event/chapel-worship/2025-08-24/
LOCATION:Chapel
CATEGORIES:Nursery,Worship
ATTACH;FMTTYPE=image/jpeg:https://christchurch.codestagingdevelopment.com/wp-content/uploads/2025/01/Interior-Chapel-960.jpg
END:VEVENT
BEGIN:VEVENT
DTSTART;TZID=America/Chicago:20250820T230000
DTEND;TZID=America/Chicago:20250821T010000
DTSTAMP:20260420T013745
CREATED:20250109T152923Z
LAST-MODIFIED:20250109T155324Z
UID:10001344-1755730800-1755738000@christchurch.codestagingdevelopment.com
SUMMARY:Family Ministry Wednesdays
DESCRIPTION:
URL:https://christchurch.codestagingdevelopment.com/event/family-ministry-wednesdays/2025-08-20/
LOCATION:Archgate Center
CATEGORIES:High School,Sunday School,Middle School
END:VEVENT
BEGIN:VEVENT
DTSTART;TZID=America/Chicago:20250819T140000
DTEND;TZID=America/Chicago:20250819T143000
DTSTAMP:20260420T013745
CREATED:20250109T151802Z
LAST-MODIFIED:20250114T203748Z
UID:10000820-1755612000-1755613800@christchurch.codestagingdevelopment.com
SUMMARY:Tuesday Chapel
DESCRIPTION:Join us for a brief service of Morning Prayer and a gospel message. \nLearn more about worship at Christ Church \nWatch recent sermons
URL:https://christchurch.codestagingdevelopment.com/event/tuesday-chapel/2025-08-19/
LOCATION:Chapel
CATEGORIES:Worship
ATTACH;FMTTYPE=image/jpeg:https://christchurch.codestagingdevelopment.com/wp-content/uploads/2025/01/Interior-Chapel-960.jpg
END:VEVENT
BEGIN:VEVENT
DTSTART;TZID=America/Chicago:20250817T140000
DTEND;TZID=America/Chicago:20250817T171500
DTSTAMP:20260420T013745
CREATED:20250109T192110Z
LAST-MODIFIED:20250114T203641Z
UID:10001930-1755439200-1755450900@christchurch.codestagingdevelopment.com
SUMMARY:Sanctuary Worship
DESCRIPTION:Christ Church celebrates the death and resurrection of our Lord and Savior Jesus Christ through participation in weekly worship and special services. \nLearn more about worship at Christ Church \nWatch recent sermons
URL:https://christchurch.codestagingdevelopment.com/event/sanctuary-worship-2/2025-08-17/
LOCATION:Sanctuary
CATEGORIES:Nursery,Worship
ATTACH;FMTTYPE=image/jpeg:https://christchurch.codestagingdevelopment.com/wp-content/uploads/2025/01/Interior-Sanctuary-960.jpg
END:VEVENT
BEGIN:VEVENT
DTSTART;TZID=America/Chicago:20250817T121500
DTEND;TZID=America/Chicago:20250817T131500
DTSTAMP:20260420T013746
CREATED:20250109T150557Z
LAST-MODIFIED:20250114T203721Z
UID:10001082-1755432900-1755436500@christchurch.codestagingdevelopment.com
SUMMARY:Chapel Worship
DESCRIPTION:Christ Church celebrates the death and resurrection of our Lord and Savior Jesus Christ through participation in weekly worship and special services. \nLearn more about worship at Christ Church \nWatch recent sermons
URL:https://christchurch.codestagingdevelopment.com/event/chapel-worship/2025-08-17/
LOCATION:Chapel
CATEGORIES:Nursery,Worship
ATTACH;FMTTYPE=image/jpeg:https://christchurch.codestagingdevelopment.com/wp-content/uploads/2025/01/Interior-Chapel-960.jpg
END:VEVENT
BEGIN:VEVENT
DTSTART;TZID=America/Chicago:20250813T230000
DTEND;TZID=America/Chicago:20250814T010000
DTSTAMP:20260420T013746
CREATED:20250109T152923Z
LAST-MODIFIED:20250109T155324Z
UID:10001343-1755126000-1755133200@christchurch.codestagingdevelopment.com
SUMMARY:Family Ministry Wednesdays
DESCRIPTION:
URL:https://christchurch.codestagingdevelopment.com/event/family-ministry-wednesdays/2025-08-13/
LOCATION:Archgate Center
CATEGORIES:High School,Sunday School,Middle School
END:VEVENT
BEGIN:VEVENT
DTSTART;TZID=America/Chicago:20250812T140000
DTEND;TZID=America/Chicago:20250812T143000
DTSTAMP:20260420T013746
CREATED:20250109T151802Z
LAST-MODIFIED:20250114T203748Z
UID:10000819-1755007200-1755009000@christchurch.codestagingdevelopment.com
SUMMARY:Tuesday Chapel
DESCRIPTION:Join us for a brief service of Morning Prayer and a gospel message. \nLearn more about worship at Christ Church \nWatch recent sermons
URL:https://christchurch.codestagingdevelopment.com/event/tuesday-chapel/2025-08-12/
LOCATION:Chapel
CATEGORIES:Worship
ATTACH;FMTTYPE=image/jpeg:https://christchurch.codestagingdevelopment.com/wp-content/uploads/2025/01/Interior-Chapel-960.jpg
END:VEVENT
BEGIN:VEVENT
DTSTART;TZID=America/Chicago:20250810T140000
DTEND;TZID=America/Chicago:20250810T171500
DTSTAMP:20260420T013746
CREATED:20250109T192110Z
LAST-MODIFIED:20250114T203641Z
UID:10001929-1754834400-1754846100@christchurch.codestagingdevelopment.com
SUMMARY:Sanctuary Worship
DESCRIPTION:Christ Church celebrates the death and resurrection of our Lord and Savior Jesus Christ through participation in weekly worship and special services. \nLearn more about worship at Christ Church \nWatch recent sermons
URL:https://christchurch.codestagingdevelopment.com/event/sanctuary-worship-2/2025-08-10/
LOCATION:Sanctuary
CATEGORIES:Nursery,Worship
ATTACH;FMTTYPE=image/jpeg:https://christchurch.codestagingdevelopment.com/wp-content/uploads/2025/01/Interior-Sanctuary-960.jpg
END:VEVENT
BEGIN:VEVENT
DTSTART;TZID=America/Chicago:20250810T121500
DTEND;TZID=America/Chicago:20250810T131500
DTSTAMP:20260420T013746
CREATED:20250109T150557Z
LAST-MODIFIED:20250114T203721Z
UID:10001081-1754828100-1754831700@christchurch.codestagingdevelopment.com
SUMMARY:Chapel Worship
DESCRIPTION:Christ Church celebrates the death and resurrection of our Lord and Savior Jesus Christ through participation in weekly worship and special services. \nLearn more about worship at Christ Church \nWatch recent sermons
URL:https://christchurch.codestagingdevelopment.com/event/chapel-worship/2025-08-10/
LOCATION:Chapel
CATEGORIES:Nursery,Worship
ATTACH;FMTTYPE=image/jpeg:https://christchurch.codestagingdevelopment.com/wp-content/uploads/2025/01/Interior-Chapel-960.jpg
END:VEVENT
END:VCALENDAR