BEGIN:VCALENDAR
VERSION:2.0
PRODID:-//Christ Church Plano - ECPv6.9.0//NONSGML v1.0//EN
CALSCALE:GREGORIAN
METHOD:PUBLISH
X-ORIGINAL-URL:https://christchurch.codestagingdevelopment.com
X-WR-CALDESC:Events for Christ Church Plano
REFRESH-INTERVAL;VALUE=DURATION:PT1H
X-Robots-Tag:noindex
X-PUBLISHED-TTL:PT1H
BEGIN:VTIMEZONE
TZID:America/Chicago
BEGIN:DAYLIGHT
TZOFFSETFROM:-0600
TZOFFSETTO:-0500
TZNAME:CDT
DTSTART:20250309T080000
END:DAYLIGHT
BEGIN:STANDARD
TZOFFSETFROM:-0500
TZOFFSETTO:-0600
TZNAME:CST
DTSTART:20251102T070000
END:STANDARD
END:VTIMEZONE
BEGIN:VEVENT
DTSTART;TZID=America/Chicago:20250304T003000
DTEND;TZID=America/Chicago:20250304T020000
DTSTAMP:20260420T003235
CREATED:20250117T035428Z
LAST-MODIFIED:20250117T180844Z
UID:10002184-1741048200-1741053600@christchurch.codestagingdevelopment.com
SUMMARY:Reading with the Saints
DESCRIPTION:“None of us can fully escape the blindness of our age\, but we shall certainly increase it\, and weaken our guard against it\, if we read only modern books. Where they are true they will give us truths which we half knew already. Where they are false they will aggravate the error with which we are already dangerously ill. The only palliative is to keep the clean sea breeze of the centuries blowing through our minds\, and this can be done only by reading old books.” —C.S. Lewis \nAs Christians\, we have great reason to devote ourselves to the great books of the past. For in the great works of Christian history\, we find not only a corrective to our own errors\, but also a rich source of wisdom from those whose minds have been sanctified and transformed by the Holy Spirit. Reading old books is helpful. Reading the great books of the Christian tradition is vital. \nReading with the Saints is an opportunity to read some of the greatest and most influential books in Christian history\, one selection per month\, then discuss the profound and enduring questions posed by each text. What is the gospel? Who is Jesus Christ? What does it mean to follow him? How should the church relate to surrounding cultures? And what is distinctive about the Christian way of life? \n\nRegister below to join the group. Meetings are on Mondays monthly\, from 6:30 to 8:00 p.m. and will include time for teaching\, discussion\, and prayer.\nParticipants are asked\, if at all possible\, to read the assigned text prior to the meeting. PDF copies are available for download on this page and\, alternatively\, can be purchased from the Bookstore.\nChildcare is available by reservation.
URL:https://christchurch.codestagingdevelopment.com/event/reading-with-the-saints-2/
LOCATION:Fellowship Hall
CATEGORIES:High School,Nursery,Adults
ATTACH;FMTTYPE=image/jpeg:https://christchurch.codestagingdevelopment.com/wp-content/uploads/2024/12/Monthly-Saints-960.jpg
END:VEVENT
BEGIN:VEVENT
DTSTART;TZID=America/Chicago:20250304T150000
DTEND;TZID=America/Chicago:20250304T153000
DTSTAMP:20260420T003235
CREATED:20250109T151802Z
LAST-MODIFIED:20250114T203748Z
UID:10000796-1741100400-1741102200@christchurch.codestagingdevelopment.com
SUMMARY:Tuesday Chapel
DESCRIPTION:Join us for a brief service of Morning Prayer and a gospel message. \nLearn more about worship at Christ Church \nWatch recent sermons
URL:https://christchurch.codestagingdevelopment.com/event/tuesday-chapel/2025-03-04/
LOCATION:Chapel
CATEGORIES:Worship
ATTACH;FMTTYPE=image/jpeg:https://christchurch.codestagingdevelopment.com/wp-content/uploads/2025/01/Interior-Chapel-960.jpg
END:VEVENT
BEGIN:VEVENT
DTSTART;TZID=America/Chicago:20250305T130000
DTEND;TZID=America/Chicago:20250306T010000
DTSTAMP:20260420T003235
CREATED:20250109T151038Z
LAST-MODIFIED:20250117T180839Z
UID:10000787-1741179600-1741222800@christchurch.codestagingdevelopment.com
SUMMARY:Ash Wednesday Services
DESCRIPTION:About Lent\nJoin us in repentance and self-examination as we walk towards Easter and the Cross. \nIn the liturgy for Ash Wednesday\, the Book of Common Prayer invites Christians to an annual “observance of a holy Lent: by self-examination and repentance.” Self-examination may prompt some difficult questions and issues. \nIf you need further guidance or encouragement this Lent\, we encourage you to reach out to a member of our clergy. We are here to help.
URL:https://christchurch.codestagingdevelopment.com/event/ash-wednesday-services/
LOCATION:Sanctuary
CATEGORIES:Worship
END:VEVENT
BEGIN:VEVENT
DTSTART;TZID=America/Chicago:20250306T000000
DTEND;TZID=America/Chicago:20250306T020000
DTSTAMP:20260420T003235
CREATED:20250109T152923Z
LAST-MODIFIED:20250109T155324Z
UID:10001320-1741219200-1741226400@christchurch.codestagingdevelopment.com
SUMMARY:Family Ministry Wednesdays
DESCRIPTION:
URL:https://christchurch.codestagingdevelopment.com/event/family-ministry-wednesdays/2025-03-05/
LOCATION:Archgate Center
CATEGORIES:High School,Sunday School,Middle School
END:VEVENT
BEGIN:VEVENT
DTSTART;TZID=America/Chicago:20250306T150000
DTEND;TZID=America/Chicago:20250306T153000
DTSTAMP:20260420T003235
CREATED:20250109T173234Z
LAST-MODIFIED:20250117T180831Z
UID:10001611-1741273200-1741275000@christchurch.codestagingdevelopment.com
SUMMARY:Lenten Morning Prayer
DESCRIPTION:
URL:https://christchurch.codestagingdevelopment.com/event/lenten-morning-prayer/2025-03-06/
LOCATION:Chapel
CATEGORIES:Adults,Worship
ATTACH;FMTTYPE=image/webp:https://christchurch.codestagingdevelopment.com/wp-content/uploads/2024/12/chapel-interior-1024.webp
END:VEVENT
BEGIN:VEVENT
DTSTART;TZID=America/Chicago:20250309T121500
DTEND;TZID=America/Chicago:20250309T131500
DTSTAMP:20260420T003235
CREATED:20250109T150557Z
LAST-MODIFIED:20250114T203721Z
UID:10001059-1741522500-1741526100@christchurch.codestagingdevelopment.com
SUMMARY:Chapel Worship
DESCRIPTION:Christ Church celebrates the death and resurrection of our Lord and Savior Jesus Christ through participation in weekly worship and special services. \nLearn more about worship at Christ Church \nWatch recent sermons
URL:https://christchurch.codestagingdevelopment.com/event/chapel-worship/2025-03-09/
LOCATION:Chapel
CATEGORIES:Nursery,Worship
ATTACH;FMTTYPE=image/jpeg:https://christchurch.codestagingdevelopment.com/wp-content/uploads/2025/01/Interior-Chapel-960.jpg
END:VEVENT
BEGIN:VEVENT
DTSTART;TZID=America/Chicago:20250309T140000
DTEND;TZID=America/Chicago:20250309T171500
DTSTAMP:20260420T003235
CREATED:20250109T192110Z
LAST-MODIFIED:20250114T203641Z
UID:10001907-1741528800-1741540500@christchurch.codestagingdevelopment.com
SUMMARY:Sanctuary Worship
DESCRIPTION:Christ Church celebrates the death and resurrection of our Lord and Savior Jesus Christ through participation in weekly worship and special services. \nLearn more about worship at Christ Church \nWatch recent sermons
URL:https://christchurch.codestagingdevelopment.com/event/sanctuary-worship-2/2025-03-09/
LOCATION:Sanctuary
CATEGORIES:Nursery,Worship
ATTACH;FMTTYPE=image/jpeg:https://christchurch.codestagingdevelopment.com/wp-content/uploads/2025/01/Interior-Sanctuary-960.jpg
END:VEVENT
BEGIN:VEVENT
DTSTART;TZID=America/Chicago:20250310T140000
DTEND;TZID=America/Chicago:20250310T143000
DTSTAMP:20260420T003235
CREATED:20250109T173234Z
LAST-MODIFIED:20250117T180831Z
UID:10001612-1741615200-1741617000@christchurch.codestagingdevelopment.com
SUMMARY:Lenten Morning Prayer
DESCRIPTION:
URL:https://christchurch.codestagingdevelopment.com/event/lenten-morning-prayer/2025-03-10/
LOCATION:Chapel
CATEGORIES:Adults,Worship
ATTACH;FMTTYPE=image/webp:https://christchurch.codestagingdevelopment.com/wp-content/uploads/2024/12/chapel-interior-1024.webp
END:VEVENT
BEGIN:VEVENT
DTSTART;TZID=America/Chicago:20250311T140000
DTEND;TZID=America/Chicago:20250311T143000
DTSTAMP:20260420T003235
CREATED:20250109T173234Z
LAST-MODIFIED:20250117T180831Z
UID:10001613-1741701600-1741703400@christchurch.codestagingdevelopment.com
SUMMARY:Lenten Morning Prayer
DESCRIPTION:
URL:https://christchurch.codestagingdevelopment.com/event/lenten-morning-prayer/2025-03-11/
LOCATION:Chapel
CATEGORIES:Adults,Worship
ATTACH;FMTTYPE=image/webp:https://christchurch.codestagingdevelopment.com/wp-content/uploads/2024/12/chapel-interior-1024.webp
END:VEVENT
BEGIN:VEVENT
DTSTART;TZID=America/Chicago:20250312T140000
DTEND;TZID=America/Chicago:20250312T143000
DTSTAMP:20260420T003235
CREATED:20250109T173234Z
LAST-MODIFIED:20250117T180831Z
UID:10001614-1741788000-1741789800@christchurch.codestagingdevelopment.com
SUMMARY:Lenten Morning Prayer
DESCRIPTION:
URL:https://christchurch.codestagingdevelopment.com/event/lenten-morning-prayer/2025-03-12/
LOCATION:Chapel
CATEGORIES:Adults,Worship
ATTACH;FMTTYPE=image/webp:https://christchurch.codestagingdevelopment.com/wp-content/uploads/2024/12/chapel-interior-1024.webp
END:VEVENT
BEGIN:VEVENT
DTSTART;TZID=America/Chicago:20250312T230000
DTEND;TZID=America/Chicago:20250313T010000
DTSTAMP:20260420T003235
CREATED:20250109T152923Z
LAST-MODIFIED:20250109T155324Z
UID:10001321-1741820400-1741827600@christchurch.codestagingdevelopment.com
SUMMARY:Family Ministry Wednesdays
DESCRIPTION:
URL:https://christchurch.codestagingdevelopment.com/event/family-ministry-wednesdays/2025-03-12/
LOCATION:Archgate Center
CATEGORIES:High School,Sunday School,Middle School
END:VEVENT
BEGIN:VEVENT
DTSTART;TZID=America/Chicago:20250313T140000
DTEND;TZID=America/Chicago:20250313T143000
DTSTAMP:20260420T003235
CREATED:20250109T173234Z
LAST-MODIFIED:20250117T180831Z
UID:10001615-1741874400-1741876200@christchurch.codestagingdevelopment.com
SUMMARY:Lenten Morning Prayer
DESCRIPTION:
URL:https://christchurch.codestagingdevelopment.com/event/lenten-morning-prayer/2025-03-13/
LOCATION:Chapel
CATEGORIES:Adults,Worship
ATTACH;FMTTYPE=image/webp:https://christchurch.codestagingdevelopment.com/wp-content/uploads/2024/12/chapel-interior-1024.webp
END:VEVENT
BEGIN:VEVENT
DTSTART;TZID=America/Chicago:20250316T121500
DTEND;TZID=America/Chicago:20250316T131500
DTSTAMP:20260420T003235
CREATED:20250109T150557Z
LAST-MODIFIED:20250114T203721Z
UID:10001060-1742127300-1742130900@christchurch.codestagingdevelopment.com
SUMMARY:Chapel Worship
DESCRIPTION:Christ Church celebrates the death and resurrection of our Lord and Savior Jesus Christ through participation in weekly worship and special services. \nLearn more about worship at Christ Church \nWatch recent sermons
URL:https://christchurch.codestagingdevelopment.com/event/chapel-worship/2025-03-16/
LOCATION:Chapel
CATEGORIES:Nursery,Worship
ATTACH;FMTTYPE=image/jpeg:https://christchurch.codestagingdevelopment.com/wp-content/uploads/2025/01/Interior-Chapel-960.jpg
END:VEVENT
BEGIN:VEVENT
DTSTART;TZID=America/Chicago:20250316T140000
DTEND;TZID=America/Chicago:20250316T171500
DTSTAMP:20260420T003235
CREATED:20250109T192110Z
LAST-MODIFIED:20250114T203641Z
UID:10001908-1742133600-1742145300@christchurch.codestagingdevelopment.com
SUMMARY:Sanctuary Worship
DESCRIPTION:Christ Church celebrates the death and resurrection of our Lord and Savior Jesus Christ through participation in weekly worship and special services. \nLearn more about worship at Christ Church \nWatch recent sermons
URL:https://christchurch.codestagingdevelopment.com/event/sanctuary-worship-2/2025-03-16/
LOCATION:Sanctuary
CATEGORIES:Nursery,Worship
ATTACH;FMTTYPE=image/jpeg:https://christchurch.codestagingdevelopment.com/wp-content/uploads/2025/01/Interior-Sanctuary-960.jpg
END:VEVENT
BEGIN:VEVENT
DTSTART;TZID=America/Chicago:20250317T140000
DTEND;TZID=America/Chicago:20250317T143000
DTSTAMP:20260420T003235
CREATED:20250109T173234Z
LAST-MODIFIED:20250117T180831Z
UID:10001616-1742220000-1742221800@christchurch.codestagingdevelopment.com
SUMMARY:Lenten Morning Prayer
DESCRIPTION:
URL:https://christchurch.codestagingdevelopment.com/event/lenten-morning-prayer/2025-03-17/
LOCATION:Chapel
CATEGORIES:Adults,Worship
ATTACH;FMTTYPE=image/webp:https://christchurch.codestagingdevelopment.com/wp-content/uploads/2024/12/chapel-interior-1024.webp
END:VEVENT
BEGIN:VEVENT
DTSTART;TZID=America/Chicago:20250318T140000
DTEND;TZID=America/Chicago:20250318T143000
DTSTAMP:20260420T003235
CREATED:20250109T173234Z
LAST-MODIFIED:20250117T180831Z
UID:10001617-1742306400-1742308200@christchurch.codestagingdevelopment.com
SUMMARY:Lenten Morning Prayer
DESCRIPTION:
URL:https://christchurch.codestagingdevelopment.com/event/lenten-morning-prayer/2025-03-18/
LOCATION:Chapel
CATEGORIES:Adults,Worship
ATTACH;FMTTYPE=image/webp:https://christchurch.codestagingdevelopment.com/wp-content/uploads/2024/12/chapel-interior-1024.webp
END:VEVENT
BEGIN:VEVENT
DTSTART;TZID=America/Chicago:20250319T140000
DTEND;TZID=America/Chicago:20250319T143000
DTSTAMP:20260420T003235
CREATED:20250109T173234Z
LAST-MODIFIED:20250117T180831Z
UID:10001618-1742392800-1742394600@christchurch.codestagingdevelopment.com
SUMMARY:Lenten Morning Prayer
DESCRIPTION:
URL:https://christchurch.codestagingdevelopment.com/event/lenten-morning-prayer/2025-03-19/
LOCATION:Chapel
CATEGORIES:Adults,Worship
ATTACH;FMTTYPE=image/webp:https://christchurch.codestagingdevelopment.com/wp-content/uploads/2024/12/chapel-interior-1024.webp
END:VEVENT
BEGIN:VEVENT
DTSTART;TZID=America/Chicago:20250319T230000
DTEND;TZID=America/Chicago:20250320T010000
DTSTAMP:20260420T003235
CREATED:20250109T152923Z
LAST-MODIFIED:20250109T155324Z
UID:10001322-1742425200-1742432400@christchurch.codestagingdevelopment.com
SUMMARY:Family Ministry Wednesdays
DESCRIPTION:
URL:https://christchurch.codestagingdevelopment.com/event/family-ministry-wednesdays/2025-03-19/
LOCATION:Archgate Center
CATEGORIES:High School,Sunday School,Middle School
END:VEVENT
BEGIN:VEVENT
DTSTART;TZID=America/Chicago:20250320T140000
DTEND;TZID=America/Chicago:20250320T143000
DTSTAMP:20260420T003235
CREATED:20250109T173234Z
LAST-MODIFIED:20250117T180831Z
UID:10001619-1742479200-1742481000@christchurch.codestagingdevelopment.com
SUMMARY:Lenten Morning Prayer
DESCRIPTION:
URL:https://christchurch.codestagingdevelopment.com/event/lenten-morning-prayer/2025-03-20/
LOCATION:Chapel
CATEGORIES:Adults,Worship
ATTACH;FMTTYPE=image/webp:https://christchurch.codestagingdevelopment.com/wp-content/uploads/2024/12/chapel-interior-1024.webp
END:VEVENT
BEGIN:VEVENT
DTSTART;TZID=America/Chicago:20250323T121500
DTEND;TZID=America/Chicago:20250323T131500
DTSTAMP:20260420T003235
CREATED:20250109T150557Z
LAST-MODIFIED:20250114T203721Z
UID:10001061-1742732100-1742735700@christchurch.codestagingdevelopment.com
SUMMARY:Chapel Worship
DESCRIPTION:Christ Church celebrates the death and resurrection of our Lord and Savior Jesus Christ through participation in weekly worship and special services. \nLearn more about worship at Christ Church \nWatch recent sermons
URL:https://christchurch.codestagingdevelopment.com/event/chapel-worship/2025-03-23/
LOCATION:Chapel
CATEGORIES:Nursery,Worship
ATTACH;FMTTYPE=image/jpeg:https://christchurch.codestagingdevelopment.com/wp-content/uploads/2025/01/Interior-Chapel-960.jpg
END:VEVENT
BEGIN:VEVENT
DTSTART;TZID=America/Chicago:20250323T140000
DTEND;TZID=America/Chicago:20250323T171500
DTSTAMP:20260420T003235
CREATED:20250109T192110Z
LAST-MODIFIED:20250114T203641Z
UID:10001909-1742738400-1742750100@christchurch.codestagingdevelopment.com
SUMMARY:Sanctuary Worship
DESCRIPTION:Christ Church celebrates the death and resurrection of our Lord and Savior Jesus Christ through participation in weekly worship and special services. \nLearn more about worship at Christ Church \nWatch recent sermons
URL:https://christchurch.codestagingdevelopment.com/event/sanctuary-worship-2/2025-03-23/
LOCATION:Sanctuary
CATEGORIES:Nursery,Worship
ATTACH;FMTTYPE=image/jpeg:https://christchurch.codestagingdevelopment.com/wp-content/uploads/2025/01/Interior-Sanctuary-960.jpg
END:VEVENT
BEGIN:VEVENT
DTSTART;TZID=America/Chicago:20250324T140000
DTEND;TZID=America/Chicago:20250324T143000
DTSTAMP:20260420T003235
CREATED:20250109T173234Z
LAST-MODIFIED:20250117T180831Z
UID:10001620-1742824800-1742826600@christchurch.codestagingdevelopment.com
SUMMARY:Lenten Morning Prayer
DESCRIPTION:
URL:https://christchurch.codestagingdevelopment.com/event/lenten-morning-prayer/2025-03-24/
LOCATION:Chapel
CATEGORIES:Adults,Worship
ATTACH;FMTTYPE=image/webp:https://christchurch.codestagingdevelopment.com/wp-content/uploads/2024/12/chapel-interior-1024.webp
END:VEVENT
BEGIN:VEVENT
DTSTART;TZID=America/Chicago:20250325T140000
DTEND;TZID=America/Chicago:20250325T143000
DTSTAMP:20260420T003235
CREATED:20250109T173234Z
LAST-MODIFIED:20250117T180831Z
UID:10001621-1742911200-1742913000@christchurch.codestagingdevelopment.com
SUMMARY:Lenten Morning Prayer
DESCRIPTION:
URL:https://christchurch.codestagingdevelopment.com/event/lenten-morning-prayer/2025-03-25/
LOCATION:Chapel
CATEGORIES:Adults,Worship
ATTACH;FMTTYPE=image/webp:https://christchurch.codestagingdevelopment.com/wp-content/uploads/2024/12/chapel-interior-1024.webp
END:VEVENT
BEGIN:VEVENT
DTSTART;TZID=America/Chicago:20250326T140000
DTEND;TZID=America/Chicago:20250326T143000
DTSTAMP:20260420T003235
CREATED:20250109T173234Z
LAST-MODIFIED:20250117T180831Z
UID:10001622-1742997600-1742999400@christchurch.codestagingdevelopment.com
SUMMARY:Lenten Morning Prayer
DESCRIPTION:
URL:https://christchurch.codestagingdevelopment.com/event/lenten-morning-prayer/2025-03-26/
LOCATION:Chapel
CATEGORIES:Adults,Worship
ATTACH;FMTTYPE=image/webp:https://christchurch.codestagingdevelopment.com/wp-content/uploads/2024/12/chapel-interior-1024.webp
END:VEVENT
BEGIN:VEVENT
DTSTART;TZID=America/Chicago:20250326T230000
DTEND;TZID=America/Chicago:20250327T010000
DTSTAMP:20260420T003235
CREATED:20250109T152923Z
LAST-MODIFIED:20250109T155324Z
UID:10001323-1743030000-1743037200@christchurch.codestagingdevelopment.com
SUMMARY:Family Ministry Wednesdays
DESCRIPTION:
URL:https://christchurch.codestagingdevelopment.com/event/family-ministry-wednesdays/2025-03-26/
LOCATION:Archgate Center
CATEGORIES:High School,Sunday School,Middle School
END:VEVENT
BEGIN:VEVENT
DTSTART;TZID=America/Chicago:20250327T140000
DTEND;TZID=America/Chicago:20250327T143000
DTSTAMP:20260420T003235
CREATED:20250109T173234Z
LAST-MODIFIED:20250117T180831Z
UID:10001623-1743084000-1743085800@christchurch.codestagingdevelopment.com
SUMMARY:Lenten Morning Prayer
DESCRIPTION:
URL:https://christchurch.codestagingdevelopment.com/event/lenten-morning-prayer/2025-03-27/
LOCATION:Chapel
CATEGORIES:Adults,Worship
ATTACH;FMTTYPE=image/webp:https://christchurch.codestagingdevelopment.com/wp-content/uploads/2024/12/chapel-interior-1024.webp
END:VEVENT
BEGIN:VEVENT
DTSTART;TZID=America/Chicago:20250330T121500
DTEND;TZID=America/Chicago:20250330T131500
DTSTAMP:20260420T003235
CREATED:20250109T150557Z
LAST-MODIFIED:20250114T203721Z
UID:10001062-1743336900-1743340500@christchurch.codestagingdevelopment.com
SUMMARY:Chapel Worship
DESCRIPTION:Christ Church celebrates the death and resurrection of our Lord and Savior Jesus Christ through participation in weekly worship and special services. \nLearn more about worship at Christ Church \nWatch recent sermons
URL:https://christchurch.codestagingdevelopment.com/event/chapel-worship/2025-03-30/
LOCATION:Chapel
CATEGORIES:Nursery,Worship
ATTACH;FMTTYPE=image/jpeg:https://christchurch.codestagingdevelopment.com/wp-content/uploads/2025/01/Interior-Chapel-960.jpg
END:VEVENT
BEGIN:VEVENT
DTSTART;TZID=America/Chicago:20250330T140000
DTEND;TZID=America/Chicago:20250330T171500
DTSTAMP:20260420T003235
CREATED:20250109T192110Z
LAST-MODIFIED:20250114T203641Z
UID:10001910-1743343200-1743354900@christchurch.codestagingdevelopment.com
SUMMARY:Sanctuary Worship
DESCRIPTION:Christ Church celebrates the death and resurrection of our Lord and Savior Jesus Christ through participation in weekly worship and special services. \nLearn more about worship at Christ Church \nWatch recent sermons
URL:https://christchurch.codestagingdevelopment.com/event/sanctuary-worship-2/2025-03-30/
LOCATION:Sanctuary
CATEGORIES:Nursery,Worship
ATTACH;FMTTYPE=image/jpeg:https://christchurch.codestagingdevelopment.com/wp-content/uploads/2025/01/Interior-Sanctuary-960.jpg
END:VEVENT
BEGIN:VEVENT
DTSTART;TZID=America/Chicago:20250331T140000
DTEND;TZID=America/Chicago:20250331T143000
DTSTAMP:20260420T003235
CREATED:20250109T173234Z
LAST-MODIFIED:20250117T180831Z
UID:10001624-1743429600-1743431400@christchurch.codestagingdevelopment.com
SUMMARY:Lenten Morning Prayer
DESCRIPTION:
URL:https://christchurch.codestagingdevelopment.com/event/lenten-morning-prayer/2025-03-31/
LOCATION:Chapel
CATEGORIES:Adults,Worship
ATTACH;FMTTYPE=image/webp:https://christchurch.codestagingdevelopment.com/wp-content/uploads/2024/12/chapel-interior-1024.webp
END:VEVENT
BEGIN:VEVENT
DTSTART;TZID=America/Chicago:20250401T140000
DTEND;TZID=America/Chicago:20250401T143000
DTSTAMP:20260420T003235
CREATED:20250109T173234Z
LAST-MODIFIED:20250117T180831Z
UID:10001625-1743516000-1743517800@christchurch.codestagingdevelopment.com
SUMMARY:Lenten Morning Prayer
DESCRIPTION:
URL:https://christchurch.codestagingdevelopment.com/event/lenten-morning-prayer/2025-04-01/
LOCATION:Chapel
CATEGORIES:Adults,Worship
ATTACH;FMTTYPE=image/webp:https://christchurch.codestagingdevelopment.com/wp-content/uploads/2024/12/chapel-interior-1024.webp
END:VEVENT
END:VCALENDAR