BEGIN:VCALENDAR
VERSION:2.0
PRODID:-//Christ Church Plano - ECPv6.9.0//NONSGML v1.0//EN
CALSCALE:GREGORIAN
METHOD:PUBLISH
X-WR-CALNAME:Christ Church Plano
X-ORIGINAL-URL:https://christchurch.codestagingdevelopment.com
X-WR-CALDESC:Events for Christ Church Plano
REFRESH-INTERVAL;VALUE=DURATION:PT1H
X-Robots-Tag:noindex
X-PUBLISHED-TTL:PT1H
BEGIN:VTIMEZONE
TZID:America/Chicago
BEGIN:DAYLIGHT
TZOFFSETFROM:-0600
TZOFFSETTO:-0500
TZNAME:CDT
DTSTART:20240310T080000
END:DAYLIGHT
BEGIN:STANDARD
TZOFFSETFROM:-0500
TZOFFSETTO:-0600
TZNAME:CST
DTSTART:20241103T070000
END:STANDARD
END:VTIMEZONE
BEGIN:VEVENT
DTSTART;TZID=America/Chicago:20241201T140000
DTEND;TZID=America/Chicago:20241201T230000
DTSTAMP:20260422T145811
CREATED:20250109T172114Z
LAST-MODIFIED:20250109T223605Z
UID:10001592-1733061600-1733094000@christchurch.codestagingdevelopment.com
SUMMARY:Blood Drive
DESCRIPTION:Carter BloodCare will visit Christ Church in November and take blood donations in the parking lot. If you wish to donate\, please sign up for an available time slot\, and register early to reserve a slot you prefer.
URL:https://christchurch.codestagingdevelopment.com/event/blood-drive/
CATEGORIES:Mission
END:VEVENT
BEGIN:VEVENT
DTSTART;TZID=America/Chicago:20241201T140000
DTEND;TZID=America/Chicago:20241201T230000
DTSTAMP:20260422T145811
CREATED:20250109T172028Z
LAST-MODIFIED:20250109T223645Z
UID:10001591-1733061600-1733094000@christchurch.codestagingdevelopment.com
SUMMARY:Family Advent Fair
DESCRIPTION:Advent is a special time in our faith to prepare our hearts for the Lord’s birth during Christmas. \nWe invite families to stay after services and take home child-friendly Advent crafts and decorations that teach the meaning and message of the season. Parents and grandparents can use these simple\, beautiful tools at home as they lead children to know and love Jesus.
URL:https://christchurch.codestagingdevelopment.com/event/family-advent-fair/
CATEGORIES:Sunday School
END:VEVENT
BEGIN:VEVENT
DTSTART;TZID=America/Chicago:20241201T140000
DTEND;TZID=America/Chicago:20241201T230000
DTSTAMP:20260422T145811
CREATED:20250109T171910Z
LAST-MODIFIED:20250109T223546Z
UID:10001590-1733061600-1733094000@christchurch.codestagingdevelopment.com
SUMMARY:Kids in Need: Backpack Drive
DESCRIPTION:“Truly\, I say to you\, as you did it to one of the least of these my brothers (and sisters)\, you did it to me.” – Matthew 25:40 \nKids in Need is an annual outreach event at Christ Church\, mobilizing the efforts of hundreds of parishioners to meet a very practical need in our community: new backpacks and school supplies for families who can’t afford them. \nWe plan to collect\, or purchase with donations\, over 600 backpacks and fill them with school supplies through Kids in Need. The supplies and backpacks will be given to Christ Church’s partnering outreach agencies who\, in turn\, will distribute them to the families they serve. \nHow You Can Help\n1. Make a Financial Donation\nGive Now \nA monetary gift can greatly help us reach our backpack goal. Please designate checks or envelopes by writing “Kids in Need” on the memo line. They may be placed in the offering plate or delivered to the ministry offices during the week. You can also give online with a credit card or eCheck using the link above. \n\nA $40 donation will help us purchase a backpack for a student.\nA $60 donation will help us purchase a backpack and school supplies for a student.\n\nFor more information\, contact Jeff Reaves at JReaves@ChristChurchPlano.org or 214-291-5012. \n2. Donate a Backpack\nGet the whole family involved in the act of giving. We would love to receive donations of new\, sturdy backpacks from those who are able. \n\nBackpacks can be deposited at Christ Church on Sundays before or after worship services. They may also be dropped off at the Ministry Center\, Monday through Thursday\, 9 a.m. – 5  p.m.\nA donation of any amount ($40 suggested) may be given with the backpacks to cover the cost of purchasing school supplies.\nWe do not accept donations of school supplies. In an effort to give the kids more of what they need\, we order school supplies wholesale and cater to what the kids need instead of generic supplies.\nWe cannot accept donations of used backpacks.\n\nPlease deposit your donation at a drop off location no later than July 23. \n3. Volunteer to Pack & Deliver\nVolunteers are needed for packing and delivering backpacks in July. Please contact Jeff Reaves (jreaves@christchurchplano.org) if you would like to help.
URL:https://christchurch.codestagingdevelopment.com/event/kids-in-need-backpack-drive/
CATEGORIES:Mission
END:VEVENT
BEGIN:VEVENT
DTSTART;TZID=America/Chicago:20241201T150000
DTEND;TZID=America/Chicago:20241201T170000
DTSTAMP:20260422T145811
CREATED:20240725T005825Z
LAST-MODIFIED:20250109T182232Z
UID:10000003-1733065200-1733072400@christchurch.codestagingdevelopment.com
SUMMARY:Back to School Blessing
DESCRIPTION:After the blessing\, children who join their parents for Eucharist will stay in the Sanctuary. All other children will return to their classrooms for the remainder of Sunday School.
URL:https://christchurch.codestagingdevelopment.com/event/back-to-school-blessing/
LOCATION:Christ Church Plano\, 4550 Legacy Drive\, Plano\, TX\, 75024\, United States
CATEGORIES:High School,Sunday School,Middle School
ATTACH;FMTTYPE=image/webp:https://christchurch.codestagingdevelopment.com/wp-content/uploads/2024/07/b2s-blessing-2022-1024.webp
END:VEVENT
BEGIN:VEVENT
DTSTART;TZID=America/Chicago:20241201T150000
DTEND;TZID=America/Chicago:20241201T230000
DTSTAMP:20260422T145811
CREATED:20240724T213748Z
LAST-MODIFIED:20250109T182340Z
UID:10000002-1733065200-1733094000@christchurch.codestagingdevelopment.com
SUMMARY:Operation Christmas Child
DESCRIPTION:Imagine trying to explain the gift of salvation to a child who has no concept of a gift because they have never in their life received one. \nIt is for these children that Christ Church now partners with the global outreach Operation Christmas Child to bring hope to families through shoebox-sized gift packages. \nYour contribution makes an eternal impact. Filled with fun toys\, essential needs\, and a gospel message\, each gift box shares the love of Jesus with those who have not heard his name before. \nParticipation is easy… \n1. Donate Online\nFor every $25 you donate\, we ship another gift box. \n\nVisit ChristChurchPlano.org/Give\nTap Give Online\nDesignate fund: Operation Christmas Child\n\n2. Or Pack Your Own Box\nParticipate as a family by packing your own gift box to send. \n\nPick up a box (or several boxes!) from the Fellowship Hall.\nFollow the instructions on the box label for gift ideas.\nUse the QR code on the box to pay for $10 global shipping.\nDrop off your boxes to the Fellowship Hall by September 1.
URL:https://christchurch.codestagingdevelopment.com/event/operation-christmas-child/
LOCATION:Fellowship Hall
CATEGORIES:High School,Sunday School,Middle School,Adults,Mission
ATTACH;FMTTYPE=image/webp:https://christchurch.codestagingdevelopment.com/wp-content/uploads/2024/07/operation-christmas-child-1024.webp
END:VEVENT
BEGIN:VEVENT
DTSTART;TZID=America/Chicago:20241202T000000
DTEND;TZID=America/Chicago:20241202T020000
DTSTAMP:20260422T145811
CREATED:20240724T213356Z
LAST-MODIFIED:20250109T182448Z
UID:10000001-1733097600-1733104800@christchurch.codestagingdevelopment.com
SUMMARY:Family Ministry Open House and Splash Night
DESCRIPTION:At Christ Church we believe that parents have a vital role in the discipleship of their kids. Our church and our families strive to work together to disciple students into faithful followers of Jesus. To that end we invite you to join us for our Family Ministry Open House and Splash Night on Wednesday\, July 31 @ 6 – 8 p.m. \nThere’s something for everyone\, preschool and up! Parents must plan on staying with their children. \n\nChildren and students of all ages will enjoy water activities and games. Swimsuit and towel required.\nParents will connect with Fr. Travis and the Family Ministry team to hear an overview of new and upcoming programs in Family Ministry.\n\nDinner is included. Please register in advance and let us know your family will join us.
URL:https://christchurch.codestagingdevelopment.com/event/family-ministry-open-house-and-splash-night/
LOCATION:Archgate Center
CATEGORIES:High School,Sunday School,Middle School,Nursery
ATTACH;FMTTYPE=image/webp:https://christchurch.codestagingdevelopment.com/wp-content/uploads/2024/07/open-house-1024.webp
ORGANIZER;CN="Jackie Goralczyk":MAILTO:jackieg@christchurchplano.org
END:VEVENT
BEGIN:VEVENT
DTSTART;TZID=America/Chicago:20241214T170000
DTEND;TZID=America/Chicago:20241214T183000
DTSTAMP:20260422T145811
CREATED:20241210T191828Z
LAST-MODIFIED:20250109T224153Z
UID:10000228-1734195600-1734201000@christchurch.codestagingdevelopment.com
SUMMARY:Children's Christmas Pageant
DESCRIPTION:Preschool and Elementary children are invited to take part in this year’s Children’s Christmas Pageant. Acting out the nativity is a wonderful learning experience that helps children focus on the birth of our Savior during the Advent season. \n\nWe ask that each participating family have a parent volunteer. You can choose among several volunteering options when you register your child.\nPlease contact Jackie at JackieG@ChristChurchPlano.org or 214-291-5061 with any questions about the event.\n\nImportant Dates\n\nAuditions for 3rd – 5th Grade Speaking Roles\nSunday\, November 3 @ 12:30–2 p.m.\nNon-speaking roles do not require an audition. Simply register to participate.\nMandatory Rehearsal\nSunday\, December 8 @ 12:30–2 p.m.\n\nMandatory Rehearsal\nWednesday\, December 11 @ 6–8 p.m.\n\nChildren’s Christmas Pageant\nSaturday\, December 14 @ 11 a.m. (Cast call time 10 a.m.)\nCookie and cider reception will follow.
URL:https://christchurch.codestagingdevelopment.com/event/childrens-christmas-pageant/
LOCATION:Archgate Youth Praise Center
CATEGORIES:Sunday School
ATTACH;FMTTYPE=image/webp:https://christchurch.codestagingdevelopment.com/wp-content/uploads/2024/12/christmas-pageant-1024.webp
ORGANIZER;CN="Jackie Goralczyk":MAILTO:jackieg@christchurchplano.org
END:VEVENT
END:VCALENDAR