BEGIN:VCALENDAR
VERSION:2.0
PRODID:-//Christ Church Plano - ECPv6.9.0//NONSGML v1.0//EN
CALSCALE:GREGORIAN
METHOD:PUBLISH
X-ORIGINAL-URL:https://christchurch.codestagingdevelopment.com
X-WR-CALDESC:Events for Christ Church Plano
REFRESH-INTERVAL;VALUE=DURATION:PT1H
X-Robots-Tag:noindex
X-PUBLISHED-TTL:PT1H
BEGIN:VTIMEZONE
TZID:America/Chicago
BEGIN:DAYLIGHT
TZOFFSETFROM:-0600
TZOFFSETTO:-0500
TZNAME:CDT
DTSTART:20270314T080000
END:DAYLIGHT
BEGIN:STANDARD
TZOFFSETFROM:-0500
TZOFFSETTO:-0600
TZNAME:CST
DTSTART:20271107T070000
END:STANDARD
END:VTIMEZONE
BEGIN:VEVENT
DTSTART;TZID=America/Chicago:20270103T131500
DTEND;TZID=America/Chicago:20270103T141500
DTSTAMP:20260420T201751
CREATED:20250109T150557Z
LAST-MODIFIED:20250114T203721Z
UID:10001154-1798982100-1798985700@christchurch.codestagingdevelopment.com
SUMMARY:Chapel Worship
DESCRIPTION:Christ Church celebrates the death and resurrection of our Lord and Savior Jesus Christ through participation in weekly worship and special services. \nLearn more about worship at Christ Church \nWatch recent sermons
URL:https://christchurch.codestagingdevelopment.com/event/chapel-worship/2027-01-03/
LOCATION:Chapel
CATEGORIES:Nursery,Worship
ATTACH;FMTTYPE=image/jpeg:https://christchurch.codestagingdevelopment.com/wp-content/uploads/2025/01/Interior-Chapel-960.jpg
END:VEVENT
BEGIN:VEVENT
DTSTART;TZID=America/Chicago:20270103T150000
DTEND;TZID=America/Chicago:20270103T181500
DTSTAMP:20260420T201751
CREATED:20250109T192110Z
LAST-MODIFIED:20250114T203641Z
UID:10002002-1798988400-1799000100@christchurch.codestagingdevelopment.com
SUMMARY:Sanctuary Worship
DESCRIPTION:Christ Church celebrates the death and resurrection of our Lord and Savior Jesus Christ through participation in weekly worship and special services. \nLearn more about worship at Christ Church \nWatch recent sermons
URL:https://christchurch.codestagingdevelopment.com/event/sanctuary-worship-2/2027-01-03/
LOCATION:Sanctuary
CATEGORIES:Nursery,Worship
ATTACH;FMTTYPE=image/jpeg:https://christchurch.codestagingdevelopment.com/wp-content/uploads/2025/01/Interior-Sanctuary-960.jpg
END:VEVENT
BEGIN:VEVENT
DTSTART;TZID=America/Chicago:20270105T150000
DTEND;TZID=America/Chicago:20270105T153000
DTSTAMP:20260420T201751
CREATED:20250109T151802Z
LAST-MODIFIED:20250114T203748Z
UID:10000892-1799161200-1799163000@christchurch.codestagingdevelopment.com
SUMMARY:Tuesday Chapel
DESCRIPTION:Join us for a brief service of Morning Prayer and a gospel message. \nLearn more about worship at Christ Church \nWatch recent sermons
URL:https://christchurch.codestagingdevelopment.com/event/tuesday-chapel/2027-01-05/
LOCATION:Chapel
CATEGORIES:Worship
ATTACH;FMTTYPE=image/jpeg:https://christchurch.codestagingdevelopment.com/wp-content/uploads/2025/01/Interior-Chapel-960.jpg
END:VEVENT
BEGIN:VEVENT
DTSTART;TZID=America/Chicago:20270107T000000
DTEND;TZID=America/Chicago:20270107T020000
DTSTAMP:20260420T201751
CREATED:20250109T152923Z
LAST-MODIFIED:20250109T155324Z
UID:10001416-1799280000-1799287200@christchurch.codestagingdevelopment.com
SUMMARY:Family Ministry Wednesdays
DESCRIPTION:
URL:https://christchurch.codestagingdevelopment.com/event/family-ministry-wednesdays/2027-01-06/
LOCATION:Archgate Center
CATEGORIES:High School,Sunday School,Middle School
END:VEVENT
BEGIN:VEVENT
DTSTART;TZID=America/Chicago:20270110T131500
DTEND;TZID=America/Chicago:20270110T141500
DTSTAMP:20260420T201751
CREATED:20250109T150557Z
LAST-MODIFIED:20250114T203721Z
UID:10001155-1799586900-1799590500@christchurch.codestagingdevelopment.com
SUMMARY:Chapel Worship
DESCRIPTION:Christ Church celebrates the death and resurrection of our Lord and Savior Jesus Christ through participation in weekly worship and special services. \nLearn more about worship at Christ Church \nWatch recent sermons
URL:https://christchurch.codestagingdevelopment.com/event/chapel-worship/2027-01-10/
LOCATION:Chapel
CATEGORIES:Nursery,Worship
ATTACH;FMTTYPE=image/jpeg:https://christchurch.codestagingdevelopment.com/wp-content/uploads/2025/01/Interior-Chapel-960.jpg
END:VEVENT
BEGIN:VEVENT
DTSTART;TZID=America/Chicago:20270110T150000
DTEND;TZID=America/Chicago:20270110T181500
DTSTAMP:20260420T201751
CREATED:20250109T192110Z
LAST-MODIFIED:20250114T203641Z
UID:10002003-1799593200-1799604900@christchurch.codestagingdevelopment.com
SUMMARY:Sanctuary Worship
DESCRIPTION:Christ Church celebrates the death and resurrection of our Lord and Savior Jesus Christ through participation in weekly worship and special services. \nLearn more about worship at Christ Church \nWatch recent sermons
URL:https://christchurch.codestagingdevelopment.com/event/sanctuary-worship-2/2027-01-10/
LOCATION:Sanctuary
CATEGORIES:Nursery,Worship
ATTACH;FMTTYPE=image/jpeg:https://christchurch.codestagingdevelopment.com/wp-content/uploads/2025/01/Interior-Sanctuary-960.jpg
END:VEVENT
BEGIN:VEVENT
DTSTART;TZID=America/Chicago:20270112T150000
DTEND;TZID=America/Chicago:20270112T153000
DTSTAMP:20260420T201751
CREATED:20250109T151802Z
LAST-MODIFIED:20250114T203748Z
UID:10000893-1799766000-1799767800@christchurch.codestagingdevelopment.com
SUMMARY:Tuesday Chapel
DESCRIPTION:Join us for a brief service of Morning Prayer and a gospel message. \nLearn more about worship at Christ Church \nWatch recent sermons
URL:https://christchurch.codestagingdevelopment.com/event/tuesday-chapel/2027-01-12/
LOCATION:Chapel
CATEGORIES:Worship
ATTACH;FMTTYPE=image/jpeg:https://christchurch.codestagingdevelopment.com/wp-content/uploads/2025/01/Interior-Chapel-960.jpg
END:VEVENT
BEGIN:VEVENT
DTSTART;TZID=America/Chicago:20270114T000000
DTEND;TZID=America/Chicago:20270114T020000
DTSTAMP:20260420T201751
CREATED:20250109T152923Z
LAST-MODIFIED:20250109T155324Z
UID:10001417-1799884800-1799892000@christchurch.codestagingdevelopment.com
SUMMARY:Family Ministry Wednesdays
DESCRIPTION:
URL:https://christchurch.codestagingdevelopment.com/event/family-ministry-wednesdays/2027-01-13/
LOCATION:Archgate Center
CATEGORIES:High School,Sunday School,Middle School
END:VEVENT
BEGIN:VEVENT
DTSTART;TZID=America/Chicago:20270117T131500
DTEND;TZID=America/Chicago:20270117T141500
DTSTAMP:20260420T201751
CREATED:20250109T150557Z
LAST-MODIFIED:20250114T203721Z
UID:10001156-1800191700-1800195300@christchurch.codestagingdevelopment.com
SUMMARY:Chapel Worship
DESCRIPTION:Christ Church celebrates the death and resurrection of our Lord and Savior Jesus Christ through participation in weekly worship and special services. \nLearn more about worship at Christ Church \nWatch recent sermons
URL:https://christchurch.codestagingdevelopment.com/event/chapel-worship/2027-01-17/
LOCATION:Chapel
CATEGORIES:Nursery,Worship
ATTACH;FMTTYPE=image/jpeg:https://christchurch.codestagingdevelopment.com/wp-content/uploads/2025/01/Interior-Chapel-960.jpg
END:VEVENT
BEGIN:VEVENT
DTSTART;TZID=America/Chicago:20270117T150000
DTEND;TZID=America/Chicago:20270117T181500
DTSTAMP:20260420T201751
CREATED:20250109T192110Z
LAST-MODIFIED:20250114T203641Z
UID:10002004-1800198000-1800209700@christchurch.codestagingdevelopment.com
SUMMARY:Sanctuary Worship
DESCRIPTION:Christ Church celebrates the death and resurrection of our Lord and Savior Jesus Christ through participation in weekly worship and special services. \nLearn more about worship at Christ Church \nWatch recent sermons
URL:https://christchurch.codestagingdevelopment.com/event/sanctuary-worship-2/2027-01-17/
LOCATION:Sanctuary
CATEGORIES:Nursery,Worship
ATTACH;FMTTYPE=image/jpeg:https://christchurch.codestagingdevelopment.com/wp-content/uploads/2025/01/Interior-Sanctuary-960.jpg
END:VEVENT
BEGIN:VEVENT
DTSTART;TZID=America/Chicago:20270119T150000
DTEND;TZID=America/Chicago:20270119T153000
DTSTAMP:20260420T201751
CREATED:20250109T151802Z
LAST-MODIFIED:20250114T203748Z
UID:10000894-1800370800-1800372600@christchurch.codestagingdevelopment.com
SUMMARY:Tuesday Chapel
DESCRIPTION:Join us for a brief service of Morning Prayer and a gospel message. \nLearn more about worship at Christ Church \nWatch recent sermons
URL:https://christchurch.codestagingdevelopment.com/event/tuesday-chapel/2027-01-19/
LOCATION:Chapel
CATEGORIES:Worship
ATTACH;FMTTYPE=image/jpeg:https://christchurch.codestagingdevelopment.com/wp-content/uploads/2025/01/Interior-Chapel-960.jpg
END:VEVENT
BEGIN:VEVENT
DTSTART;TZID=America/Chicago:20270121T000000
DTEND;TZID=America/Chicago:20270121T020000
DTSTAMP:20260420T201751
CREATED:20250109T152923Z
LAST-MODIFIED:20250109T155324Z
UID:10001418-1800489600-1800496800@christchurch.codestagingdevelopment.com
SUMMARY:Family Ministry Wednesdays
DESCRIPTION:
URL:https://christchurch.codestagingdevelopment.com/event/family-ministry-wednesdays/2027-01-20/
LOCATION:Archgate Center
CATEGORIES:High School,Sunday School,Middle School
END:VEVENT
BEGIN:VEVENT
DTSTART;TZID=America/Chicago:20270124T131500
DTEND;TZID=America/Chicago:20270124T141500
DTSTAMP:20260420T201751
CREATED:20250109T150557Z
LAST-MODIFIED:20250114T203721Z
UID:10001157-1800796500-1800800100@christchurch.codestagingdevelopment.com
SUMMARY:Chapel Worship
DESCRIPTION:Christ Church celebrates the death and resurrection of our Lord and Savior Jesus Christ through participation in weekly worship and special services. \nLearn more about worship at Christ Church \nWatch recent sermons
URL:https://christchurch.codestagingdevelopment.com/event/chapel-worship/2027-01-24/
LOCATION:Chapel
CATEGORIES:Nursery,Worship
ATTACH;FMTTYPE=image/jpeg:https://christchurch.codestagingdevelopment.com/wp-content/uploads/2025/01/Interior-Chapel-960.jpg
END:VEVENT
BEGIN:VEVENT
DTSTART;TZID=America/Chicago:20270124T150000
DTEND;TZID=America/Chicago:20270124T181500
DTSTAMP:20260420T201751
CREATED:20250109T192110Z
LAST-MODIFIED:20250114T203641Z
UID:10002005-1800802800-1800814500@christchurch.codestagingdevelopment.com
SUMMARY:Sanctuary Worship
DESCRIPTION:Christ Church celebrates the death and resurrection of our Lord and Savior Jesus Christ through participation in weekly worship and special services. \nLearn more about worship at Christ Church \nWatch recent sermons
URL:https://christchurch.codestagingdevelopment.com/event/sanctuary-worship-2/2027-01-24/
LOCATION:Sanctuary
CATEGORIES:Nursery,Worship
ATTACH;FMTTYPE=image/jpeg:https://christchurch.codestagingdevelopment.com/wp-content/uploads/2025/01/Interior-Sanctuary-960.jpg
END:VEVENT
BEGIN:VEVENT
DTSTART;TZID=America/Chicago:20270126T150000
DTEND;TZID=America/Chicago:20270126T153000
DTSTAMP:20260420T201751
CREATED:20250109T151802Z
LAST-MODIFIED:20250114T203748Z
UID:10000895-1800975600-1800977400@christchurch.codestagingdevelopment.com
SUMMARY:Tuesday Chapel
DESCRIPTION:Join us for a brief service of Morning Prayer and a gospel message. \nLearn more about worship at Christ Church \nWatch recent sermons
URL:https://christchurch.codestagingdevelopment.com/event/tuesday-chapel/2027-01-26/
LOCATION:Chapel
CATEGORIES:Worship
ATTACH;FMTTYPE=image/jpeg:https://christchurch.codestagingdevelopment.com/wp-content/uploads/2025/01/Interior-Chapel-960.jpg
END:VEVENT
BEGIN:VEVENT
DTSTART;TZID=America/Chicago:20270128T000000
DTEND;TZID=America/Chicago:20270128T020000
DTSTAMP:20260420T201751
CREATED:20250109T152923Z
LAST-MODIFIED:20250109T155324Z
UID:10001419-1801094400-1801101600@christchurch.codestagingdevelopment.com
SUMMARY:Family Ministry Wednesdays
DESCRIPTION:
URL:https://christchurch.codestagingdevelopment.com/event/family-ministry-wednesdays/2027-01-27/
LOCATION:Archgate Center
CATEGORIES:High School,Sunday School,Middle School
END:VEVENT
BEGIN:VEVENT
DTSTART;TZID=America/Chicago:20270131T131500
DTEND;TZID=America/Chicago:20270131T141500
DTSTAMP:20260420T201751
CREATED:20250109T150557Z
LAST-MODIFIED:20250114T203721Z
UID:10001158-1801401300-1801404900@christchurch.codestagingdevelopment.com
SUMMARY:Chapel Worship
DESCRIPTION:Christ Church celebrates the death and resurrection of our Lord and Savior Jesus Christ through participation in weekly worship and special services. \nLearn more about worship at Christ Church \nWatch recent sermons
URL:https://christchurch.codestagingdevelopment.com/event/chapel-worship/2027-01-31/
LOCATION:Chapel
CATEGORIES:Nursery,Worship
ATTACH;FMTTYPE=image/jpeg:https://christchurch.codestagingdevelopment.com/wp-content/uploads/2025/01/Interior-Chapel-960.jpg
END:VEVENT
BEGIN:VEVENT
DTSTART;TZID=America/Chicago:20270131T150000
DTEND;TZID=America/Chicago:20270131T181500
DTSTAMP:20260420T201751
CREATED:20250109T192110Z
LAST-MODIFIED:20250114T203641Z
UID:10002006-1801407600-1801419300@christchurch.codestagingdevelopment.com
SUMMARY:Sanctuary Worship
DESCRIPTION:Christ Church celebrates the death and resurrection of our Lord and Savior Jesus Christ through participation in weekly worship and special services. \nLearn more about worship at Christ Church \nWatch recent sermons
URL:https://christchurch.codestagingdevelopment.com/event/sanctuary-worship-2/2027-01-31/
LOCATION:Sanctuary
CATEGORIES:Nursery,Worship
ATTACH;FMTTYPE=image/jpeg:https://christchurch.codestagingdevelopment.com/wp-content/uploads/2025/01/Interior-Sanctuary-960.jpg
END:VEVENT
BEGIN:VEVENT
DTSTART;TZID=America/Chicago:20270202T150000
DTEND;TZID=America/Chicago:20270202T153000
DTSTAMP:20260420T201751
CREATED:20250109T151802Z
LAST-MODIFIED:20250114T203748Z
UID:10000896-1801580400-1801582200@christchurch.codestagingdevelopment.com
SUMMARY:Tuesday Chapel
DESCRIPTION:Join us for a brief service of Morning Prayer and a gospel message. \nLearn more about worship at Christ Church \nWatch recent sermons
URL:https://christchurch.codestagingdevelopment.com/event/tuesday-chapel/2027-02-02/
LOCATION:Chapel
CATEGORIES:Worship
ATTACH;FMTTYPE=image/jpeg:https://christchurch.codestagingdevelopment.com/wp-content/uploads/2025/01/Interior-Chapel-960.jpg
END:VEVENT
BEGIN:VEVENT
DTSTART;TZID=America/Chicago:20270204T000000
DTEND;TZID=America/Chicago:20270204T020000
DTSTAMP:20260420T201751
CREATED:20250109T152923Z
LAST-MODIFIED:20250109T155324Z
UID:10001420-1801699200-1801706400@christchurch.codestagingdevelopment.com
SUMMARY:Family Ministry Wednesdays
DESCRIPTION:
URL:https://christchurch.codestagingdevelopment.com/event/family-ministry-wednesdays/2027-02-03/
LOCATION:Archgate Center
CATEGORIES:High School,Sunday School,Middle School
END:VEVENT
BEGIN:VEVENT
DTSTART;TZID=America/Chicago:20270207T131500
DTEND;TZID=America/Chicago:20270207T141500
DTSTAMP:20260420T201751
CREATED:20250109T150557Z
LAST-MODIFIED:20250114T203721Z
UID:10001159-1802006100-1802009700@christchurch.codestagingdevelopment.com
SUMMARY:Chapel Worship
DESCRIPTION:Christ Church celebrates the death and resurrection of our Lord and Savior Jesus Christ through participation in weekly worship and special services. \nLearn more about worship at Christ Church \nWatch recent sermons
URL:https://christchurch.codestagingdevelopment.com/event/chapel-worship/2027-02-07/
LOCATION:Chapel
CATEGORIES:Nursery,Worship
ATTACH;FMTTYPE=image/jpeg:https://christchurch.codestagingdevelopment.com/wp-content/uploads/2025/01/Interior-Chapel-960.jpg
END:VEVENT
BEGIN:VEVENT
DTSTART;TZID=America/Chicago:20270207T150000
DTEND;TZID=America/Chicago:20270207T181500
DTSTAMP:20260420T201751
CREATED:20250109T192110Z
LAST-MODIFIED:20250114T203641Z
UID:10002007-1802012400-1802024100@christchurch.codestagingdevelopment.com
SUMMARY:Sanctuary Worship
DESCRIPTION:Christ Church celebrates the death and resurrection of our Lord and Savior Jesus Christ through participation in weekly worship and special services. \nLearn more about worship at Christ Church \nWatch recent sermons
URL:https://christchurch.codestagingdevelopment.com/event/sanctuary-worship-2/2027-02-07/
LOCATION:Sanctuary
CATEGORIES:Nursery,Worship
ATTACH;FMTTYPE=image/jpeg:https://christchurch.codestagingdevelopment.com/wp-content/uploads/2025/01/Interior-Sanctuary-960.jpg
END:VEVENT
BEGIN:VEVENT
DTSTART;TZID=America/Chicago:20270209T150000
DTEND;TZID=America/Chicago:20270209T153000
DTSTAMP:20260420T201751
CREATED:20250109T151802Z
LAST-MODIFIED:20250114T203748Z
UID:10000897-1802185200-1802187000@christchurch.codestagingdevelopment.com
SUMMARY:Tuesday Chapel
DESCRIPTION:Join us for a brief service of Morning Prayer and a gospel message. \nLearn more about worship at Christ Church \nWatch recent sermons
URL:https://christchurch.codestagingdevelopment.com/event/tuesday-chapel/2027-02-09/
LOCATION:Chapel
CATEGORIES:Worship
ATTACH;FMTTYPE=image/jpeg:https://christchurch.codestagingdevelopment.com/wp-content/uploads/2025/01/Interior-Chapel-960.jpg
END:VEVENT
BEGIN:VEVENT
DTSTART;TZID=America/Chicago:20270211T000000
DTEND;TZID=America/Chicago:20270211T020000
DTSTAMP:20260420T201751
CREATED:20250109T152923Z
LAST-MODIFIED:20250109T155324Z
UID:10001421-1802304000-1802311200@christchurch.codestagingdevelopment.com
SUMMARY:Family Ministry Wednesdays
DESCRIPTION:
URL:https://christchurch.codestagingdevelopment.com/event/family-ministry-wednesdays/2027-02-10/
LOCATION:Archgate Center
CATEGORIES:High School,Sunday School,Middle School
END:VEVENT
BEGIN:VEVENT
DTSTART;TZID=America/Chicago:20270214T131500
DTEND;TZID=America/Chicago:20270214T141500
DTSTAMP:20260420T201751
CREATED:20250109T150557Z
LAST-MODIFIED:20250114T203721Z
UID:10001160-1802610900-1802614500@christchurch.codestagingdevelopment.com
SUMMARY:Chapel Worship
DESCRIPTION:Christ Church celebrates the death and resurrection of our Lord and Savior Jesus Christ through participation in weekly worship and special services. \nLearn more about worship at Christ Church \nWatch recent sermons
URL:https://christchurch.codestagingdevelopment.com/event/chapel-worship/2027-02-14/
LOCATION:Chapel
CATEGORIES:Nursery,Worship
ATTACH;FMTTYPE=image/jpeg:https://christchurch.codestagingdevelopment.com/wp-content/uploads/2025/01/Interior-Chapel-960.jpg
END:VEVENT
BEGIN:VEVENT
DTSTART;TZID=America/Chicago:20270214T150000
DTEND;TZID=America/Chicago:20270214T181500
DTSTAMP:20260420T201751
CREATED:20250109T192110Z
LAST-MODIFIED:20250114T203641Z
UID:10002008-1802617200-1802628900@christchurch.codestagingdevelopment.com
SUMMARY:Sanctuary Worship
DESCRIPTION:Christ Church celebrates the death and resurrection of our Lord and Savior Jesus Christ through participation in weekly worship and special services. \nLearn more about worship at Christ Church \nWatch recent sermons
URL:https://christchurch.codestagingdevelopment.com/event/sanctuary-worship-2/2027-02-14/
LOCATION:Sanctuary
CATEGORIES:Nursery,Worship
ATTACH;FMTTYPE=image/jpeg:https://christchurch.codestagingdevelopment.com/wp-content/uploads/2025/01/Interior-Sanctuary-960.jpg
END:VEVENT
BEGIN:VEVENT
DTSTART;TZID=America/Chicago:20270216T150000
DTEND;TZID=America/Chicago:20270216T153000
DTSTAMP:20260420T201751
CREATED:20250109T151802Z
LAST-MODIFIED:20250114T203748Z
UID:10000898-1802790000-1802791800@christchurch.codestagingdevelopment.com
SUMMARY:Tuesday Chapel
DESCRIPTION:Join us for a brief service of Morning Prayer and a gospel message. \nLearn more about worship at Christ Church \nWatch recent sermons
URL:https://christchurch.codestagingdevelopment.com/event/tuesday-chapel/2027-02-16/
LOCATION:Chapel
CATEGORIES:Worship
ATTACH;FMTTYPE=image/jpeg:https://christchurch.codestagingdevelopment.com/wp-content/uploads/2025/01/Interior-Chapel-960.jpg
END:VEVENT
BEGIN:VEVENT
DTSTART;TZID=America/Chicago:20270218T000000
DTEND;TZID=America/Chicago:20270218T020000
DTSTAMP:20260420T201751
CREATED:20250109T152923Z
LAST-MODIFIED:20250109T155324Z
UID:10001422-1802908800-1802916000@christchurch.codestagingdevelopment.com
SUMMARY:Family Ministry Wednesdays
DESCRIPTION:
URL:https://christchurch.codestagingdevelopment.com/event/family-ministry-wednesdays/2027-02-17/
LOCATION:Archgate Center
CATEGORIES:High School,Sunday School,Middle School
END:VEVENT
BEGIN:VEVENT
DTSTART;TZID=America/Chicago:20270221T131500
DTEND;TZID=America/Chicago:20270221T141500
DTSTAMP:20260420T201751
CREATED:20250109T150557Z
LAST-MODIFIED:20250114T203721Z
UID:10001161-1803215700-1803219300@christchurch.codestagingdevelopment.com
SUMMARY:Chapel Worship
DESCRIPTION:Christ Church celebrates the death and resurrection of our Lord and Savior Jesus Christ through participation in weekly worship and special services. \nLearn more about worship at Christ Church \nWatch recent sermons
URL:https://christchurch.codestagingdevelopment.com/event/chapel-worship/2027-02-21/
LOCATION:Chapel
CATEGORIES:Nursery,Worship
ATTACH;FMTTYPE=image/jpeg:https://christchurch.codestagingdevelopment.com/wp-content/uploads/2025/01/Interior-Chapel-960.jpg
END:VEVENT
BEGIN:VEVENT
DTSTART;TZID=America/Chicago:20270221T150000
DTEND;TZID=America/Chicago:20270221T181500
DTSTAMP:20260420T201751
CREATED:20250109T192110Z
LAST-MODIFIED:20250114T203641Z
UID:10002009-1803222000-1803233700@christchurch.codestagingdevelopment.com
SUMMARY:Sanctuary Worship
DESCRIPTION:Christ Church celebrates the death and resurrection of our Lord and Savior Jesus Christ through participation in weekly worship and special services. \nLearn more about worship at Christ Church \nWatch recent sermons
URL:https://christchurch.codestagingdevelopment.com/event/sanctuary-worship-2/2027-02-21/
LOCATION:Sanctuary
CATEGORIES:Nursery,Worship
ATTACH;FMTTYPE=image/jpeg:https://christchurch.codestagingdevelopment.com/wp-content/uploads/2025/01/Interior-Sanctuary-960.jpg
END:VEVENT
END:VCALENDAR