BEGIN:VCALENDAR
VERSION:2.0
PRODID:-//Christ Church Plano - ECPv6.9.0//NONSGML v1.0//EN
CALSCALE:GREGORIAN
METHOD:PUBLISH
X-WR-CALNAME:Christ Church Plano
X-ORIGINAL-URL:https://christchurch.codestagingdevelopment.com
X-WR-CALDESC:Events for Christ Church Plano
REFRESH-INTERVAL;VALUE=DURATION:PT1H
X-Robots-Tag:noindex
X-PUBLISHED-TTL:PT1H
BEGIN:VTIMEZONE
TZID:America/Chicago
BEGIN:DAYLIGHT
TZOFFSETFROM:-0600
TZOFFSETTO:-0500
TZNAME:CDT
DTSTART:20250309T080000
END:DAYLIGHT
BEGIN:STANDARD
TZOFFSETFROM:-0500
TZOFFSETTO:-0600
TZNAME:CST
DTSTART:20251102T070000
END:STANDARD
END:VTIMEZONE
BEGIN:VEVENT
DTSTART;TZID=America/Chicago:20250511T121500
DTEND;TZID=America/Chicago:20250511T131500
DTSTAMP:20260420T022855
CREATED:20250109T150557Z
LAST-MODIFIED:20250114T203721Z
UID:10001068-1746965700-1746969300@christchurch.codestagingdevelopment.com
SUMMARY:Chapel Worship
DESCRIPTION:Christ Church celebrates the death and resurrection of our Lord and Savior Jesus Christ through participation in weekly worship and special services. \nLearn more about worship at Christ Church \nWatch recent sermons
URL:https://christchurch.codestagingdevelopment.com/event/chapel-worship/2025-05-11/
LOCATION:Chapel
CATEGORIES:Nursery,Worship
ATTACH;FMTTYPE=image/jpeg:https://christchurch.codestagingdevelopment.com/wp-content/uploads/2025/01/Interior-Chapel-960.jpg
END:VEVENT
BEGIN:VEVENT
DTSTART;TZID=America/Chicago:20250507T230000
DTEND;TZID=America/Chicago:20250508T010000
DTSTAMP:20260420T022855
CREATED:20250109T152923Z
LAST-MODIFIED:20250109T155324Z
UID:10001329-1746658800-1746666000@christchurch.codestagingdevelopment.com
SUMMARY:Family Ministry Wednesdays
DESCRIPTION:
URL:https://christchurch.codestagingdevelopment.com/event/family-ministry-wednesdays/2025-05-07/
LOCATION:Archgate Center
CATEGORIES:High School,Sunday School,Middle School
END:VEVENT
BEGIN:VEVENT
DTSTART;TZID=America/Chicago:20250506T140000
DTEND;TZID=America/Chicago:20250506T143000
DTSTAMP:20260420T022855
CREATED:20250109T151802Z
LAST-MODIFIED:20250114T203748Z
UID:10000805-1746540000-1746541800@christchurch.codestagingdevelopment.com
SUMMARY:Tuesday Chapel
DESCRIPTION:Join us for a brief service of Morning Prayer and a gospel message. \nLearn more about worship at Christ Church \nWatch recent sermons
URL:https://christchurch.codestagingdevelopment.com/event/tuesday-chapel/2025-05-06/
LOCATION:Chapel
CATEGORIES:Worship
ATTACH;FMTTYPE=image/jpeg:https://christchurch.codestagingdevelopment.com/wp-content/uploads/2025/01/Interior-Chapel-960.jpg
END:VEVENT
BEGIN:VEVENT
DTSTART;TZID=America/Chicago:20250504T140000
DTEND;TZID=America/Chicago:20250504T171500
DTSTAMP:20260420T022855
CREATED:20250109T192110Z
LAST-MODIFIED:20250114T203641Z
UID:10001915-1746367200-1746378900@christchurch.codestagingdevelopment.com
SUMMARY:Sanctuary Worship
DESCRIPTION:Christ Church celebrates the death and resurrection of our Lord and Savior Jesus Christ through participation in weekly worship and special services. \nLearn more about worship at Christ Church \nWatch recent sermons
URL:https://christchurch.codestagingdevelopment.com/event/sanctuary-worship-2/2025-05-04/
LOCATION:Sanctuary
CATEGORIES:Nursery,Worship
ATTACH;FMTTYPE=image/jpeg:https://christchurch.codestagingdevelopment.com/wp-content/uploads/2025/01/Interior-Sanctuary-960.jpg
END:VEVENT
BEGIN:VEVENT
DTSTART;TZID=America/Chicago:20250504T121500
DTEND;TZID=America/Chicago:20250504T131500
DTSTAMP:20260420T022855
CREATED:20250109T150557Z
LAST-MODIFIED:20250114T203721Z
UID:10001067-1746360900-1746364500@christchurch.codestagingdevelopment.com
SUMMARY:Chapel Worship
DESCRIPTION:Christ Church celebrates the death and resurrection of our Lord and Savior Jesus Christ through participation in weekly worship and special services. \nLearn more about worship at Christ Church \nWatch recent sermons
URL:https://christchurch.codestagingdevelopment.com/event/chapel-worship/2025-05-04/
LOCATION:Chapel
CATEGORIES:Nursery,Worship
ATTACH;FMTTYPE=image/jpeg:https://christchurch.codestagingdevelopment.com/wp-content/uploads/2025/01/Interior-Chapel-960.jpg
END:VEVENT
BEGIN:VEVENT
DTSTART;TZID=America/Chicago:20250430T230000
DTEND;TZID=America/Chicago:20250501T010000
DTSTAMP:20260420T022855
CREATED:20250109T152923Z
LAST-MODIFIED:20250109T155324Z
UID:10001328-1746054000-1746061200@christchurch.codestagingdevelopment.com
SUMMARY:Family Ministry Wednesdays
DESCRIPTION:
URL:https://christchurch.codestagingdevelopment.com/event/family-ministry-wednesdays/2025-04-30/
LOCATION:Archgate Center
CATEGORIES:High School,Sunday School,Middle School
END:VEVENT
BEGIN:VEVENT
DTSTART;TZID=America/Chicago:20250429T140000
DTEND;TZID=America/Chicago:20250429T143000
DTSTAMP:20260420T022855
CREATED:20250109T151802Z
LAST-MODIFIED:20250114T203748Z
UID:10000804-1745935200-1745937000@christchurch.codestagingdevelopment.com
SUMMARY:Tuesday Chapel
DESCRIPTION:Join us for a brief service of Morning Prayer and a gospel message. \nLearn more about worship at Christ Church \nWatch recent sermons
URL:https://christchurch.codestagingdevelopment.com/event/tuesday-chapel/2025-04-29/
LOCATION:Chapel
CATEGORIES:Worship
ATTACH;FMTTYPE=image/jpeg:https://christchurch.codestagingdevelopment.com/wp-content/uploads/2025/01/Interior-Chapel-960.jpg
END:VEVENT
BEGIN:VEVENT
DTSTART;TZID=America/Chicago:20250427T140000
DTEND;TZID=America/Chicago:20250427T171500
DTSTAMP:20260420T022855
CREATED:20250109T192110Z
LAST-MODIFIED:20250114T203641Z
UID:10001914-1745762400-1745774100@christchurch.codestagingdevelopment.com
SUMMARY:Sanctuary Worship
DESCRIPTION:Christ Church celebrates the death and resurrection of our Lord and Savior Jesus Christ through participation in weekly worship and special services. \nLearn more about worship at Christ Church \nWatch recent sermons
URL:https://christchurch.codestagingdevelopment.com/event/sanctuary-worship-2/2025-04-27/
LOCATION:Sanctuary
CATEGORIES:Nursery,Worship
ATTACH;FMTTYPE=image/jpeg:https://christchurch.codestagingdevelopment.com/wp-content/uploads/2025/01/Interior-Sanctuary-960.jpg
END:VEVENT
BEGIN:VEVENT
DTSTART;TZID=America/Chicago:20250427T121500
DTEND;TZID=America/Chicago:20250427T131500
DTSTAMP:20260420T022855
CREATED:20250109T150557Z
LAST-MODIFIED:20250114T203721Z
UID:10001066-1745756100-1745759700@christchurch.codestagingdevelopment.com
SUMMARY:Chapel Worship
DESCRIPTION:Christ Church celebrates the death and resurrection of our Lord and Savior Jesus Christ through participation in weekly worship and special services. \nLearn more about worship at Christ Church \nWatch recent sermons
URL:https://christchurch.codestagingdevelopment.com/event/chapel-worship/2025-04-27/
LOCATION:Chapel
CATEGORIES:Nursery,Worship
ATTACH;FMTTYPE=image/jpeg:https://christchurch.codestagingdevelopment.com/wp-content/uploads/2025/01/Interior-Chapel-960.jpg
END:VEVENT
BEGIN:VEVENT
DTSTART;TZID=America/Chicago:20250423T230000
DTEND;TZID=America/Chicago:20250424T010000
DTSTAMP:20260420T022855
CREATED:20250109T152923Z
LAST-MODIFIED:20250109T155324Z
UID:10001327-1745449200-1745456400@christchurch.codestagingdevelopment.com
SUMMARY:Family Ministry Wednesdays
DESCRIPTION:
URL:https://christchurch.codestagingdevelopment.com/event/family-ministry-wednesdays/2025-04-23/
LOCATION:Archgate Center
CATEGORIES:High School,Sunday School,Middle School
END:VEVENT
BEGIN:VEVENT
DTSTART;TZID=America/Chicago:20250422T140000
DTEND;TZID=America/Chicago:20250422T143000
DTSTAMP:20260420T022855
CREATED:20250109T151802Z
LAST-MODIFIED:20250114T203748Z
UID:10000803-1745330400-1745332200@christchurch.codestagingdevelopment.com
SUMMARY:Tuesday Chapel
DESCRIPTION:Join us for a brief service of Morning Prayer and a gospel message. \nLearn more about worship at Christ Church \nWatch recent sermons
URL:https://christchurch.codestagingdevelopment.com/event/tuesday-chapel/2025-04-22/
LOCATION:Chapel
CATEGORIES:Worship
ATTACH;FMTTYPE=image/jpeg:https://christchurch.codestagingdevelopment.com/wp-content/uploads/2025/01/Interior-Chapel-960.jpg
END:VEVENT
BEGIN:VEVENT
DTSTART;TZID=America/Chicago:20250420T120000
DTEND;TZID=America/Chicago:20250420T173000
DTSTAMP:20260420T022855
CREATED:20250109T173859Z
LAST-MODIFIED:20250117T180815Z
UID:10002160-1745150400-1745170200@christchurch.codestagingdevelopment.com
SUMMARY:Easter Services
DESCRIPTION:Sanctuary\n9 & 11 a.m. Worship Services \n\n\n\n\nChapel\n7 a.m. Sunrise Service \n\n\n\nA livestream of the 11 a.m. service will be available at ChristChurchPlano.org/Live
URL:https://christchurch.codestagingdevelopment.com/event/easter-services/
LOCATION:Sanctuary
CATEGORIES:Worship
END:VEVENT
BEGIN:VEVENT
DTSTART;TZID=America/Chicago:20250419T000000
DTEND;TZID=America/Chicago:20250419T011500
DTSTAMP:20260420T022856
CREATED:20250109T173020Z
LAST-MODIFIED:20250117T180818Z
UID:10001596-1745020800-1745025300@christchurch.codestagingdevelopment.com
SUMMARY:Liturgy of the Passion
DESCRIPTION:
URL:https://christchurch.codestagingdevelopment.com/event/liturgy-of-the-passion/
LOCATION:Sanctuary
CATEGORIES:Worship
END:VEVENT
BEGIN:VEVENT
DTSTART;TZID=America/Chicago:20250418T170000
DTEND;TZID=America/Chicago:20250418T181500
DTSTAMP:20260420T022856
CREATED:20250109T172756Z
LAST-MODIFIED:20250117T180821Z
UID:10001595-1744995600-1745000100@christchurch.codestagingdevelopment.com
SUMMARY:Stations of the Cross
DESCRIPTION:
URL:https://christchurch.codestagingdevelopment.com/event/stations-of-the-cross/
LOCATION:Sanctuary
CATEGORIES:Worship
END:VEVENT
BEGIN:VEVENT
DTSTART;TZID=America/Chicago:20250418T000000
DTEND;TZID=America/Chicago:20250418T011500
DTSTAMP:20260420T022856
CREATED:20250109T172530Z
LAST-MODIFIED:20250117T180825Z
UID:10001594-1744934400-1744938900@christchurch.codestagingdevelopment.com
SUMMARY:Maundy Thursday
DESCRIPTION:
URL:https://christchurch.codestagingdevelopment.com/event/maundy-thursday/
LOCATION:Sanctuary
CATEGORIES:Worship
END:VEVENT
BEGIN:VEVENT
DTSTART;TZID=America/Chicago:20250417T140000
DTEND;TZID=America/Chicago:20250417T143000
DTSTAMP:20260420T022856
CREATED:20250109T173234Z
LAST-MODIFIED:20250117T180831Z
UID:10001635-1744898400-1744900200@christchurch.codestagingdevelopment.com
SUMMARY:Lenten Morning Prayer
DESCRIPTION:
URL:https://christchurch.codestagingdevelopment.com/event/lenten-morning-prayer/2025-04-17/
LOCATION:Chapel
CATEGORIES:Adults,Worship
ATTACH;FMTTYPE=image/webp:https://christchurch.codestagingdevelopment.com/wp-content/uploads/2024/12/chapel-interior-1024.webp
END:VEVENT
BEGIN:VEVENT
DTSTART;TZID=America/Chicago:20250416T230000
DTEND;TZID=America/Chicago:20250417T010000
DTSTAMP:20260420T022856
CREATED:20250109T152923Z
LAST-MODIFIED:20250109T155324Z
UID:10001326-1744844400-1744851600@christchurch.codestagingdevelopment.com
SUMMARY:Family Ministry Wednesdays
DESCRIPTION:
URL:https://christchurch.codestagingdevelopment.com/event/family-ministry-wednesdays/2025-04-16/
LOCATION:Archgate Center
CATEGORIES:High School,Sunday School,Middle School
END:VEVENT
BEGIN:VEVENT
DTSTART;TZID=America/Chicago:20250416T140000
DTEND;TZID=America/Chicago:20250416T143000
DTSTAMP:20260420T022856
CREATED:20250109T173234Z
LAST-MODIFIED:20250117T180831Z
UID:10001634-1744812000-1744813800@christchurch.codestagingdevelopment.com
SUMMARY:Lenten Morning Prayer
DESCRIPTION:
URL:https://christchurch.codestagingdevelopment.com/event/lenten-morning-prayer/2025-04-16/
LOCATION:Chapel
CATEGORIES:Adults,Worship
ATTACH;FMTTYPE=image/webp:https://christchurch.codestagingdevelopment.com/wp-content/uploads/2024/12/chapel-interior-1024.webp
END:VEVENT
BEGIN:VEVENT
DTSTART;TZID=America/Chicago:20250415T140000
DTEND;TZID=America/Chicago:20250415T143000
DTSTAMP:20260420T022856
CREATED:20250109T173234Z
LAST-MODIFIED:20250117T180831Z
UID:10001633-1744725600-1744727400@christchurch.codestagingdevelopment.com
SUMMARY:Lenten Morning Prayer
DESCRIPTION:
URL:https://christchurch.codestagingdevelopment.com/event/lenten-morning-prayer/2025-04-15/
LOCATION:Chapel
CATEGORIES:Adults,Worship
ATTACH;FMTTYPE=image/webp:https://christchurch.codestagingdevelopment.com/wp-content/uploads/2024/12/chapel-interior-1024.webp
END:VEVENT
BEGIN:VEVENT
DTSTART;TZID=America/Chicago:20250414T140000
DTEND;TZID=America/Chicago:20250414T143000
DTSTAMP:20260420T022856
CREATED:20250109T173234Z
LAST-MODIFIED:20250117T180831Z
UID:10001632-1744639200-1744641000@christchurch.codestagingdevelopment.com
SUMMARY:Lenten Morning Prayer
DESCRIPTION:
URL:https://christchurch.codestagingdevelopment.com/event/lenten-morning-prayer/2025-04-14/
LOCATION:Chapel
CATEGORIES:Adults,Worship
ATTACH;FMTTYPE=image/webp:https://christchurch.codestagingdevelopment.com/wp-content/uploads/2024/12/chapel-interior-1024.webp
END:VEVENT
BEGIN:VEVENT
DTSTART;TZID=America/Chicago:20250413T140000
DTEND;TZID=America/Chicago:20250413T171500
DTSTAMP:20260420T022856
CREATED:20250109T192110Z
LAST-MODIFIED:20250114T203641Z
UID:10001912-1744552800-1744564500@christchurch.codestagingdevelopment.com
SUMMARY:Sanctuary Worship
DESCRIPTION:Christ Church celebrates the death and resurrection of our Lord and Savior Jesus Christ through participation in weekly worship and special services. \nLearn more about worship at Christ Church \nWatch recent sermons
URL:https://christchurch.codestagingdevelopment.com/event/sanctuary-worship-2/2025-04-13/
LOCATION:Sanctuary
CATEGORIES:Nursery,Worship
ATTACH;FMTTYPE=image/jpeg:https://christchurch.codestagingdevelopment.com/wp-content/uploads/2025/01/Interior-Sanctuary-960.jpg
END:VEVENT
BEGIN:VEVENT
DTSTART;TZID=America/Chicago:20250413T121500
DTEND;TZID=America/Chicago:20250413T131500
DTSTAMP:20260420T022856
CREATED:20250109T150557Z
LAST-MODIFIED:20250114T203721Z
UID:10001064-1744546500-1744550100@christchurch.codestagingdevelopment.com
SUMMARY:Chapel Worship
DESCRIPTION:Christ Church celebrates the death and resurrection of our Lord and Savior Jesus Christ through participation in weekly worship and special services. \nLearn more about worship at Christ Church \nWatch recent sermons
URL:https://christchurch.codestagingdevelopment.com/event/chapel-worship/2025-04-13/
LOCATION:Chapel
CATEGORIES:Nursery,Worship
ATTACH;FMTTYPE=image/jpeg:https://christchurch.codestagingdevelopment.com/wp-content/uploads/2025/01/Interior-Chapel-960.jpg
END:VEVENT
BEGIN:VEVENT
DTSTART;TZID=America/Chicago:20250410T140000
DTEND;TZID=America/Chicago:20250410T143000
DTSTAMP:20260420T022856
CREATED:20250109T173234Z
LAST-MODIFIED:20250117T180831Z
UID:10001631-1744293600-1744295400@christchurch.codestagingdevelopment.com
SUMMARY:Lenten Morning Prayer
DESCRIPTION:
URL:https://christchurch.codestagingdevelopment.com/event/lenten-morning-prayer/2025-04-10/
LOCATION:Chapel
CATEGORIES:Adults,Worship
ATTACH;FMTTYPE=image/webp:https://christchurch.codestagingdevelopment.com/wp-content/uploads/2024/12/chapel-interior-1024.webp
END:VEVENT
BEGIN:VEVENT
DTSTART;TZID=America/Chicago:20250409T230000
DTEND;TZID=America/Chicago:20250410T010000
DTSTAMP:20260420T022856
CREATED:20250109T152923Z
LAST-MODIFIED:20250109T155324Z
UID:10001325-1744239600-1744246800@christchurch.codestagingdevelopment.com
SUMMARY:Family Ministry Wednesdays
DESCRIPTION:
URL:https://christchurch.codestagingdevelopment.com/event/family-ministry-wednesdays/2025-04-09/
LOCATION:Archgate Center
CATEGORIES:High School,Sunday School,Middle School
END:VEVENT
BEGIN:VEVENT
DTSTART;TZID=America/Chicago:20250409T140000
DTEND;TZID=America/Chicago:20250409T143000
DTSTAMP:20260420T022856
CREATED:20250109T173234Z
LAST-MODIFIED:20250117T180831Z
UID:10001630-1744207200-1744209000@christchurch.codestagingdevelopment.com
SUMMARY:Lenten Morning Prayer
DESCRIPTION:
URL:https://christchurch.codestagingdevelopment.com/event/lenten-morning-prayer/2025-04-09/
LOCATION:Chapel
CATEGORIES:Adults,Worship
ATTACH;FMTTYPE=image/webp:https://christchurch.codestagingdevelopment.com/wp-content/uploads/2024/12/chapel-interior-1024.webp
END:VEVENT
BEGIN:VEVENT
DTSTART;TZID=America/Chicago:20250408T140000
DTEND;TZID=America/Chicago:20250408T143000
DTSTAMP:20260420T022856
CREATED:20250109T173234Z
LAST-MODIFIED:20250117T180831Z
UID:10001629-1744120800-1744122600@christchurch.codestagingdevelopment.com
SUMMARY:Lenten Morning Prayer
DESCRIPTION:
URL:https://christchurch.codestagingdevelopment.com/event/lenten-morning-prayer/2025-04-08/
LOCATION:Chapel
CATEGORIES:Adults,Worship
ATTACH;FMTTYPE=image/webp:https://christchurch.codestagingdevelopment.com/wp-content/uploads/2024/12/chapel-interior-1024.webp
END:VEVENT
BEGIN:VEVENT
DTSTART;TZID=America/Chicago:20250407T140000
DTEND;TZID=America/Chicago:20250407T143000
DTSTAMP:20260420T022856
CREATED:20250109T173234Z
LAST-MODIFIED:20250117T180831Z
UID:10001628-1744034400-1744036200@christchurch.codestagingdevelopment.com
SUMMARY:Lenten Morning Prayer
DESCRIPTION:
URL:https://christchurch.codestagingdevelopment.com/event/lenten-morning-prayer/2025-04-07/
LOCATION:Chapel
CATEGORIES:Adults,Worship
ATTACH;FMTTYPE=image/webp:https://christchurch.codestagingdevelopment.com/wp-content/uploads/2024/12/chapel-interior-1024.webp
END:VEVENT
BEGIN:VEVENT
DTSTART;TZID=America/Chicago:20250406T140000
DTEND;TZID=America/Chicago:20250406T171500
DTSTAMP:20260420T022856
CREATED:20250109T192110Z
LAST-MODIFIED:20250114T203641Z
UID:10001911-1743948000-1743959700@christchurch.codestagingdevelopment.com
SUMMARY:Sanctuary Worship
DESCRIPTION:Christ Church celebrates the death and resurrection of our Lord and Savior Jesus Christ through participation in weekly worship and special services. \nLearn more about worship at Christ Church \nWatch recent sermons
URL:https://christchurch.codestagingdevelopment.com/event/sanctuary-worship-2/2025-04-06/
LOCATION:Sanctuary
CATEGORIES:Nursery,Worship
ATTACH;FMTTYPE=image/jpeg:https://christchurch.codestagingdevelopment.com/wp-content/uploads/2025/01/Interior-Sanctuary-960.jpg
END:VEVENT
BEGIN:VEVENT
DTSTART;TZID=America/Chicago:20250406T121500
DTEND;TZID=America/Chicago:20250406T131500
DTSTAMP:20260420T022856
CREATED:20250109T150557Z
LAST-MODIFIED:20250114T203721Z
UID:10001063-1743941700-1743945300@christchurch.codestagingdevelopment.com
SUMMARY:Chapel Worship
DESCRIPTION:Christ Church celebrates the death and resurrection of our Lord and Savior Jesus Christ through participation in weekly worship and special services. \nLearn more about worship at Christ Church \nWatch recent sermons
URL:https://christchurch.codestagingdevelopment.com/event/chapel-worship/2025-04-06/
LOCATION:Chapel
CATEGORIES:Nursery,Worship
ATTACH;FMTTYPE=image/jpeg:https://christchurch.codestagingdevelopment.com/wp-content/uploads/2025/01/Interior-Chapel-960.jpg
END:VEVENT
BEGIN:VEVENT
DTSTART;TZID=America/Chicago:20250403T140000
DTEND;TZID=America/Chicago:20250403T143000
DTSTAMP:20260420T022856
CREATED:20250109T173234Z
LAST-MODIFIED:20250117T180831Z
UID:10001627-1743688800-1743690600@christchurch.codestagingdevelopment.com
SUMMARY:Lenten Morning Prayer
DESCRIPTION:
URL:https://christchurch.codestagingdevelopment.com/event/lenten-morning-prayer/2025-04-03/
LOCATION:Chapel
CATEGORIES:Adults,Worship
ATTACH;FMTTYPE=image/webp:https://christchurch.codestagingdevelopment.com/wp-content/uploads/2024/12/chapel-interior-1024.webp
END:VEVENT
END:VCALENDAR