BEGIN:VCALENDAR
VERSION:2.0
PRODID:-//Christ Church Plano - ECPv6.9.0//NONSGML v1.0//EN
CALSCALE:GREGORIAN
METHOD:PUBLISH
X-WR-CALNAME:Christ Church Plano
X-ORIGINAL-URL:https://christchurch.codestagingdevelopment.com
X-WR-CALDESC:Events for Christ Church Plano
REFRESH-INTERVAL;VALUE=DURATION:PT1H
X-Robots-Tag:noindex
X-PUBLISHED-TTL:PT1H
BEGIN:VTIMEZONE
TZID:America/Chicago
BEGIN:DAYLIGHT
TZOFFSETFROM:-0600
TZOFFSETTO:-0500
TZNAME:CDT
DTSTART:20280312T080000
END:DAYLIGHT
BEGIN:STANDARD
TZOFFSETFROM:-0500
TZOFFSETTO:-0600
TZNAME:CST
DTSTART:20281105T070000
END:STANDARD
END:VTIMEZONE
BEGIN:VEVENT
DTSTART;TZID=America/Chicago:20280227T131500
DTEND;TZID=America/Chicago:20280227T141500
DTSTAMP:20260425T194702
CREATED:20250109T150557Z
LAST-MODIFIED:20250114T203721Z
UID:10001214-1835270100-1835273700@christchurch.codestagingdevelopment.com
SUMMARY:Chapel Worship
DESCRIPTION:Christ Church celebrates the death and resurrection of our Lord and Savior Jesus Christ through participation in weekly worship and special services. \nLearn more about worship at Christ Church \nWatch recent sermons
URL:https://christchurch.codestagingdevelopment.com/event/chapel-worship/2028-02-27/
LOCATION:Chapel
CATEGORIES:Nursery,Worship
ATTACH;FMTTYPE=image/jpeg:https://christchurch.codestagingdevelopment.com/wp-content/uploads/2025/01/Interior-Chapel-960.jpg
END:VEVENT
BEGIN:VEVENT
DTSTART;TZID=America/Chicago:20280227T150000
DTEND;TZID=America/Chicago:20280227T181500
DTSTAMP:20260425T194702
CREATED:20250109T192110Z
LAST-MODIFIED:20250114T203641Z
UID:10002062-1835276400-1835288100@christchurch.codestagingdevelopment.com
SUMMARY:Sanctuary Worship
DESCRIPTION:Christ Church celebrates the death and resurrection of our Lord and Savior Jesus Christ through participation in weekly worship and special services. \nLearn more about worship at Christ Church \nWatch recent sermons
URL:https://christchurch.codestagingdevelopment.com/event/sanctuary-worship-2/2028-02-27/
LOCATION:Sanctuary
CATEGORIES:Nursery,Worship
ATTACH;FMTTYPE=image/jpeg:https://christchurch.codestagingdevelopment.com/wp-content/uploads/2025/01/Interior-Sanctuary-960.jpg
END:VEVENT
BEGIN:VEVENT
DTSTART;TZID=America/Chicago:20280229T150000
DTEND;TZID=America/Chicago:20280229T153000
DTSTAMP:20260425T194702
CREATED:20250109T151802Z
LAST-MODIFIED:20250114T203748Z
UID:10000952-1835449200-1835451000@christchurch.codestagingdevelopment.com
SUMMARY:Tuesday Chapel
DESCRIPTION:Join us for a brief service of Morning Prayer and a gospel message. \nLearn more about worship at Christ Church \nWatch recent sermons
URL:https://christchurch.codestagingdevelopment.com/event/tuesday-chapel/2028-02-29/
LOCATION:Chapel
CATEGORIES:Worship
ATTACH;FMTTYPE=image/jpeg:https://christchurch.codestagingdevelopment.com/wp-content/uploads/2025/01/Interior-Chapel-960.jpg
END:VEVENT
BEGIN:VEVENT
DTSTART;TZID=America/Chicago:20280305T131500
DTEND;TZID=America/Chicago:20280305T141500
DTSTAMP:20260425T194702
CREATED:20250109T150557Z
LAST-MODIFIED:20250114T203721Z
UID:10001215-1835874900-1835878500@christchurch.codestagingdevelopment.com
SUMMARY:Chapel Worship
DESCRIPTION:Christ Church celebrates the death and resurrection of our Lord and Savior Jesus Christ through participation in weekly worship and special services. \nLearn more about worship at Christ Church \nWatch recent sermons
URL:https://christchurch.codestagingdevelopment.com/event/chapel-worship/2028-03-05/
LOCATION:Chapel
CATEGORIES:Nursery,Worship
ATTACH;FMTTYPE=image/jpeg:https://christchurch.codestagingdevelopment.com/wp-content/uploads/2025/01/Interior-Chapel-960.jpg
END:VEVENT
BEGIN:VEVENT
DTSTART;TZID=America/Chicago:20280305T150000
DTEND;TZID=America/Chicago:20280305T181500
DTSTAMP:20260425T194702
CREATED:20250109T192110Z
LAST-MODIFIED:20250114T203641Z
UID:10002063-1835881200-1835892900@christchurch.codestagingdevelopment.com
SUMMARY:Sanctuary Worship
DESCRIPTION:Christ Church celebrates the death and resurrection of our Lord and Savior Jesus Christ through participation in weekly worship and special services. \nLearn more about worship at Christ Church \nWatch recent sermons
URL:https://christchurch.codestagingdevelopment.com/event/sanctuary-worship-2/2028-03-05/
LOCATION:Sanctuary
CATEGORIES:Nursery,Worship
ATTACH;FMTTYPE=image/jpeg:https://christchurch.codestagingdevelopment.com/wp-content/uploads/2025/01/Interior-Sanctuary-960.jpg
END:VEVENT
BEGIN:VEVENT
DTSTART;TZID=America/Chicago:20280307T150000
DTEND;TZID=America/Chicago:20280307T153000
DTSTAMP:20260425T194702
CREATED:20250109T151802Z
LAST-MODIFIED:20250114T203748Z
UID:10000953-1836054000-1836055800@christchurch.codestagingdevelopment.com
SUMMARY:Tuesday Chapel
DESCRIPTION:Join us for a brief service of Morning Prayer and a gospel message. \nLearn more about worship at Christ Church \nWatch recent sermons
URL:https://christchurch.codestagingdevelopment.com/event/tuesday-chapel/2028-03-07/
LOCATION:Chapel
CATEGORIES:Worship
ATTACH;FMTTYPE=image/jpeg:https://christchurch.codestagingdevelopment.com/wp-content/uploads/2025/01/Interior-Chapel-960.jpg
END:VEVENT
BEGIN:VEVENT
DTSTART;TZID=America/Chicago:20280312T121500
DTEND;TZID=America/Chicago:20280312T131500
DTSTAMP:20260425T194702
CREATED:20250109T150557Z
LAST-MODIFIED:20250114T203721Z
UID:10001216-1836476100-1836479700@christchurch.codestagingdevelopment.com
SUMMARY:Chapel Worship
DESCRIPTION:Christ Church celebrates the death and resurrection of our Lord and Savior Jesus Christ through participation in weekly worship and special services. \nLearn more about worship at Christ Church \nWatch recent sermons
URL:https://christchurch.codestagingdevelopment.com/event/chapel-worship/2028-03-12/
LOCATION:Chapel
CATEGORIES:Nursery,Worship
ATTACH;FMTTYPE=image/jpeg:https://christchurch.codestagingdevelopment.com/wp-content/uploads/2025/01/Interior-Chapel-960.jpg
END:VEVENT
BEGIN:VEVENT
DTSTART;TZID=America/Chicago:20280312T140000
DTEND;TZID=America/Chicago:20280312T171500
DTSTAMP:20260425T194702
CREATED:20250109T192110Z
LAST-MODIFIED:20250114T203641Z
UID:10002064-1836482400-1836494100@christchurch.codestagingdevelopment.com
SUMMARY:Sanctuary Worship
DESCRIPTION:Christ Church celebrates the death and resurrection of our Lord and Savior Jesus Christ through participation in weekly worship and special services. \nLearn more about worship at Christ Church \nWatch recent sermons
URL:https://christchurch.codestagingdevelopment.com/event/sanctuary-worship-2/2028-03-12/
LOCATION:Sanctuary
CATEGORIES:Nursery,Worship
ATTACH;FMTTYPE=image/jpeg:https://christchurch.codestagingdevelopment.com/wp-content/uploads/2025/01/Interior-Sanctuary-960.jpg
END:VEVENT
BEGIN:VEVENT
DTSTART;TZID=America/Chicago:20280314T140000
DTEND;TZID=America/Chicago:20280314T143000
DTSTAMP:20260425T194702
CREATED:20250109T151802Z
LAST-MODIFIED:20250114T203748Z
UID:10000954-1836655200-1836657000@christchurch.codestagingdevelopment.com
SUMMARY:Tuesday Chapel
DESCRIPTION:Join us for a brief service of Morning Prayer and a gospel message. \nLearn more about worship at Christ Church \nWatch recent sermons
URL:https://christchurch.codestagingdevelopment.com/event/tuesday-chapel/2028-03-14/
LOCATION:Chapel
CATEGORIES:Worship
ATTACH;FMTTYPE=image/jpeg:https://christchurch.codestagingdevelopment.com/wp-content/uploads/2025/01/Interior-Chapel-960.jpg
END:VEVENT
BEGIN:VEVENT
DTSTART;TZID=America/Chicago:20280319T121500
DTEND;TZID=America/Chicago:20280319T131500
DTSTAMP:20260425T194702
CREATED:20250109T150557Z
LAST-MODIFIED:20250114T203721Z
UID:10001217-1837080900-1837084500@christchurch.codestagingdevelopment.com
SUMMARY:Chapel Worship
DESCRIPTION:Christ Church celebrates the death and resurrection of our Lord and Savior Jesus Christ through participation in weekly worship and special services. \nLearn more about worship at Christ Church \nWatch recent sermons
URL:https://christchurch.codestagingdevelopment.com/event/chapel-worship/2028-03-19/
LOCATION:Chapel
CATEGORIES:Nursery,Worship
ATTACH;FMTTYPE=image/jpeg:https://christchurch.codestagingdevelopment.com/wp-content/uploads/2025/01/Interior-Chapel-960.jpg
END:VEVENT
BEGIN:VEVENT
DTSTART;TZID=America/Chicago:20280319T140000
DTEND;TZID=America/Chicago:20280319T171500
DTSTAMP:20260425T194702
CREATED:20250109T192110Z
LAST-MODIFIED:20250114T203641Z
UID:10002065-1837087200-1837098900@christchurch.codestagingdevelopment.com
SUMMARY:Sanctuary Worship
DESCRIPTION:Christ Church celebrates the death and resurrection of our Lord and Savior Jesus Christ through participation in weekly worship and special services. \nLearn more about worship at Christ Church \nWatch recent sermons
URL:https://christchurch.codestagingdevelopment.com/event/sanctuary-worship-2/2028-03-19/
LOCATION:Sanctuary
CATEGORIES:Nursery,Worship
ATTACH;FMTTYPE=image/jpeg:https://christchurch.codestagingdevelopment.com/wp-content/uploads/2025/01/Interior-Sanctuary-960.jpg
END:VEVENT
BEGIN:VEVENT
DTSTART;TZID=America/Chicago:20280321T140000
DTEND;TZID=America/Chicago:20280321T143000
DTSTAMP:20260425T194702
CREATED:20250109T151802Z
LAST-MODIFIED:20250114T203748Z
UID:10000955-1837260000-1837261800@christchurch.codestagingdevelopment.com
SUMMARY:Tuesday Chapel
DESCRIPTION:Join us for a brief service of Morning Prayer and a gospel message. \nLearn more about worship at Christ Church \nWatch recent sermons
URL:https://christchurch.codestagingdevelopment.com/event/tuesday-chapel/2028-03-21/
LOCATION:Chapel
CATEGORIES:Worship
ATTACH;FMTTYPE=image/jpeg:https://christchurch.codestagingdevelopment.com/wp-content/uploads/2025/01/Interior-Chapel-960.jpg
END:VEVENT
BEGIN:VEVENT
DTSTART;TZID=America/Chicago:20280326T121500
DTEND;TZID=America/Chicago:20280326T131500
DTSTAMP:20260425T194702
CREATED:20250109T150557Z
LAST-MODIFIED:20250114T203721Z
UID:10001218-1837685700-1837689300@christchurch.codestagingdevelopment.com
SUMMARY:Chapel Worship
DESCRIPTION:Christ Church celebrates the death and resurrection of our Lord and Savior Jesus Christ through participation in weekly worship and special services. \nLearn more about worship at Christ Church \nWatch recent sermons
URL:https://christchurch.codestagingdevelopment.com/event/chapel-worship/2028-03-26/
LOCATION:Chapel
CATEGORIES:Nursery,Worship
ATTACH;FMTTYPE=image/jpeg:https://christchurch.codestagingdevelopment.com/wp-content/uploads/2025/01/Interior-Chapel-960.jpg
END:VEVENT
BEGIN:VEVENT
DTSTART;TZID=America/Chicago:20280326T140000
DTEND;TZID=America/Chicago:20280326T171500
DTSTAMP:20260425T194702
CREATED:20250109T192110Z
LAST-MODIFIED:20250114T203641Z
UID:10002066-1837692000-1837703700@christchurch.codestagingdevelopment.com
SUMMARY:Sanctuary Worship
DESCRIPTION:Christ Church celebrates the death and resurrection of our Lord and Savior Jesus Christ through participation in weekly worship and special services. \nLearn more about worship at Christ Church \nWatch recent sermons
URL:https://christchurch.codestagingdevelopment.com/event/sanctuary-worship-2/2028-03-26/
LOCATION:Sanctuary
CATEGORIES:Nursery,Worship
ATTACH;FMTTYPE=image/jpeg:https://christchurch.codestagingdevelopment.com/wp-content/uploads/2025/01/Interior-Sanctuary-960.jpg
END:VEVENT
BEGIN:VEVENT
DTSTART;TZID=America/Chicago:20280328T140000
DTEND;TZID=America/Chicago:20280328T143000
DTSTAMP:20260425T194702
CREATED:20250109T151802Z
LAST-MODIFIED:20250114T203748Z
UID:10000956-1837864800-1837866600@christchurch.codestagingdevelopment.com
SUMMARY:Tuesday Chapel
DESCRIPTION:Join us for a brief service of Morning Prayer and a gospel message. \nLearn more about worship at Christ Church \nWatch recent sermons
URL:https://christchurch.codestagingdevelopment.com/event/tuesday-chapel/2028-03-28/
LOCATION:Chapel
CATEGORIES:Worship
ATTACH;FMTTYPE=image/jpeg:https://christchurch.codestagingdevelopment.com/wp-content/uploads/2025/01/Interior-Chapel-960.jpg
END:VEVENT
BEGIN:VEVENT
DTSTART;TZID=America/Chicago:20280402T121500
DTEND;TZID=America/Chicago:20280402T131500
DTSTAMP:20260425T194702
CREATED:20250109T150557Z
LAST-MODIFIED:20250114T203721Z
UID:10001219-1838290500-1838294100@christchurch.codestagingdevelopment.com
SUMMARY:Chapel Worship
DESCRIPTION:Christ Church celebrates the death and resurrection of our Lord and Savior Jesus Christ through participation in weekly worship and special services. \nLearn more about worship at Christ Church \nWatch recent sermons
URL:https://christchurch.codestagingdevelopment.com/event/chapel-worship/2028-04-02/
LOCATION:Chapel
CATEGORIES:Nursery,Worship
ATTACH;FMTTYPE=image/jpeg:https://christchurch.codestagingdevelopment.com/wp-content/uploads/2025/01/Interior-Chapel-960.jpg
END:VEVENT
BEGIN:VEVENT
DTSTART;TZID=America/Chicago:20280402T140000
DTEND;TZID=America/Chicago:20280402T171500
DTSTAMP:20260425T194702
CREATED:20250109T192110Z
LAST-MODIFIED:20250114T203641Z
UID:10002067-1838296800-1838308500@christchurch.codestagingdevelopment.com
SUMMARY:Sanctuary Worship
DESCRIPTION:Christ Church celebrates the death and resurrection of our Lord and Savior Jesus Christ through participation in weekly worship and special services. \nLearn more about worship at Christ Church \nWatch recent sermons
URL:https://christchurch.codestagingdevelopment.com/event/sanctuary-worship-2/2028-04-02/
LOCATION:Sanctuary
CATEGORIES:Nursery,Worship
ATTACH;FMTTYPE=image/jpeg:https://christchurch.codestagingdevelopment.com/wp-content/uploads/2025/01/Interior-Sanctuary-960.jpg
END:VEVENT
BEGIN:VEVENT
DTSTART;TZID=America/Chicago:20280404T140000
DTEND;TZID=America/Chicago:20280404T143000
DTSTAMP:20260425T194702
CREATED:20250109T151802Z
LAST-MODIFIED:20250114T203748Z
UID:10000957-1838469600-1838471400@christchurch.codestagingdevelopment.com
SUMMARY:Tuesday Chapel
DESCRIPTION:Join us for a brief service of Morning Prayer and a gospel message. \nLearn more about worship at Christ Church \nWatch recent sermons
URL:https://christchurch.codestagingdevelopment.com/event/tuesday-chapel/2028-04-04/
LOCATION:Chapel
CATEGORIES:Worship
ATTACH;FMTTYPE=image/jpeg:https://christchurch.codestagingdevelopment.com/wp-content/uploads/2025/01/Interior-Chapel-960.jpg
END:VEVENT
BEGIN:VEVENT
DTSTART;TZID=America/Chicago:20280409T121500
DTEND;TZID=America/Chicago:20280409T131500
DTSTAMP:20260425T194702
CREATED:20250109T150557Z
LAST-MODIFIED:20250114T203721Z
UID:10001220-1838895300-1838898900@christchurch.codestagingdevelopment.com
SUMMARY:Chapel Worship
DESCRIPTION:Christ Church celebrates the death and resurrection of our Lord and Savior Jesus Christ through participation in weekly worship and special services. \nLearn more about worship at Christ Church \nWatch recent sermons
URL:https://christchurch.codestagingdevelopment.com/event/chapel-worship/2028-04-09/
LOCATION:Chapel
CATEGORIES:Nursery,Worship
ATTACH;FMTTYPE=image/jpeg:https://christchurch.codestagingdevelopment.com/wp-content/uploads/2025/01/Interior-Chapel-960.jpg
END:VEVENT
BEGIN:VEVENT
DTSTART;TZID=America/Chicago:20280409T140000
DTEND;TZID=America/Chicago:20280409T171500
DTSTAMP:20260425T194702
CREATED:20250109T192110Z
LAST-MODIFIED:20250114T203641Z
UID:10002068-1838901600-1838913300@christchurch.codestagingdevelopment.com
SUMMARY:Sanctuary Worship
DESCRIPTION:Christ Church celebrates the death and resurrection of our Lord and Savior Jesus Christ through participation in weekly worship and special services. \nLearn more about worship at Christ Church \nWatch recent sermons
URL:https://christchurch.codestagingdevelopment.com/event/sanctuary-worship-2/2028-04-09/
LOCATION:Sanctuary
CATEGORIES:Nursery,Worship
ATTACH;FMTTYPE=image/jpeg:https://christchurch.codestagingdevelopment.com/wp-content/uploads/2025/01/Interior-Sanctuary-960.jpg
END:VEVENT
BEGIN:VEVENT
DTSTART;TZID=America/Chicago:20280411T140000
DTEND;TZID=America/Chicago:20280411T143000
DTSTAMP:20260425T194702
CREATED:20250109T151802Z
LAST-MODIFIED:20250114T203748Z
UID:10000958-1839074400-1839076200@christchurch.codestagingdevelopment.com
SUMMARY:Tuesday Chapel
DESCRIPTION:Join us for a brief service of Morning Prayer and a gospel message. \nLearn more about worship at Christ Church \nWatch recent sermons
URL:https://christchurch.codestagingdevelopment.com/event/tuesday-chapel/2028-04-11/
LOCATION:Chapel
CATEGORIES:Worship
ATTACH;FMTTYPE=image/jpeg:https://christchurch.codestagingdevelopment.com/wp-content/uploads/2025/01/Interior-Chapel-960.jpg
END:VEVENT
BEGIN:VEVENT
DTSTART;TZID=America/Chicago:20280416T121500
DTEND;TZID=America/Chicago:20280416T131500
DTSTAMP:20260425T194702
CREATED:20250109T150557Z
LAST-MODIFIED:20250114T203721Z
UID:10001221-1839500100-1839503700@christchurch.codestagingdevelopment.com
SUMMARY:Chapel Worship
DESCRIPTION:Christ Church celebrates the death and resurrection of our Lord and Savior Jesus Christ through participation in weekly worship and special services. \nLearn more about worship at Christ Church \nWatch recent sermons
URL:https://christchurch.codestagingdevelopment.com/event/chapel-worship/2028-04-16/
LOCATION:Chapel
CATEGORIES:Nursery,Worship
ATTACH;FMTTYPE=image/jpeg:https://christchurch.codestagingdevelopment.com/wp-content/uploads/2025/01/Interior-Chapel-960.jpg
END:VEVENT
BEGIN:VEVENT
DTSTART;TZID=America/Chicago:20280416T140000
DTEND;TZID=America/Chicago:20280416T171500
DTSTAMP:20260425T194702
CREATED:20250109T192110Z
LAST-MODIFIED:20250114T203641Z
UID:10002069-1839506400-1839518100@christchurch.codestagingdevelopment.com
SUMMARY:Sanctuary Worship
DESCRIPTION:Christ Church celebrates the death and resurrection of our Lord and Savior Jesus Christ through participation in weekly worship and special services. \nLearn more about worship at Christ Church \nWatch recent sermons
URL:https://christchurch.codestagingdevelopment.com/event/sanctuary-worship-2/2028-04-16/
LOCATION:Sanctuary
CATEGORIES:Nursery,Worship
ATTACH;FMTTYPE=image/jpeg:https://christchurch.codestagingdevelopment.com/wp-content/uploads/2025/01/Interior-Sanctuary-960.jpg
END:VEVENT
BEGIN:VEVENT
DTSTART;TZID=America/Chicago:20280418T140000
DTEND;TZID=America/Chicago:20280418T143000
DTSTAMP:20260425T194702
CREATED:20250109T151802Z
LAST-MODIFIED:20250114T203748Z
UID:10000959-1839679200-1839681000@christchurch.codestagingdevelopment.com
SUMMARY:Tuesday Chapel
DESCRIPTION:Join us for a brief service of Morning Prayer and a gospel message. \nLearn more about worship at Christ Church \nWatch recent sermons
URL:https://christchurch.codestagingdevelopment.com/event/tuesday-chapel/2028-04-18/
LOCATION:Chapel
CATEGORIES:Worship
ATTACH;FMTTYPE=image/jpeg:https://christchurch.codestagingdevelopment.com/wp-content/uploads/2025/01/Interior-Chapel-960.jpg
END:VEVENT
BEGIN:VEVENT
DTSTART;TZID=America/Chicago:20280423T121500
DTEND;TZID=America/Chicago:20280423T131500
DTSTAMP:20260425T194703
CREATED:20250109T150557Z
LAST-MODIFIED:20250114T203721Z
UID:10001222-1840104900-1840108500@christchurch.codestagingdevelopment.com
SUMMARY:Chapel Worship
DESCRIPTION:Christ Church celebrates the death and resurrection of our Lord and Savior Jesus Christ through participation in weekly worship and special services. \nLearn more about worship at Christ Church \nWatch recent sermons
URL:https://christchurch.codestagingdevelopment.com/event/chapel-worship/2028-04-23/
LOCATION:Chapel
CATEGORIES:Nursery,Worship
ATTACH;FMTTYPE=image/jpeg:https://christchurch.codestagingdevelopment.com/wp-content/uploads/2025/01/Interior-Chapel-960.jpg
END:VEVENT
BEGIN:VEVENT
DTSTART;TZID=America/Chicago:20280423T140000
DTEND;TZID=America/Chicago:20280423T171500
DTSTAMP:20260425T194703
CREATED:20250109T192110Z
LAST-MODIFIED:20250114T203641Z
UID:10002070-1840111200-1840122900@christchurch.codestagingdevelopment.com
SUMMARY:Sanctuary Worship
DESCRIPTION:Christ Church celebrates the death and resurrection of our Lord and Savior Jesus Christ through participation in weekly worship and special services. \nLearn more about worship at Christ Church \nWatch recent sermons
URL:https://christchurch.codestagingdevelopment.com/event/sanctuary-worship-2/2028-04-23/
LOCATION:Sanctuary
CATEGORIES:Nursery,Worship
ATTACH;FMTTYPE=image/jpeg:https://christchurch.codestagingdevelopment.com/wp-content/uploads/2025/01/Interior-Sanctuary-960.jpg
END:VEVENT
BEGIN:VEVENT
DTSTART;TZID=America/Chicago:20280425T140000
DTEND;TZID=America/Chicago:20280425T143000
DTSTAMP:20260425T194703
CREATED:20250109T151802Z
LAST-MODIFIED:20250114T203748Z
UID:10000960-1840284000-1840285800@christchurch.codestagingdevelopment.com
SUMMARY:Tuesday Chapel
DESCRIPTION:Join us for a brief service of Morning Prayer and a gospel message. \nLearn more about worship at Christ Church \nWatch recent sermons
URL:https://christchurch.codestagingdevelopment.com/event/tuesday-chapel/2028-04-25/
LOCATION:Chapel
CATEGORIES:Worship
ATTACH;FMTTYPE=image/jpeg:https://christchurch.codestagingdevelopment.com/wp-content/uploads/2025/01/Interior-Chapel-960.jpg
END:VEVENT
BEGIN:VEVENT
DTSTART;TZID=America/Chicago:20280430T121500
DTEND;TZID=America/Chicago:20280430T131500
DTSTAMP:20260425T194703
CREATED:20250109T150557Z
LAST-MODIFIED:20250114T203721Z
UID:10001223-1840709700-1840713300@christchurch.codestagingdevelopment.com
SUMMARY:Chapel Worship
DESCRIPTION:Christ Church celebrates the death and resurrection of our Lord and Savior Jesus Christ through participation in weekly worship and special services. \nLearn more about worship at Christ Church \nWatch recent sermons
URL:https://christchurch.codestagingdevelopment.com/event/chapel-worship/2028-04-30/
LOCATION:Chapel
CATEGORIES:Nursery,Worship
ATTACH;FMTTYPE=image/jpeg:https://christchurch.codestagingdevelopment.com/wp-content/uploads/2025/01/Interior-Chapel-960.jpg
END:VEVENT
BEGIN:VEVENT
DTSTART;TZID=America/Chicago:20280430T140000
DTEND;TZID=America/Chicago:20280430T171500
DTSTAMP:20260425T194703
CREATED:20250109T192110Z
LAST-MODIFIED:20250114T203641Z
UID:10002071-1840716000-1840727700@christchurch.codestagingdevelopment.com
SUMMARY:Sanctuary Worship
DESCRIPTION:Christ Church celebrates the death and resurrection of our Lord and Savior Jesus Christ through participation in weekly worship and special services. \nLearn more about worship at Christ Church \nWatch recent sermons
URL:https://christchurch.codestagingdevelopment.com/event/sanctuary-worship-2/2028-04-30/
LOCATION:Sanctuary
CATEGORIES:Nursery,Worship
ATTACH;FMTTYPE=image/jpeg:https://christchurch.codestagingdevelopment.com/wp-content/uploads/2025/01/Interior-Sanctuary-960.jpg
END:VEVENT
BEGIN:VEVENT
DTSTART;TZID=America/Chicago:20280502T140000
DTEND;TZID=America/Chicago:20280502T143000
DTSTAMP:20260425T194703
CREATED:20250109T151802Z
LAST-MODIFIED:20250114T203748Z
UID:10000961-1840888800-1840890600@christchurch.codestagingdevelopment.com
SUMMARY:Tuesday Chapel
DESCRIPTION:Join us for a brief service of Morning Prayer and a gospel message. \nLearn more about worship at Christ Church \nWatch recent sermons
URL:https://christchurch.codestagingdevelopment.com/event/tuesday-chapel/2028-05-02/
LOCATION:Chapel
CATEGORIES:Worship
ATTACH;FMTTYPE=image/jpeg:https://christchurch.codestagingdevelopment.com/wp-content/uploads/2025/01/Interior-Chapel-960.jpg
END:VEVENT
END:VCALENDAR