BEGIN:VCALENDAR
VERSION:2.0
PRODID:-//Christ Church Plano - ECPv6.9.0//NONSGML v1.0//EN
CALSCALE:GREGORIAN
METHOD:PUBLISH
X-WR-CALNAME:Christ Church Plano
X-ORIGINAL-URL:https://christchurch.codestagingdevelopment.com
X-WR-CALDESC:Events for Christ Church Plano
REFRESH-INTERVAL;VALUE=DURATION:PT1H
X-Robots-Tag:noindex
X-PUBLISHED-TTL:PT1H
BEGIN:VTIMEZONE
TZID:America/Chicago
BEGIN:DAYLIGHT
TZOFFSETFROM:-0600
TZOFFSETTO:-0500
TZNAME:CDT
DTSTART:20270314T080000
END:DAYLIGHT
BEGIN:STANDARD
TZOFFSETFROM:-0500
TZOFFSETTO:-0600
TZNAME:CST
DTSTART:20271107T070000
END:STANDARD
END:VTIMEZONE
BEGIN:VEVENT
DTSTART;TZID=America/Chicago:20270126T150000
DTEND;TZID=America/Chicago:20270126T153000
DTSTAMP:20260420T131534
CREATED:20250109T151802Z
LAST-MODIFIED:20250114T203748Z
UID:10000895-1800975600-1800977400@christchurch.codestagingdevelopment.com
SUMMARY:Tuesday Chapel
DESCRIPTION:Join us for a brief service of Morning Prayer and a gospel message. \nLearn more about worship at Christ Church \nWatch recent sermons
URL:https://christchurch.codestagingdevelopment.com/event/tuesday-chapel/2027-01-26/
LOCATION:Chapel
CATEGORIES:Worship
ATTACH;FMTTYPE=image/jpeg:https://christchurch.codestagingdevelopment.com/wp-content/uploads/2025/01/Interior-Chapel-960.jpg
END:VEVENT
BEGIN:VEVENT
DTSTART;TZID=America/Chicago:20270131T131500
DTEND;TZID=America/Chicago:20270131T141500
DTSTAMP:20260420T131534
CREATED:20250109T150557Z
LAST-MODIFIED:20250114T203721Z
UID:10001158-1801401300-1801404900@christchurch.codestagingdevelopment.com
SUMMARY:Chapel Worship
DESCRIPTION:Christ Church celebrates the death and resurrection of our Lord and Savior Jesus Christ through participation in weekly worship and special services. \nLearn more about worship at Christ Church \nWatch recent sermons
URL:https://christchurch.codestagingdevelopment.com/event/chapel-worship/2027-01-31/
LOCATION:Chapel
CATEGORIES:Nursery,Worship
ATTACH;FMTTYPE=image/jpeg:https://christchurch.codestagingdevelopment.com/wp-content/uploads/2025/01/Interior-Chapel-960.jpg
END:VEVENT
BEGIN:VEVENT
DTSTART;TZID=America/Chicago:20270131T150000
DTEND;TZID=America/Chicago:20270131T181500
DTSTAMP:20260420T131535
CREATED:20250109T192110Z
LAST-MODIFIED:20250114T203641Z
UID:10002006-1801407600-1801419300@christchurch.codestagingdevelopment.com
SUMMARY:Sanctuary Worship
DESCRIPTION:Christ Church celebrates the death and resurrection of our Lord and Savior Jesus Christ through participation in weekly worship and special services. \nLearn more about worship at Christ Church \nWatch recent sermons
URL:https://christchurch.codestagingdevelopment.com/event/sanctuary-worship-2/2027-01-31/
LOCATION:Sanctuary
CATEGORIES:Nursery,Worship
ATTACH;FMTTYPE=image/jpeg:https://christchurch.codestagingdevelopment.com/wp-content/uploads/2025/01/Interior-Sanctuary-960.jpg
END:VEVENT
BEGIN:VEVENT
DTSTART;TZID=America/Chicago:20270202T150000
DTEND;TZID=America/Chicago:20270202T153000
DTSTAMP:20260420T131535
CREATED:20250109T151802Z
LAST-MODIFIED:20250114T203748Z
UID:10000896-1801580400-1801582200@christchurch.codestagingdevelopment.com
SUMMARY:Tuesday Chapel
DESCRIPTION:Join us for a brief service of Morning Prayer and a gospel message. \nLearn more about worship at Christ Church \nWatch recent sermons
URL:https://christchurch.codestagingdevelopment.com/event/tuesday-chapel/2027-02-02/
LOCATION:Chapel
CATEGORIES:Worship
ATTACH;FMTTYPE=image/jpeg:https://christchurch.codestagingdevelopment.com/wp-content/uploads/2025/01/Interior-Chapel-960.jpg
END:VEVENT
BEGIN:VEVENT
DTSTART;TZID=America/Chicago:20270207T131500
DTEND;TZID=America/Chicago:20270207T141500
DTSTAMP:20260420T131535
CREATED:20250109T150557Z
LAST-MODIFIED:20250114T203721Z
UID:10001159-1802006100-1802009700@christchurch.codestagingdevelopment.com
SUMMARY:Chapel Worship
DESCRIPTION:Christ Church celebrates the death and resurrection of our Lord and Savior Jesus Christ through participation in weekly worship and special services. \nLearn more about worship at Christ Church \nWatch recent sermons
URL:https://christchurch.codestagingdevelopment.com/event/chapel-worship/2027-02-07/
LOCATION:Chapel
CATEGORIES:Nursery,Worship
ATTACH;FMTTYPE=image/jpeg:https://christchurch.codestagingdevelopment.com/wp-content/uploads/2025/01/Interior-Chapel-960.jpg
END:VEVENT
BEGIN:VEVENT
DTSTART;TZID=America/Chicago:20270207T150000
DTEND;TZID=America/Chicago:20270207T181500
DTSTAMP:20260420T131535
CREATED:20250109T192110Z
LAST-MODIFIED:20250114T203641Z
UID:10002007-1802012400-1802024100@christchurch.codestagingdevelopment.com
SUMMARY:Sanctuary Worship
DESCRIPTION:Christ Church celebrates the death and resurrection of our Lord and Savior Jesus Christ through participation in weekly worship and special services. \nLearn more about worship at Christ Church \nWatch recent sermons
URL:https://christchurch.codestagingdevelopment.com/event/sanctuary-worship-2/2027-02-07/
LOCATION:Sanctuary
CATEGORIES:Nursery,Worship
ATTACH;FMTTYPE=image/jpeg:https://christchurch.codestagingdevelopment.com/wp-content/uploads/2025/01/Interior-Sanctuary-960.jpg
END:VEVENT
BEGIN:VEVENT
DTSTART;TZID=America/Chicago:20270209T150000
DTEND;TZID=America/Chicago:20270209T153000
DTSTAMP:20260420T131535
CREATED:20250109T151802Z
LAST-MODIFIED:20250114T203748Z
UID:10000897-1802185200-1802187000@christchurch.codestagingdevelopment.com
SUMMARY:Tuesday Chapel
DESCRIPTION:Join us for a brief service of Morning Prayer and a gospel message. \nLearn more about worship at Christ Church \nWatch recent sermons
URL:https://christchurch.codestagingdevelopment.com/event/tuesday-chapel/2027-02-09/
LOCATION:Chapel
CATEGORIES:Worship
ATTACH;FMTTYPE=image/jpeg:https://christchurch.codestagingdevelopment.com/wp-content/uploads/2025/01/Interior-Chapel-960.jpg
END:VEVENT
BEGIN:VEVENT
DTSTART;TZID=America/Chicago:20270214T131500
DTEND;TZID=America/Chicago:20270214T141500
DTSTAMP:20260420T131535
CREATED:20250109T150557Z
LAST-MODIFIED:20250114T203721Z
UID:10001160-1802610900-1802614500@christchurch.codestagingdevelopment.com
SUMMARY:Chapel Worship
DESCRIPTION:Christ Church celebrates the death and resurrection of our Lord and Savior Jesus Christ through participation in weekly worship and special services. \nLearn more about worship at Christ Church \nWatch recent sermons
URL:https://christchurch.codestagingdevelopment.com/event/chapel-worship/2027-02-14/
LOCATION:Chapel
CATEGORIES:Nursery,Worship
ATTACH;FMTTYPE=image/jpeg:https://christchurch.codestagingdevelopment.com/wp-content/uploads/2025/01/Interior-Chapel-960.jpg
END:VEVENT
BEGIN:VEVENT
DTSTART;TZID=America/Chicago:20270214T150000
DTEND;TZID=America/Chicago:20270214T181500
DTSTAMP:20260420T131535
CREATED:20250109T192110Z
LAST-MODIFIED:20250114T203641Z
UID:10002008-1802617200-1802628900@christchurch.codestagingdevelopment.com
SUMMARY:Sanctuary Worship
DESCRIPTION:Christ Church celebrates the death and resurrection of our Lord and Savior Jesus Christ through participation in weekly worship and special services. \nLearn more about worship at Christ Church \nWatch recent sermons
URL:https://christchurch.codestagingdevelopment.com/event/sanctuary-worship-2/2027-02-14/
LOCATION:Sanctuary
CATEGORIES:Nursery,Worship
ATTACH;FMTTYPE=image/jpeg:https://christchurch.codestagingdevelopment.com/wp-content/uploads/2025/01/Interior-Sanctuary-960.jpg
END:VEVENT
BEGIN:VEVENT
DTSTART;TZID=America/Chicago:20270216T150000
DTEND;TZID=America/Chicago:20270216T153000
DTSTAMP:20260420T131535
CREATED:20250109T151802Z
LAST-MODIFIED:20250114T203748Z
UID:10000898-1802790000-1802791800@christchurch.codestagingdevelopment.com
SUMMARY:Tuesday Chapel
DESCRIPTION:Join us for a brief service of Morning Prayer and a gospel message. \nLearn more about worship at Christ Church \nWatch recent sermons
URL:https://christchurch.codestagingdevelopment.com/event/tuesday-chapel/2027-02-16/
LOCATION:Chapel
CATEGORIES:Worship
ATTACH;FMTTYPE=image/jpeg:https://christchurch.codestagingdevelopment.com/wp-content/uploads/2025/01/Interior-Chapel-960.jpg
END:VEVENT
BEGIN:VEVENT
DTSTART;TZID=America/Chicago:20270221T131500
DTEND;TZID=America/Chicago:20270221T141500
DTSTAMP:20260420T131535
CREATED:20250109T150557Z
LAST-MODIFIED:20250114T203721Z
UID:10001161-1803215700-1803219300@christchurch.codestagingdevelopment.com
SUMMARY:Chapel Worship
DESCRIPTION:Christ Church celebrates the death and resurrection of our Lord and Savior Jesus Christ through participation in weekly worship and special services. \nLearn more about worship at Christ Church \nWatch recent sermons
URL:https://christchurch.codestagingdevelopment.com/event/chapel-worship/2027-02-21/
LOCATION:Chapel
CATEGORIES:Nursery,Worship
ATTACH;FMTTYPE=image/jpeg:https://christchurch.codestagingdevelopment.com/wp-content/uploads/2025/01/Interior-Chapel-960.jpg
END:VEVENT
BEGIN:VEVENT
DTSTART;TZID=America/Chicago:20270221T150000
DTEND;TZID=America/Chicago:20270221T181500
DTSTAMP:20260420T131535
CREATED:20250109T192110Z
LAST-MODIFIED:20250114T203641Z
UID:10002009-1803222000-1803233700@christchurch.codestagingdevelopment.com
SUMMARY:Sanctuary Worship
DESCRIPTION:Christ Church celebrates the death and resurrection of our Lord and Savior Jesus Christ through participation in weekly worship and special services. \nLearn more about worship at Christ Church \nWatch recent sermons
URL:https://christchurch.codestagingdevelopment.com/event/sanctuary-worship-2/2027-02-21/
LOCATION:Sanctuary
CATEGORIES:Nursery,Worship
ATTACH;FMTTYPE=image/jpeg:https://christchurch.codestagingdevelopment.com/wp-content/uploads/2025/01/Interior-Sanctuary-960.jpg
END:VEVENT
BEGIN:VEVENT
DTSTART;TZID=America/Chicago:20270223T150000
DTEND;TZID=America/Chicago:20270223T153000
DTSTAMP:20260420T131535
CREATED:20250109T151802Z
LAST-MODIFIED:20250114T203748Z
UID:10000899-1803394800-1803396600@christchurch.codestagingdevelopment.com
SUMMARY:Tuesday Chapel
DESCRIPTION:Join us for a brief service of Morning Prayer and a gospel message. \nLearn more about worship at Christ Church \nWatch recent sermons
URL:https://christchurch.codestagingdevelopment.com/event/tuesday-chapel/2027-02-23/
LOCATION:Chapel
CATEGORIES:Worship
ATTACH;FMTTYPE=image/jpeg:https://christchurch.codestagingdevelopment.com/wp-content/uploads/2025/01/Interior-Chapel-960.jpg
END:VEVENT
BEGIN:VEVENT
DTSTART;TZID=America/Chicago:20270228T131500
DTEND;TZID=America/Chicago:20270228T141500
DTSTAMP:20260420T131535
CREATED:20250109T150557Z
LAST-MODIFIED:20250114T203721Z
UID:10001162-1803820500-1803824100@christchurch.codestagingdevelopment.com
SUMMARY:Chapel Worship
DESCRIPTION:Christ Church celebrates the death and resurrection of our Lord and Savior Jesus Christ through participation in weekly worship and special services. \nLearn more about worship at Christ Church \nWatch recent sermons
URL:https://christchurch.codestagingdevelopment.com/event/chapel-worship/2027-02-28/
LOCATION:Chapel
CATEGORIES:Nursery,Worship
ATTACH;FMTTYPE=image/jpeg:https://christchurch.codestagingdevelopment.com/wp-content/uploads/2025/01/Interior-Chapel-960.jpg
END:VEVENT
BEGIN:VEVENT
DTSTART;TZID=America/Chicago:20270228T150000
DTEND;TZID=America/Chicago:20270228T181500
DTSTAMP:20260420T131535
CREATED:20250109T192110Z
LAST-MODIFIED:20250114T203641Z
UID:10002010-1803826800-1803838500@christchurch.codestagingdevelopment.com
SUMMARY:Sanctuary Worship
DESCRIPTION:Christ Church celebrates the death and resurrection of our Lord and Savior Jesus Christ through participation in weekly worship and special services. \nLearn more about worship at Christ Church \nWatch recent sermons
URL:https://christchurch.codestagingdevelopment.com/event/sanctuary-worship-2/2027-02-28/
LOCATION:Sanctuary
CATEGORIES:Nursery,Worship
ATTACH;FMTTYPE=image/jpeg:https://christchurch.codestagingdevelopment.com/wp-content/uploads/2025/01/Interior-Sanctuary-960.jpg
END:VEVENT
BEGIN:VEVENT
DTSTART;TZID=America/Chicago:20270302T150000
DTEND;TZID=America/Chicago:20270302T153000
DTSTAMP:20260420T131535
CREATED:20250109T151802Z
LAST-MODIFIED:20250114T203748Z
UID:10000900-1803999600-1804001400@christchurch.codestagingdevelopment.com
SUMMARY:Tuesday Chapel
DESCRIPTION:Join us for a brief service of Morning Prayer and a gospel message. \nLearn more about worship at Christ Church \nWatch recent sermons
URL:https://christchurch.codestagingdevelopment.com/event/tuesday-chapel/2027-03-02/
LOCATION:Chapel
CATEGORIES:Worship
ATTACH;FMTTYPE=image/jpeg:https://christchurch.codestagingdevelopment.com/wp-content/uploads/2025/01/Interior-Chapel-960.jpg
END:VEVENT
BEGIN:VEVENT
DTSTART;TZID=America/Chicago:20270307T131500
DTEND;TZID=America/Chicago:20270307T141500
DTSTAMP:20260420T131535
CREATED:20250109T150557Z
LAST-MODIFIED:20250114T203721Z
UID:10001163-1804425300-1804428900@christchurch.codestagingdevelopment.com
SUMMARY:Chapel Worship
DESCRIPTION:Christ Church celebrates the death and resurrection of our Lord and Savior Jesus Christ through participation in weekly worship and special services. \nLearn more about worship at Christ Church \nWatch recent sermons
URL:https://christchurch.codestagingdevelopment.com/event/chapel-worship/2027-03-07/
LOCATION:Chapel
CATEGORIES:Nursery,Worship
ATTACH;FMTTYPE=image/jpeg:https://christchurch.codestagingdevelopment.com/wp-content/uploads/2025/01/Interior-Chapel-960.jpg
END:VEVENT
BEGIN:VEVENT
DTSTART;TZID=America/Chicago:20270307T150000
DTEND;TZID=America/Chicago:20270307T181500
DTSTAMP:20260420T131535
CREATED:20250109T192110Z
LAST-MODIFIED:20250114T203641Z
UID:10002011-1804431600-1804443300@christchurch.codestagingdevelopment.com
SUMMARY:Sanctuary Worship
DESCRIPTION:Christ Church celebrates the death and resurrection of our Lord and Savior Jesus Christ through participation in weekly worship and special services. \nLearn more about worship at Christ Church \nWatch recent sermons
URL:https://christchurch.codestagingdevelopment.com/event/sanctuary-worship-2/2027-03-07/
LOCATION:Sanctuary
CATEGORIES:Nursery,Worship
ATTACH;FMTTYPE=image/jpeg:https://christchurch.codestagingdevelopment.com/wp-content/uploads/2025/01/Interior-Sanctuary-960.jpg
END:VEVENT
BEGIN:VEVENT
DTSTART;TZID=America/Chicago:20270309T150000
DTEND;TZID=America/Chicago:20270309T153000
DTSTAMP:20260420T131535
CREATED:20250109T151802Z
LAST-MODIFIED:20250114T203748Z
UID:10000901-1804604400-1804606200@christchurch.codestagingdevelopment.com
SUMMARY:Tuesday Chapel
DESCRIPTION:Join us for a brief service of Morning Prayer and a gospel message. \nLearn more about worship at Christ Church \nWatch recent sermons
URL:https://christchurch.codestagingdevelopment.com/event/tuesday-chapel/2027-03-09/
LOCATION:Chapel
CATEGORIES:Worship
ATTACH;FMTTYPE=image/jpeg:https://christchurch.codestagingdevelopment.com/wp-content/uploads/2025/01/Interior-Chapel-960.jpg
END:VEVENT
BEGIN:VEVENT
DTSTART;TZID=America/Chicago:20270314T121500
DTEND;TZID=America/Chicago:20270314T131500
DTSTAMP:20260420T131535
CREATED:20250109T150557Z
LAST-MODIFIED:20250114T203721Z
UID:10001164-1805026500-1805030100@christchurch.codestagingdevelopment.com
SUMMARY:Chapel Worship
DESCRIPTION:Christ Church celebrates the death and resurrection of our Lord and Savior Jesus Christ through participation in weekly worship and special services. \nLearn more about worship at Christ Church \nWatch recent sermons
URL:https://christchurch.codestagingdevelopment.com/event/chapel-worship/2027-03-14/
LOCATION:Chapel
CATEGORIES:Nursery,Worship
ATTACH;FMTTYPE=image/jpeg:https://christchurch.codestagingdevelopment.com/wp-content/uploads/2025/01/Interior-Chapel-960.jpg
END:VEVENT
BEGIN:VEVENT
DTSTART;TZID=America/Chicago:20270314T140000
DTEND;TZID=America/Chicago:20270314T171500
DTSTAMP:20260420T131535
CREATED:20250109T192110Z
LAST-MODIFIED:20250114T203641Z
UID:10002012-1805032800-1805044500@christchurch.codestagingdevelopment.com
SUMMARY:Sanctuary Worship
DESCRIPTION:Christ Church celebrates the death and resurrection of our Lord and Savior Jesus Christ through participation in weekly worship and special services. \nLearn more about worship at Christ Church \nWatch recent sermons
URL:https://christchurch.codestagingdevelopment.com/event/sanctuary-worship-2/2027-03-14/
LOCATION:Sanctuary
CATEGORIES:Nursery,Worship
ATTACH;FMTTYPE=image/jpeg:https://christchurch.codestagingdevelopment.com/wp-content/uploads/2025/01/Interior-Sanctuary-960.jpg
END:VEVENT
BEGIN:VEVENT
DTSTART;TZID=America/Chicago:20270316T140000
DTEND;TZID=America/Chicago:20270316T143000
DTSTAMP:20260420T131535
CREATED:20250109T151802Z
LAST-MODIFIED:20250114T203748Z
UID:10000902-1805205600-1805207400@christchurch.codestagingdevelopment.com
SUMMARY:Tuesday Chapel
DESCRIPTION:Join us for a brief service of Morning Prayer and a gospel message. \nLearn more about worship at Christ Church \nWatch recent sermons
URL:https://christchurch.codestagingdevelopment.com/event/tuesday-chapel/2027-03-16/
LOCATION:Chapel
CATEGORIES:Worship
ATTACH;FMTTYPE=image/jpeg:https://christchurch.codestagingdevelopment.com/wp-content/uploads/2025/01/Interior-Chapel-960.jpg
END:VEVENT
BEGIN:VEVENT
DTSTART;TZID=America/Chicago:20270321T121500
DTEND;TZID=America/Chicago:20270321T131500
DTSTAMP:20260420T131535
CREATED:20250109T150557Z
LAST-MODIFIED:20250114T203721Z
UID:10001165-1805631300-1805634900@christchurch.codestagingdevelopment.com
SUMMARY:Chapel Worship
DESCRIPTION:Christ Church celebrates the death and resurrection of our Lord and Savior Jesus Christ through participation in weekly worship and special services. \nLearn more about worship at Christ Church \nWatch recent sermons
URL:https://christchurch.codestagingdevelopment.com/event/chapel-worship/2027-03-21/
LOCATION:Chapel
CATEGORIES:Nursery,Worship
ATTACH;FMTTYPE=image/jpeg:https://christchurch.codestagingdevelopment.com/wp-content/uploads/2025/01/Interior-Chapel-960.jpg
END:VEVENT
BEGIN:VEVENT
DTSTART;TZID=America/Chicago:20270321T140000
DTEND;TZID=America/Chicago:20270321T171500
DTSTAMP:20260420T131535
CREATED:20250109T192110Z
LAST-MODIFIED:20250114T203641Z
UID:10002013-1805637600-1805649300@christchurch.codestagingdevelopment.com
SUMMARY:Sanctuary Worship
DESCRIPTION:Christ Church celebrates the death and resurrection of our Lord and Savior Jesus Christ through participation in weekly worship and special services. \nLearn more about worship at Christ Church \nWatch recent sermons
URL:https://christchurch.codestagingdevelopment.com/event/sanctuary-worship-2/2027-03-21/
LOCATION:Sanctuary
CATEGORIES:Nursery,Worship
ATTACH;FMTTYPE=image/jpeg:https://christchurch.codestagingdevelopment.com/wp-content/uploads/2025/01/Interior-Sanctuary-960.jpg
END:VEVENT
BEGIN:VEVENT
DTSTART;TZID=America/Chicago:20270323T140000
DTEND;TZID=America/Chicago:20270323T143000
DTSTAMP:20260420T131535
CREATED:20250109T151802Z
LAST-MODIFIED:20250114T203748Z
UID:10000903-1805810400-1805812200@christchurch.codestagingdevelopment.com
SUMMARY:Tuesday Chapel
DESCRIPTION:Join us for a brief service of Morning Prayer and a gospel message. \nLearn more about worship at Christ Church \nWatch recent sermons
URL:https://christchurch.codestagingdevelopment.com/event/tuesday-chapel/2027-03-23/
LOCATION:Chapel
CATEGORIES:Worship
ATTACH;FMTTYPE=image/jpeg:https://christchurch.codestagingdevelopment.com/wp-content/uploads/2025/01/Interior-Chapel-960.jpg
END:VEVENT
BEGIN:VEVENT
DTSTART;TZID=America/Chicago:20270328T121500
DTEND;TZID=America/Chicago:20270328T131500
DTSTAMP:20260420T131535
CREATED:20250109T150557Z
LAST-MODIFIED:20250114T203721Z
UID:10001166-1806236100-1806239700@christchurch.codestagingdevelopment.com
SUMMARY:Chapel Worship
DESCRIPTION:Christ Church celebrates the death and resurrection of our Lord and Savior Jesus Christ through participation in weekly worship and special services. \nLearn more about worship at Christ Church \nWatch recent sermons
URL:https://christchurch.codestagingdevelopment.com/event/chapel-worship/2027-03-28/
LOCATION:Chapel
CATEGORIES:Nursery,Worship
ATTACH;FMTTYPE=image/jpeg:https://christchurch.codestagingdevelopment.com/wp-content/uploads/2025/01/Interior-Chapel-960.jpg
END:VEVENT
BEGIN:VEVENT
DTSTART;TZID=America/Chicago:20270328T140000
DTEND;TZID=America/Chicago:20270328T171500
DTSTAMP:20260420T131535
CREATED:20250109T192110Z
LAST-MODIFIED:20250114T203641Z
UID:10002014-1806242400-1806254100@christchurch.codestagingdevelopment.com
SUMMARY:Sanctuary Worship
DESCRIPTION:Christ Church celebrates the death and resurrection of our Lord and Savior Jesus Christ through participation in weekly worship and special services. \nLearn more about worship at Christ Church \nWatch recent sermons
URL:https://christchurch.codestagingdevelopment.com/event/sanctuary-worship-2/2027-03-28/
LOCATION:Sanctuary
CATEGORIES:Nursery,Worship
ATTACH;FMTTYPE=image/jpeg:https://christchurch.codestagingdevelopment.com/wp-content/uploads/2025/01/Interior-Sanctuary-960.jpg
END:VEVENT
BEGIN:VEVENT
DTSTART;TZID=America/Chicago:20270330T140000
DTEND;TZID=America/Chicago:20270330T143000
DTSTAMP:20260420T131535
CREATED:20250109T151802Z
LAST-MODIFIED:20250114T203748Z
UID:10000904-1806415200-1806417000@christchurch.codestagingdevelopment.com
SUMMARY:Tuesday Chapel
DESCRIPTION:Join us for a brief service of Morning Prayer and a gospel message. \nLearn more about worship at Christ Church \nWatch recent sermons
URL:https://christchurch.codestagingdevelopment.com/event/tuesday-chapel/2027-03-30/
LOCATION:Chapel
CATEGORIES:Worship
ATTACH;FMTTYPE=image/jpeg:https://christchurch.codestagingdevelopment.com/wp-content/uploads/2025/01/Interior-Chapel-960.jpg
END:VEVENT
BEGIN:VEVENT
DTSTART;TZID=America/Chicago:20270404T121500
DTEND;TZID=America/Chicago:20270404T131500
DTSTAMP:20260420T131535
CREATED:20250109T150557Z
LAST-MODIFIED:20250114T203721Z
UID:10001167-1806840900-1806844500@christchurch.codestagingdevelopment.com
SUMMARY:Chapel Worship
DESCRIPTION:Christ Church celebrates the death and resurrection of our Lord and Savior Jesus Christ through participation in weekly worship and special services. \nLearn more about worship at Christ Church \nWatch recent sermons
URL:https://christchurch.codestagingdevelopment.com/event/chapel-worship/2027-04-04/
LOCATION:Chapel
CATEGORIES:Nursery,Worship
ATTACH;FMTTYPE=image/jpeg:https://christchurch.codestagingdevelopment.com/wp-content/uploads/2025/01/Interior-Chapel-960.jpg
END:VEVENT
BEGIN:VEVENT
DTSTART;TZID=America/Chicago:20270404T140000
DTEND;TZID=America/Chicago:20270404T171500
DTSTAMP:20260420T131535
CREATED:20250109T192110Z
LAST-MODIFIED:20250114T203641Z
UID:10002015-1806847200-1806858900@christchurch.codestagingdevelopment.com
SUMMARY:Sanctuary Worship
DESCRIPTION:Christ Church celebrates the death and resurrection of our Lord and Savior Jesus Christ through participation in weekly worship and special services. \nLearn more about worship at Christ Church \nWatch recent sermons
URL:https://christchurch.codestagingdevelopment.com/event/sanctuary-worship-2/2027-04-04/
LOCATION:Sanctuary
CATEGORIES:Nursery,Worship
ATTACH;FMTTYPE=image/jpeg:https://christchurch.codestagingdevelopment.com/wp-content/uploads/2025/01/Interior-Sanctuary-960.jpg
END:VEVENT
END:VCALENDAR