BEGIN:VCALENDAR
VERSION:2.0
PRODID:-//Christ Church Plano - ECPv6.9.0//NONSGML v1.0//EN
CALSCALE:GREGORIAN
METHOD:PUBLISH
X-WR-CALNAME:Christ Church Plano
X-ORIGINAL-URL:https://christchurch.codestagingdevelopment.com
X-WR-CALDESC:Events for Christ Church Plano
REFRESH-INTERVAL;VALUE=DURATION:PT1H
X-Robots-Tag:noindex
X-PUBLISHED-TTL:PT1H
BEGIN:VTIMEZONE
TZID:America/Chicago
BEGIN:DAYLIGHT
TZOFFSETFROM:-0600
TZOFFSETTO:-0500
TZNAME:CDT
DTSTART:20240310T080000
END:DAYLIGHT
BEGIN:STANDARD
TZOFFSETFROM:-0500
TZOFFSETTO:-0600
TZNAME:CST
DTSTART:20241103T070000
END:STANDARD
BEGIN:DAYLIGHT
TZOFFSETFROM:-0600
TZOFFSETTO:-0500
TZNAME:CDT
DTSTART:20250309T080000
END:DAYLIGHT
BEGIN:STANDARD
TZOFFSETFROM:-0500
TZOFFSETTO:-0600
TZNAME:CST
DTSTART:20251102T070000
END:STANDARD
END:VTIMEZONE
BEGIN:VEVENT
DTSTART;TZID=America/Chicago:20241201T140000
DTEND;TZID=America/Chicago:20241201T230000
DTSTAMP:20260421T124134
CREATED:20250109T172241Z
LAST-MODIFIED:20250109T223521Z
UID:10001593-1733061600-1733094000@christchurch.codestagingdevelopment.com
SUMMARY:Holy Week Begins
DESCRIPTION:Palm Sunday\n\n\n\nSunday\, March 24\n7:15 a.m. Chapel\n9 & 11 a.m. Sanctuary\n \nHoly Week begins with the commemoration of Christ’s entry into Jerusalem. Join us for worship at regular service times. \n\n\n\n\n\n\n \nMaundy Thursday\n\n\n\nThursday\, March 28\n7 p.m. Sanctuary \nGather and reflect on Jesus’s Last Supper\, his new commandment\, and his institution of Holy Eucharist. \n\n\n\n\n\n\n \nStations of the Cross\n\n\n\nFriday\, March 29\n12 noon Sanctuary \nMeditate with guided prayer through the 14 stages of Jesus’s journey to the Cross and Tomb. \n\n\n\n\n\n\n \nLiturgy of the Passion\n\n\n\nFriday\, March 29\n7 p.m. Sanctuary \nJoin us on Good Friday for prayer\, special music\, and a dramatic reading of the Passion by Bishop Paul. \n\n\n\n\n\n\n \nEaster Sunday\n\n\n\nSunday\, March 31\n7 a.m. Chapel\n9 & 11 a.m. Sanctuary \nCelebrate the resurrection of Jesus Christ. Please note that services times have changed to include a sunrise Chapel service in addition to our Sanctuary worship.
URL:https://christchurch.codestagingdevelopment.com/event/holy-week-begins/
CATEGORIES:Worship
END:VEVENT
BEGIN:VEVENT
DTSTART;TZID=America/Chicago:20250105T131500
DTEND;TZID=America/Chicago:20250105T141500
DTSTAMP:20260421T124134
CREATED:20250109T150557Z
LAST-MODIFIED:20250114T203721Z
UID:10001050-1736082900-1736086500@christchurch.codestagingdevelopment.com
SUMMARY:Chapel Worship
DESCRIPTION:Christ Church celebrates the death and resurrection of our Lord and Savior Jesus Christ through participation in weekly worship and special services. \nLearn more about worship at Christ Church \nWatch recent sermons
URL:https://christchurch.codestagingdevelopment.com/event/chapel-worship/2025-01-05/
LOCATION:Chapel
CATEGORIES:Nursery,Worship
ATTACH;FMTTYPE=image/jpeg:https://christchurch.codestagingdevelopment.com/wp-content/uploads/2025/01/Interior-Chapel-960.jpg
END:VEVENT
BEGIN:VEVENT
DTSTART;TZID=America/Chicago:20250105T150000
DTEND;TZID=America/Chicago:20250105T181500
DTSTAMP:20260421T124134
CREATED:20250109T192110Z
LAST-MODIFIED:20250114T203641Z
UID:10001899-1736089200-1736100900@christchurch.codestagingdevelopment.com
SUMMARY:Sanctuary Worship
DESCRIPTION:Christ Church celebrates the death and resurrection of our Lord and Savior Jesus Christ through participation in weekly worship and special services. \nLearn more about worship at Christ Church \nWatch recent sermons
URL:https://christchurch.codestagingdevelopment.com/event/sanctuary-worship-2/2025-01-05/
LOCATION:Sanctuary
CATEGORIES:Nursery,Worship
ATTACH;FMTTYPE=image/jpeg:https://christchurch.codestagingdevelopment.com/wp-content/uploads/2025/01/Interior-Sanctuary-960.jpg
END:VEVENT
BEGIN:VEVENT
DTSTART;TZID=America/Chicago:20250107T150000
DTEND;TZID=America/Chicago:20250107T153000
DTSTAMP:20260421T124134
CREATED:20250109T151802Z
LAST-MODIFIED:20250114T203748Z
UID:10000788-1736262000-1736263800@christchurch.codestagingdevelopment.com
SUMMARY:Tuesday Chapel
DESCRIPTION:Join us for a brief service of Morning Prayer and a gospel message. \nLearn more about worship at Christ Church \nWatch recent sermons
URL:https://christchurch.codestagingdevelopment.com/event/tuesday-chapel/2025-01-07/
LOCATION:Chapel
CATEGORIES:Worship
ATTACH;FMTTYPE=image/jpeg:https://christchurch.codestagingdevelopment.com/wp-content/uploads/2025/01/Interior-Chapel-960.jpg
END:VEVENT
BEGIN:VEVENT
DTSTART;TZID=America/Chicago:20250112T131500
DTEND;TZID=America/Chicago:20250112T141500
DTSTAMP:20260421T124134
CREATED:20250109T150557Z
LAST-MODIFIED:20250114T203721Z
UID:10001051-1736687700-1736691300@christchurch.codestagingdevelopment.com
SUMMARY:Chapel Worship
DESCRIPTION:Christ Church celebrates the death and resurrection of our Lord and Savior Jesus Christ through participation in weekly worship and special services. \nLearn more about worship at Christ Church \nWatch recent sermons
URL:https://christchurch.codestagingdevelopment.com/event/chapel-worship/2025-01-12/
LOCATION:Chapel
CATEGORIES:Nursery,Worship
ATTACH;FMTTYPE=image/jpeg:https://christchurch.codestagingdevelopment.com/wp-content/uploads/2025/01/Interior-Chapel-960.jpg
END:VEVENT
BEGIN:VEVENT
DTSTART;TZID=America/Chicago:20250112T150000
DTEND;TZID=America/Chicago:20250112T181500
DTSTAMP:20260421T124134
CREATED:20250109T192110Z
LAST-MODIFIED:20250114T203641Z
UID:10002174-1736694000-1736705700@christchurch.codestagingdevelopment.com
SUMMARY:Sanctuary Worship
DESCRIPTION:Christ Church celebrates the death and resurrection of our Lord and Savior Jesus Christ through participation in weekly worship and special services. \nLearn more about worship at Christ Church \nWatch recent sermons
URL:https://christchurch.codestagingdevelopment.com/event/sanctuary-worship-2/2025-01-12/
LOCATION:Sanctuary
CATEGORIES:Nursery,Worship
ATTACH;FMTTYPE=image/jpeg:https://christchurch.codestagingdevelopment.com/wp-content/uploads/2025/01/Interior-Sanctuary-960.jpg
END:VEVENT
BEGIN:VEVENT
DTSTART;TZID=America/Chicago:20250114T150000
DTEND;TZID=America/Chicago:20250114T153000
DTSTAMP:20260421T124134
CREATED:20250109T151802Z
LAST-MODIFIED:20250114T203748Z
UID:10000789-1736866800-1736868600@christchurch.codestagingdevelopment.com
SUMMARY:Tuesday Chapel
DESCRIPTION:Join us for a brief service of Morning Prayer and a gospel message. \nLearn more about worship at Christ Church \nWatch recent sermons
URL:https://christchurch.codestagingdevelopment.com/event/tuesday-chapel/2025-01-14/
LOCATION:Chapel
CATEGORIES:Worship
ATTACH;FMTTYPE=image/jpeg:https://christchurch.codestagingdevelopment.com/wp-content/uploads/2025/01/Interior-Chapel-960.jpg
END:VEVENT
BEGIN:VEVENT
DTSTART;TZID=America/Chicago:20250119T131500
DTEND;TZID=America/Chicago:20250119T141500
DTSTAMP:20260421T124134
CREATED:20250109T150557Z
LAST-MODIFIED:20250114T203721Z
UID:10001052-1737292500-1737296100@christchurch.codestagingdevelopment.com
SUMMARY:Chapel Worship
DESCRIPTION:Christ Church celebrates the death and resurrection of our Lord and Savior Jesus Christ through participation in weekly worship and special services. \nLearn more about worship at Christ Church \nWatch recent sermons
URL:https://christchurch.codestagingdevelopment.com/event/chapel-worship/2025-01-19/
LOCATION:Chapel
CATEGORIES:Nursery,Worship
ATTACH;FMTTYPE=image/jpeg:https://christchurch.codestagingdevelopment.com/wp-content/uploads/2025/01/Interior-Chapel-960.jpg
END:VEVENT
BEGIN:VEVENT
DTSTART;TZID=America/Chicago:20250119T150000
DTEND;TZID=America/Chicago:20250119T181500
DTSTAMP:20260421T124134
CREATED:20250109T192110Z
LAST-MODIFIED:20250114T203641Z
UID:10001900-1737298800-1737310500@christchurch.codestagingdevelopment.com
SUMMARY:Sanctuary Worship
DESCRIPTION:Christ Church celebrates the death and resurrection of our Lord and Savior Jesus Christ through participation in weekly worship and special services. \nLearn more about worship at Christ Church \nWatch recent sermons
URL:https://christchurch.codestagingdevelopment.com/event/sanctuary-worship-2/2025-01-19/
LOCATION:Sanctuary
CATEGORIES:Nursery,Worship
ATTACH;FMTTYPE=image/jpeg:https://christchurch.codestagingdevelopment.com/wp-content/uploads/2025/01/Interior-Sanctuary-960.jpg
END:VEVENT
BEGIN:VEVENT
DTSTART;TZID=America/Chicago:20250121T150000
DTEND;TZID=America/Chicago:20250121T153000
DTSTAMP:20260421T124134
CREATED:20250109T151802Z
LAST-MODIFIED:20250114T203748Z
UID:10000790-1737471600-1737473400@christchurch.codestagingdevelopment.com
SUMMARY:Tuesday Chapel
DESCRIPTION:Join us for a brief service of Morning Prayer and a gospel message. \nLearn more about worship at Christ Church \nWatch recent sermons
URL:https://christchurch.codestagingdevelopment.com/event/tuesday-chapel/2025-01-21/
LOCATION:Chapel
CATEGORIES:Worship
ATTACH;FMTTYPE=image/jpeg:https://christchurch.codestagingdevelopment.com/wp-content/uploads/2025/01/Interior-Chapel-960.jpg
END:VEVENT
BEGIN:VEVENT
DTSTART;TZID=America/Chicago:20250126T131500
DTEND;TZID=America/Chicago:20250126T141500
DTSTAMP:20260421T124134
CREATED:20250109T150557Z
LAST-MODIFIED:20250114T203721Z
UID:10001053-1737897300-1737900900@christchurch.codestagingdevelopment.com
SUMMARY:Chapel Worship
DESCRIPTION:Christ Church celebrates the death and resurrection of our Lord and Savior Jesus Christ through participation in weekly worship and special services. \nLearn more about worship at Christ Church \nWatch recent sermons
URL:https://christchurch.codestagingdevelopment.com/event/chapel-worship/2025-01-26/
LOCATION:Chapel
CATEGORIES:Nursery,Worship
ATTACH;FMTTYPE=image/jpeg:https://christchurch.codestagingdevelopment.com/wp-content/uploads/2025/01/Interior-Chapel-960.jpg
END:VEVENT
BEGIN:VEVENT
DTSTART;TZID=America/Chicago:20250126T150000
DTEND;TZID=America/Chicago:20250126T181500
DTSTAMP:20260421T124134
CREATED:20250109T192110Z
LAST-MODIFIED:20250114T203641Z
UID:10001901-1737903600-1737915300@christchurch.codestagingdevelopment.com
SUMMARY:Sanctuary Worship
DESCRIPTION:Christ Church celebrates the death and resurrection of our Lord and Savior Jesus Christ through participation in weekly worship and special services. \nLearn more about worship at Christ Church \nWatch recent sermons
URL:https://christchurch.codestagingdevelopment.com/event/sanctuary-worship-2/2025-01-26/
LOCATION:Sanctuary
CATEGORIES:Nursery,Worship
ATTACH;FMTTYPE=image/jpeg:https://christchurch.codestagingdevelopment.com/wp-content/uploads/2025/01/Interior-Sanctuary-960.jpg
END:VEVENT
BEGIN:VEVENT
DTSTART;TZID=America/Chicago:20250128T150000
DTEND;TZID=America/Chicago:20250128T153000
DTSTAMP:20260421T124134
CREATED:20250109T151802Z
LAST-MODIFIED:20250114T203748Z
UID:10000791-1738076400-1738078200@christchurch.codestagingdevelopment.com
SUMMARY:Tuesday Chapel
DESCRIPTION:Join us for a brief service of Morning Prayer and a gospel message. \nLearn more about worship at Christ Church \nWatch recent sermons
URL:https://christchurch.codestagingdevelopment.com/event/tuesday-chapel/2025-01-28/
LOCATION:Chapel
CATEGORIES:Worship
ATTACH;FMTTYPE=image/jpeg:https://christchurch.codestagingdevelopment.com/wp-content/uploads/2025/01/Interior-Chapel-960.jpg
END:VEVENT
BEGIN:VEVENT
DTSTART;TZID=America/Chicago:20250202T131500
DTEND;TZID=America/Chicago:20250202T141500
DTSTAMP:20260421T124134
CREATED:20250109T150557Z
LAST-MODIFIED:20250114T203721Z
UID:10001054-1738502100-1738505700@christchurch.codestagingdevelopment.com
SUMMARY:Chapel Worship
DESCRIPTION:Christ Church celebrates the death and resurrection of our Lord and Savior Jesus Christ through participation in weekly worship and special services. \nLearn more about worship at Christ Church \nWatch recent sermons
URL:https://christchurch.codestagingdevelopment.com/event/chapel-worship/2025-02-02/
LOCATION:Chapel
CATEGORIES:Nursery,Worship
ATTACH;FMTTYPE=image/jpeg:https://christchurch.codestagingdevelopment.com/wp-content/uploads/2025/01/Interior-Chapel-960.jpg
END:VEVENT
BEGIN:VEVENT
DTSTART;TZID=America/Chicago:20250202T150000
DTEND;TZID=America/Chicago:20250202T181500
DTSTAMP:20260421T124134
CREATED:20250109T192110Z
LAST-MODIFIED:20250114T203641Z
UID:10001902-1738508400-1738520100@christchurch.codestagingdevelopment.com
SUMMARY:Sanctuary Worship
DESCRIPTION:Christ Church celebrates the death and resurrection of our Lord and Savior Jesus Christ through participation in weekly worship and special services. \nLearn more about worship at Christ Church \nWatch recent sermons
URL:https://christchurch.codestagingdevelopment.com/event/sanctuary-worship-2/2025-02-02/
LOCATION:Sanctuary
CATEGORIES:Nursery,Worship
ATTACH;FMTTYPE=image/jpeg:https://christchurch.codestagingdevelopment.com/wp-content/uploads/2025/01/Interior-Sanctuary-960.jpg
END:VEVENT
BEGIN:VEVENT
DTSTART;TZID=America/Chicago:20250204T150000
DTEND;TZID=America/Chicago:20250204T153000
DTSTAMP:20260421T124134
CREATED:20250109T151802Z
LAST-MODIFIED:20250114T203748Z
UID:10000792-1738681200-1738683000@christchurch.codestagingdevelopment.com
SUMMARY:Tuesday Chapel
DESCRIPTION:Join us for a brief service of Morning Prayer and a gospel message. \nLearn more about worship at Christ Church \nWatch recent sermons
URL:https://christchurch.codestagingdevelopment.com/event/tuesday-chapel/2025-02-04/
LOCATION:Chapel
CATEGORIES:Worship
ATTACH;FMTTYPE=image/jpeg:https://christchurch.codestagingdevelopment.com/wp-content/uploads/2025/01/Interior-Chapel-960.jpg
END:VEVENT
BEGIN:VEVENT
DTSTART;TZID=America/Chicago:20250209T131500
DTEND;TZID=America/Chicago:20250209T141500
DTSTAMP:20260421T124134
CREATED:20250109T150557Z
LAST-MODIFIED:20250114T203721Z
UID:10001055-1739106900-1739110500@christchurch.codestagingdevelopment.com
SUMMARY:Chapel Worship
DESCRIPTION:Christ Church celebrates the death and resurrection of our Lord and Savior Jesus Christ through participation in weekly worship and special services. \nLearn more about worship at Christ Church \nWatch recent sermons
URL:https://christchurch.codestagingdevelopment.com/event/chapel-worship/2025-02-09/
LOCATION:Chapel
CATEGORIES:Nursery,Worship
ATTACH;FMTTYPE=image/jpeg:https://christchurch.codestagingdevelopment.com/wp-content/uploads/2025/01/Interior-Chapel-960.jpg
END:VEVENT
BEGIN:VEVENT
DTSTART;TZID=America/Chicago:20250209T150000
DTEND;TZID=America/Chicago:20250209T181500
DTSTAMP:20260421T124134
CREATED:20250109T192110Z
LAST-MODIFIED:20250114T203641Z
UID:10001903-1739113200-1739124900@christchurch.codestagingdevelopment.com
SUMMARY:Sanctuary Worship
DESCRIPTION:Christ Church celebrates the death and resurrection of our Lord and Savior Jesus Christ through participation in weekly worship and special services. \nLearn more about worship at Christ Church \nWatch recent sermons
URL:https://christchurch.codestagingdevelopment.com/event/sanctuary-worship-2/2025-02-09/
LOCATION:Sanctuary
CATEGORIES:Nursery,Worship
ATTACH;FMTTYPE=image/jpeg:https://christchurch.codestagingdevelopment.com/wp-content/uploads/2025/01/Interior-Sanctuary-960.jpg
END:VEVENT
BEGIN:VEVENT
DTSTART;TZID=America/Chicago:20250211T150000
DTEND;TZID=America/Chicago:20250211T153000
DTSTAMP:20260421T124134
CREATED:20250109T151802Z
LAST-MODIFIED:20250114T203748Z
UID:10000793-1739286000-1739287800@christchurch.codestagingdevelopment.com
SUMMARY:Tuesday Chapel
DESCRIPTION:Join us for a brief service of Morning Prayer and a gospel message. \nLearn more about worship at Christ Church \nWatch recent sermons
URL:https://christchurch.codestagingdevelopment.com/event/tuesday-chapel/2025-02-11/
LOCATION:Chapel
CATEGORIES:Worship
ATTACH;FMTTYPE=image/jpeg:https://christchurch.codestagingdevelopment.com/wp-content/uploads/2025/01/Interior-Chapel-960.jpg
END:VEVENT
BEGIN:VEVENT
DTSTART;TZID=America/Chicago:20250216T131500
DTEND;TZID=America/Chicago:20250216T141500
DTSTAMP:20260421T124134
CREATED:20250109T150557Z
LAST-MODIFIED:20250114T203721Z
UID:10001056-1739711700-1739715300@christchurch.codestagingdevelopment.com
SUMMARY:Chapel Worship
DESCRIPTION:Christ Church celebrates the death and resurrection of our Lord and Savior Jesus Christ through participation in weekly worship and special services. \nLearn more about worship at Christ Church \nWatch recent sermons
URL:https://christchurch.codestagingdevelopment.com/event/chapel-worship/2025-02-16/
LOCATION:Chapel
CATEGORIES:Nursery,Worship
ATTACH;FMTTYPE=image/jpeg:https://christchurch.codestagingdevelopment.com/wp-content/uploads/2025/01/Interior-Chapel-960.jpg
END:VEVENT
BEGIN:VEVENT
DTSTART;TZID=America/Chicago:20250216T150000
DTEND;TZID=America/Chicago:20250216T181500
DTSTAMP:20260421T124134
CREATED:20250109T192110Z
LAST-MODIFIED:20250114T203641Z
UID:10001904-1739718000-1739729700@christchurch.codestagingdevelopment.com
SUMMARY:Sanctuary Worship
DESCRIPTION:Christ Church celebrates the death and resurrection of our Lord and Savior Jesus Christ through participation in weekly worship and special services. \nLearn more about worship at Christ Church \nWatch recent sermons
URL:https://christchurch.codestagingdevelopment.com/event/sanctuary-worship-2/2025-02-16/
LOCATION:Sanctuary
CATEGORIES:Nursery,Worship
ATTACH;FMTTYPE=image/jpeg:https://christchurch.codestagingdevelopment.com/wp-content/uploads/2025/01/Interior-Sanctuary-960.jpg
END:VEVENT
BEGIN:VEVENT
DTSTART;TZID=America/Chicago:20250218T150000
DTEND;TZID=America/Chicago:20250218T153000
DTSTAMP:20260421T124134
CREATED:20250109T151802Z
LAST-MODIFIED:20250114T203748Z
UID:10000794-1739890800-1739892600@christchurch.codestagingdevelopment.com
SUMMARY:Tuesday Chapel
DESCRIPTION:Join us for a brief service of Morning Prayer and a gospel message. \nLearn more about worship at Christ Church \nWatch recent sermons
URL:https://christchurch.codestagingdevelopment.com/event/tuesday-chapel/2025-02-18/
LOCATION:Chapel
CATEGORIES:Worship
ATTACH;FMTTYPE=image/jpeg:https://christchurch.codestagingdevelopment.com/wp-content/uploads/2025/01/Interior-Chapel-960.jpg
END:VEVENT
BEGIN:VEVENT
DTSTART;TZID=America/Chicago:20250223T131500
DTEND;TZID=America/Chicago:20250223T141500
DTSTAMP:20260421T124134
CREATED:20250109T150557Z
LAST-MODIFIED:20250114T203721Z
UID:10001057-1740316500-1740320100@christchurch.codestagingdevelopment.com
SUMMARY:Chapel Worship
DESCRIPTION:Christ Church celebrates the death and resurrection of our Lord and Savior Jesus Christ through participation in weekly worship and special services. \nLearn more about worship at Christ Church \nWatch recent sermons
URL:https://christchurch.codestagingdevelopment.com/event/chapel-worship/2025-02-23/
LOCATION:Chapel
CATEGORIES:Nursery,Worship
ATTACH;FMTTYPE=image/jpeg:https://christchurch.codestagingdevelopment.com/wp-content/uploads/2025/01/Interior-Chapel-960.jpg
END:VEVENT
BEGIN:VEVENT
DTSTART;TZID=America/Chicago:20250223T150000
DTEND;TZID=America/Chicago:20250223T181500
DTSTAMP:20260421T124134
CREATED:20250109T192110Z
LAST-MODIFIED:20250114T203641Z
UID:10001905-1740322800-1740334500@christchurch.codestagingdevelopment.com
SUMMARY:Sanctuary Worship
DESCRIPTION:Christ Church celebrates the death and resurrection of our Lord and Savior Jesus Christ through participation in weekly worship and special services. \nLearn more about worship at Christ Church \nWatch recent sermons
URL:https://christchurch.codestagingdevelopment.com/event/sanctuary-worship-2/2025-02-23/
LOCATION:Sanctuary
CATEGORIES:Nursery,Worship
ATTACH;FMTTYPE=image/jpeg:https://christchurch.codestagingdevelopment.com/wp-content/uploads/2025/01/Interior-Sanctuary-960.jpg
END:VEVENT
BEGIN:VEVENT
DTSTART;TZID=America/Chicago:20250225T150000
DTEND;TZID=America/Chicago:20250225T153000
DTSTAMP:20260421T124134
CREATED:20250109T151802Z
LAST-MODIFIED:20250114T203748Z
UID:10000795-1740495600-1740497400@christchurch.codestagingdevelopment.com
SUMMARY:Tuesday Chapel
DESCRIPTION:Join us for a brief service of Morning Prayer and a gospel message. \nLearn more about worship at Christ Church \nWatch recent sermons
URL:https://christchurch.codestagingdevelopment.com/event/tuesday-chapel/2025-02-25/
LOCATION:Chapel
CATEGORIES:Worship
ATTACH;FMTTYPE=image/jpeg:https://christchurch.codestagingdevelopment.com/wp-content/uploads/2025/01/Interior-Chapel-960.jpg
END:VEVENT
BEGIN:VEVENT
DTSTART;TZID=America/Chicago:20250302T131500
DTEND;TZID=America/Chicago:20250302T141500
DTSTAMP:20260421T124134
CREATED:20250109T150557Z
LAST-MODIFIED:20250114T203721Z
UID:10001058-1740921300-1740924900@christchurch.codestagingdevelopment.com
SUMMARY:Chapel Worship
DESCRIPTION:Christ Church celebrates the death and resurrection of our Lord and Savior Jesus Christ through participation in weekly worship and special services. \nLearn more about worship at Christ Church \nWatch recent sermons
URL:https://christchurch.codestagingdevelopment.com/event/chapel-worship/2025-03-02/
LOCATION:Chapel
CATEGORIES:Nursery,Worship
ATTACH;FMTTYPE=image/jpeg:https://christchurch.codestagingdevelopment.com/wp-content/uploads/2025/01/Interior-Chapel-960.jpg
END:VEVENT
BEGIN:VEVENT
DTSTART;TZID=America/Chicago:20250302T150000
DTEND;TZID=America/Chicago:20250302T181500
DTSTAMP:20260421T124134
CREATED:20250109T192110Z
LAST-MODIFIED:20250114T203641Z
UID:10001906-1740927600-1740939300@christchurch.codestagingdevelopment.com
SUMMARY:Sanctuary Worship
DESCRIPTION:Christ Church celebrates the death and resurrection of our Lord and Savior Jesus Christ through participation in weekly worship and special services. \nLearn more about worship at Christ Church \nWatch recent sermons
URL:https://christchurch.codestagingdevelopment.com/event/sanctuary-worship-2/2025-03-02/
LOCATION:Sanctuary
CATEGORIES:Nursery,Worship
ATTACH;FMTTYPE=image/jpeg:https://christchurch.codestagingdevelopment.com/wp-content/uploads/2025/01/Interior-Sanctuary-960.jpg
END:VEVENT
BEGIN:VEVENT
DTSTART;TZID=America/Chicago:20250304T150000
DTEND;TZID=America/Chicago:20250304T153000
DTSTAMP:20260421T124134
CREATED:20250109T151802Z
LAST-MODIFIED:20250114T203748Z
UID:10000796-1741100400-1741102200@christchurch.codestagingdevelopment.com
SUMMARY:Tuesday Chapel
DESCRIPTION:Join us for a brief service of Morning Prayer and a gospel message. \nLearn more about worship at Christ Church \nWatch recent sermons
URL:https://christchurch.codestagingdevelopment.com/event/tuesday-chapel/2025-03-04/
LOCATION:Chapel
CATEGORIES:Worship
ATTACH;FMTTYPE=image/jpeg:https://christchurch.codestagingdevelopment.com/wp-content/uploads/2025/01/Interior-Chapel-960.jpg
END:VEVENT
BEGIN:VEVENT
DTSTART;TZID=America/Chicago:20250305T130000
DTEND;TZID=America/Chicago:20250306T010000
DTSTAMP:20260421T124134
CREATED:20250109T151038Z
LAST-MODIFIED:20250117T180839Z
UID:10000787-1741179600-1741222800@christchurch.codestagingdevelopment.com
SUMMARY:Ash Wednesday Services
DESCRIPTION:About Lent\nJoin us in repentance and self-examination as we walk towards Easter and the Cross. \nIn the liturgy for Ash Wednesday\, the Book of Common Prayer invites Christians to an annual “observance of a holy Lent: by self-examination and repentance.” Self-examination may prompt some difficult questions and issues. \nIf you need further guidance or encouragement this Lent\, we encourage you to reach out to a member of our clergy. We are here to help.
URL:https://christchurch.codestagingdevelopment.com/event/ash-wednesday-services/
LOCATION:Sanctuary
CATEGORIES:Worship
END:VEVENT
BEGIN:VEVENT
DTSTART;TZID=America/Chicago:20250306T150000
DTEND;TZID=America/Chicago:20250306T153000
DTSTAMP:20260421T124134
CREATED:20250109T173234Z
LAST-MODIFIED:20250117T180831Z
UID:10001611-1741273200-1741275000@christchurch.codestagingdevelopment.com
SUMMARY:Lenten Morning Prayer
DESCRIPTION:
URL:https://christchurch.codestagingdevelopment.com/event/lenten-morning-prayer/2025-03-06/
LOCATION:Chapel
CATEGORIES:Adults,Worship
ATTACH;FMTTYPE=image/webp:https://christchurch.codestagingdevelopment.com/wp-content/uploads/2024/12/chapel-interior-1024.webp
END:VEVENT
END:VCALENDAR