BEGIN:VCALENDAR
VERSION:2.0
PRODID:-//Christ Church Plano - ECPv6.9.0//NONSGML v1.0//EN
CALSCALE:GREGORIAN
METHOD:PUBLISH
X-ORIGINAL-URL:https://christchurch.codestagingdevelopment.com
X-WR-CALDESC:Events for Christ Church Plano
REFRESH-INTERVAL;VALUE=DURATION:PT1H
X-Robots-Tag:noindex
X-PUBLISHED-TTL:PT1H
BEGIN:VTIMEZONE
TZID:America/Chicago
BEGIN:DAYLIGHT
TZOFFSETFROM:-0600
TZOFFSETTO:-0500
TZNAME:CDT
DTSTART:20270314T080000
END:DAYLIGHT
BEGIN:STANDARD
TZOFFSETFROM:-0500
TZOFFSETTO:-0600
TZNAME:CST
DTSTART:20271107T070000
END:STANDARD
END:VTIMEZONE
BEGIN:VEVENT
DTSTART;TZID=America/Chicago:20270512T230000
DTEND;TZID=America/Chicago:20270513T010000
DTSTAMP:20260419T192554
CREATED:20250109T152923Z
LAST-MODIFIED:20250109T155324Z
UID:10001434-1810162800-1810170000@christchurch.codestagingdevelopment.com
SUMMARY:Family Ministry Wednesdays
DESCRIPTION:
URL:https://christchurch.codestagingdevelopment.com/event/family-ministry-wednesdays/2027-05-12/
LOCATION:Archgate Center
CATEGORIES:High School,Sunday School,Middle School
END:VEVENT
BEGIN:VEVENT
DTSTART;TZID=America/Chicago:20270519T230000
DTEND;TZID=America/Chicago:20270520T010000
DTSTAMP:20260419T192554
CREATED:20250109T152923Z
LAST-MODIFIED:20250109T155324Z
UID:10001435-1810767600-1810774800@christchurch.codestagingdevelopment.com
SUMMARY:Family Ministry Wednesdays
DESCRIPTION:
URL:https://christchurch.codestagingdevelopment.com/event/family-ministry-wednesdays/2027-05-19/
LOCATION:Archgate Center
CATEGORIES:High School,Sunday School,Middle School
END:VEVENT
BEGIN:VEVENT
DTSTART;TZID=America/Chicago:20270526T230000
DTEND;TZID=America/Chicago:20270527T010000
DTSTAMP:20260419T192554
CREATED:20250109T152923Z
LAST-MODIFIED:20250109T155324Z
UID:10001436-1811372400-1811379600@christchurch.codestagingdevelopment.com
SUMMARY:Family Ministry Wednesdays
DESCRIPTION:
URL:https://christchurch.codestagingdevelopment.com/event/family-ministry-wednesdays/2027-05-26/
LOCATION:Archgate Center
CATEGORIES:High School,Sunday School,Middle School
END:VEVENT
BEGIN:VEVENT
DTSTART;TZID=America/Chicago:20270602T230000
DTEND;TZID=America/Chicago:20270603T010000
DTSTAMP:20260419T192554
CREATED:20250109T152923Z
LAST-MODIFIED:20250109T155324Z
UID:10001437-1811977200-1811984400@christchurch.codestagingdevelopment.com
SUMMARY:Family Ministry Wednesdays
DESCRIPTION:
URL:https://christchurch.codestagingdevelopment.com/event/family-ministry-wednesdays/2027-06-02/
LOCATION:Archgate Center
CATEGORIES:High School,Sunday School,Middle School
END:VEVENT
BEGIN:VEVENT
DTSTART;TZID=America/Chicago:20270609T230000
DTEND;TZID=America/Chicago:20270610T010000
DTSTAMP:20260419T192554
CREATED:20250109T152923Z
LAST-MODIFIED:20250109T155324Z
UID:10001438-1812582000-1812589200@christchurch.codestagingdevelopment.com
SUMMARY:Family Ministry Wednesdays
DESCRIPTION:
URL:https://christchurch.codestagingdevelopment.com/event/family-ministry-wednesdays/2027-06-09/
LOCATION:Archgate Center
CATEGORIES:High School,Sunday School,Middle School
END:VEVENT
BEGIN:VEVENT
DTSTART;TZID=America/Chicago:20270616T230000
DTEND;TZID=America/Chicago:20270617T010000
DTSTAMP:20260419T192554
CREATED:20250109T152923Z
LAST-MODIFIED:20250109T155324Z
UID:10001439-1813186800-1813194000@christchurch.codestagingdevelopment.com
SUMMARY:Family Ministry Wednesdays
DESCRIPTION:
URL:https://christchurch.codestagingdevelopment.com/event/family-ministry-wednesdays/2027-06-16/
LOCATION:Archgate Center
CATEGORIES:High School,Sunday School,Middle School
END:VEVENT
BEGIN:VEVENT
DTSTART;TZID=America/Chicago:20270623T230000
DTEND;TZID=America/Chicago:20270624T010000
DTSTAMP:20260419T192554
CREATED:20250109T152923Z
LAST-MODIFIED:20250109T155324Z
UID:10001440-1813791600-1813798800@christchurch.codestagingdevelopment.com
SUMMARY:Family Ministry Wednesdays
DESCRIPTION:
URL:https://christchurch.codestagingdevelopment.com/event/family-ministry-wednesdays/2027-06-23/
LOCATION:Archgate Center
CATEGORIES:High School,Sunday School,Middle School
END:VEVENT
BEGIN:VEVENT
DTSTART;TZID=America/Chicago:20270630T230000
DTEND;TZID=America/Chicago:20270701T010000
DTSTAMP:20260419T192554
CREATED:20250109T152923Z
LAST-MODIFIED:20250109T155324Z
UID:10001441-1814396400-1814403600@christchurch.codestagingdevelopment.com
SUMMARY:Family Ministry Wednesdays
DESCRIPTION:
URL:https://christchurch.codestagingdevelopment.com/event/family-ministry-wednesdays/2027-06-30/
LOCATION:Archgate Center
CATEGORIES:High School,Sunday School,Middle School
END:VEVENT
BEGIN:VEVENT
DTSTART;TZID=America/Chicago:20270707T230000
DTEND;TZID=America/Chicago:20270708T010000
DTSTAMP:20260419T192554
CREATED:20250109T152923Z
LAST-MODIFIED:20250109T155324Z
UID:10001442-1815001200-1815008400@christchurch.codestagingdevelopment.com
SUMMARY:Family Ministry Wednesdays
DESCRIPTION:
URL:https://christchurch.codestagingdevelopment.com/event/family-ministry-wednesdays/2027-07-07/
LOCATION:Archgate Center
CATEGORIES:High School,Sunday School,Middle School
END:VEVENT
BEGIN:VEVENT
DTSTART;TZID=America/Chicago:20270714T230000
DTEND;TZID=America/Chicago:20270715T010000
DTSTAMP:20260419T192554
CREATED:20250109T152923Z
LAST-MODIFIED:20250109T155324Z
UID:10001443-1815606000-1815613200@christchurch.codestagingdevelopment.com
SUMMARY:Family Ministry Wednesdays
DESCRIPTION:
URL:https://christchurch.codestagingdevelopment.com/event/family-ministry-wednesdays/2027-07-14/
LOCATION:Archgate Center
CATEGORIES:High School,Sunday School,Middle School
END:VEVENT
BEGIN:VEVENT
DTSTART;TZID=America/Chicago:20270721T230000
DTEND;TZID=America/Chicago:20270722T010000
DTSTAMP:20260419T192554
CREATED:20250109T152923Z
LAST-MODIFIED:20250109T155324Z
UID:10001444-1816210800-1816218000@christchurch.codestagingdevelopment.com
SUMMARY:Family Ministry Wednesdays
DESCRIPTION:
URL:https://christchurch.codestagingdevelopment.com/event/family-ministry-wednesdays/2027-07-21/
LOCATION:Archgate Center
CATEGORIES:High School,Sunday School,Middle School
END:VEVENT
BEGIN:VEVENT
DTSTART;TZID=America/Chicago:20270728T230000
DTEND;TZID=America/Chicago:20270729T010000
DTSTAMP:20260419T192554
CREATED:20250109T152923Z
LAST-MODIFIED:20250109T155324Z
UID:10001445-1816815600-1816822800@christchurch.codestagingdevelopment.com
SUMMARY:Family Ministry Wednesdays
DESCRIPTION:
URL:https://christchurch.codestagingdevelopment.com/event/family-ministry-wednesdays/2027-07-28/
LOCATION:Archgate Center
CATEGORIES:High School,Sunday School,Middle School
END:VEVENT
BEGIN:VEVENT
DTSTART;TZID=America/Chicago:20270804T230000
DTEND;TZID=America/Chicago:20270805T010000
DTSTAMP:20260419T192554
CREATED:20250109T152923Z
LAST-MODIFIED:20250109T155324Z
UID:10001446-1817420400-1817427600@christchurch.codestagingdevelopment.com
SUMMARY:Family Ministry Wednesdays
DESCRIPTION:
URL:https://christchurch.codestagingdevelopment.com/event/family-ministry-wednesdays/2027-08-04/
LOCATION:Archgate Center
CATEGORIES:High School,Sunday School,Middle School
END:VEVENT
BEGIN:VEVENT
DTSTART;TZID=America/Chicago:20270811T230000
DTEND;TZID=America/Chicago:20270812T010000
DTSTAMP:20260419T192554
CREATED:20250109T152923Z
LAST-MODIFIED:20250109T155324Z
UID:10001447-1818025200-1818032400@christchurch.codestagingdevelopment.com
SUMMARY:Family Ministry Wednesdays
DESCRIPTION:
URL:https://christchurch.codestagingdevelopment.com/event/family-ministry-wednesdays/2027-08-11/
LOCATION:Archgate Center
CATEGORIES:High School,Sunday School,Middle School
END:VEVENT
BEGIN:VEVENT
DTSTART;TZID=America/Chicago:20270818T230000
DTEND;TZID=America/Chicago:20270819T010000
DTSTAMP:20260419T192554
CREATED:20250109T152923Z
LAST-MODIFIED:20250109T155324Z
UID:10001448-1818630000-1818637200@christchurch.codestagingdevelopment.com
SUMMARY:Family Ministry Wednesdays
DESCRIPTION:
URL:https://christchurch.codestagingdevelopment.com/event/family-ministry-wednesdays/2027-08-18/
LOCATION:Archgate Center
CATEGORIES:High School,Sunday School,Middle School
END:VEVENT
BEGIN:VEVENT
DTSTART;TZID=America/Chicago:20270825T230000
DTEND;TZID=America/Chicago:20270826T010000
DTSTAMP:20260419T192554
CREATED:20250109T152923Z
LAST-MODIFIED:20250109T155324Z
UID:10001449-1819234800-1819242000@christchurch.codestagingdevelopment.com
SUMMARY:Family Ministry Wednesdays
DESCRIPTION:
URL:https://christchurch.codestagingdevelopment.com/event/family-ministry-wednesdays/2027-08-25/
LOCATION:Archgate Center
CATEGORIES:High School,Sunday School,Middle School
END:VEVENT
BEGIN:VEVENT
DTSTART;TZID=America/Chicago:20270901T230000
DTEND;TZID=America/Chicago:20270902T010000
DTSTAMP:20260419T192554
CREATED:20250109T152923Z
LAST-MODIFIED:20250109T155324Z
UID:10001450-1819839600-1819846800@christchurch.codestagingdevelopment.com
SUMMARY:Family Ministry Wednesdays
DESCRIPTION:
URL:https://christchurch.codestagingdevelopment.com/event/family-ministry-wednesdays/2027-09-01/
LOCATION:Archgate Center
CATEGORIES:High School,Sunday School,Middle School
END:VEVENT
BEGIN:VEVENT
DTSTART;TZID=America/Chicago:20270908T230000
DTEND;TZID=America/Chicago:20270909T010000
DTSTAMP:20260419T192554
CREATED:20250109T152923Z
LAST-MODIFIED:20250109T155324Z
UID:10001451-1820444400-1820451600@christchurch.codestagingdevelopment.com
SUMMARY:Family Ministry Wednesdays
DESCRIPTION:
URL:https://christchurch.codestagingdevelopment.com/event/family-ministry-wednesdays/2027-09-08/
LOCATION:Archgate Center
CATEGORIES:High School,Sunday School,Middle School
END:VEVENT
BEGIN:VEVENT
DTSTART;TZID=America/Chicago:20270915T230000
DTEND;TZID=America/Chicago:20270916T010000
DTSTAMP:20260419T192554
CREATED:20250109T152923Z
LAST-MODIFIED:20250109T155324Z
UID:10001452-1821049200-1821056400@christchurch.codestagingdevelopment.com
SUMMARY:Family Ministry Wednesdays
DESCRIPTION:
URL:https://christchurch.codestagingdevelopment.com/event/family-ministry-wednesdays/2027-09-15/
LOCATION:Archgate Center
CATEGORIES:High School,Sunday School,Middle School
END:VEVENT
BEGIN:VEVENT
DTSTART;TZID=America/Chicago:20270922T230000
DTEND;TZID=America/Chicago:20270923T010000
DTSTAMP:20260419T192554
CREATED:20250109T152923Z
LAST-MODIFIED:20250109T155324Z
UID:10001453-1821654000-1821661200@christchurch.codestagingdevelopment.com
SUMMARY:Family Ministry Wednesdays
DESCRIPTION:
URL:https://christchurch.codestagingdevelopment.com/event/family-ministry-wednesdays/2027-09-22/
LOCATION:Archgate Center
CATEGORIES:High School,Sunday School,Middle School
END:VEVENT
BEGIN:VEVENT
DTSTART;TZID=America/Chicago:20270929T230000
DTEND;TZID=America/Chicago:20270930T010000
DTSTAMP:20260419T192554
CREATED:20250109T152923Z
LAST-MODIFIED:20250109T155324Z
UID:10001454-1822258800-1822266000@christchurch.codestagingdevelopment.com
SUMMARY:Family Ministry Wednesdays
DESCRIPTION:
URL:https://christchurch.codestagingdevelopment.com/event/family-ministry-wednesdays/2027-09-29/
LOCATION:Archgate Center
CATEGORIES:High School,Sunday School,Middle School
END:VEVENT
BEGIN:VEVENT
DTSTART;TZID=America/Chicago:20271006T230000
DTEND;TZID=America/Chicago:20271007T010000
DTSTAMP:20260419T192554
CREATED:20250109T152923Z
LAST-MODIFIED:20250109T155324Z
UID:10001455-1822863600-1822870800@christchurch.codestagingdevelopment.com
SUMMARY:Family Ministry Wednesdays
DESCRIPTION:
URL:https://christchurch.codestagingdevelopment.com/event/family-ministry-wednesdays/2027-10-06/
LOCATION:Archgate Center
CATEGORIES:High School,Sunday School,Middle School
END:VEVENT
BEGIN:VEVENT
DTSTART;TZID=America/Chicago:20271013T230000
DTEND;TZID=America/Chicago:20271014T010000
DTSTAMP:20260419T192554
CREATED:20250109T152923Z
LAST-MODIFIED:20250109T155324Z
UID:10001456-1823468400-1823475600@christchurch.codestagingdevelopment.com
SUMMARY:Family Ministry Wednesdays
DESCRIPTION:
URL:https://christchurch.codestagingdevelopment.com/event/family-ministry-wednesdays/2027-10-13/
LOCATION:Archgate Center
CATEGORIES:High School,Sunday School,Middle School
END:VEVENT
BEGIN:VEVENT
DTSTART;TZID=America/Chicago:20271020T230000
DTEND;TZID=America/Chicago:20271021T010000
DTSTAMP:20260419T192554
CREATED:20250109T152923Z
LAST-MODIFIED:20250109T155324Z
UID:10001457-1824073200-1824080400@christchurch.codestagingdevelopment.com
SUMMARY:Family Ministry Wednesdays
DESCRIPTION:
URL:https://christchurch.codestagingdevelopment.com/event/family-ministry-wednesdays/2027-10-20/
LOCATION:Archgate Center
CATEGORIES:High School,Sunday School,Middle School
END:VEVENT
BEGIN:VEVENT
DTSTART;TZID=America/Chicago:20271027T230000
DTEND;TZID=America/Chicago:20271028T010000
DTSTAMP:20260419T192554
CREATED:20250109T152923Z
LAST-MODIFIED:20250109T155324Z
UID:10001458-1824678000-1824685200@christchurch.codestagingdevelopment.com
SUMMARY:Family Ministry Wednesdays
DESCRIPTION:
URL:https://christchurch.codestagingdevelopment.com/event/family-ministry-wednesdays/2027-10-27/
LOCATION:Archgate Center
CATEGORIES:High School,Sunday School,Middle School
END:VEVENT
BEGIN:VEVENT
DTSTART;TZID=America/Chicago:20271103T230000
DTEND;TZID=America/Chicago:20271104T010000
DTSTAMP:20260419T192554
CREATED:20250109T152923Z
LAST-MODIFIED:20250109T155324Z
UID:10001459-1825282800-1825290000@christchurch.codestagingdevelopment.com
SUMMARY:Family Ministry Wednesdays
DESCRIPTION:
URL:https://christchurch.codestagingdevelopment.com/event/family-ministry-wednesdays/2027-11-03/
LOCATION:Archgate Center
CATEGORIES:High School,Sunday School,Middle School
END:VEVENT
BEGIN:VEVENT
DTSTART;TZID=America/Chicago:20271111T000000
DTEND;TZID=America/Chicago:20271111T020000
DTSTAMP:20260419T192554
CREATED:20250109T152923Z
LAST-MODIFIED:20250109T155324Z
UID:10001460-1825891200-1825898400@christchurch.codestagingdevelopment.com
SUMMARY:Family Ministry Wednesdays
DESCRIPTION:
URL:https://christchurch.codestagingdevelopment.com/event/family-ministry-wednesdays/2027-11-10/
LOCATION:Archgate Center
CATEGORIES:High School,Sunday School,Middle School
END:VEVENT
BEGIN:VEVENT
DTSTART;TZID=America/Chicago:20271118T000000
DTEND;TZID=America/Chicago:20271118T020000
DTSTAMP:20260419T192554
CREATED:20250109T152923Z
LAST-MODIFIED:20250109T155324Z
UID:10001461-1826496000-1826503200@christchurch.codestagingdevelopment.com
SUMMARY:Family Ministry Wednesdays
DESCRIPTION:
URL:https://christchurch.codestagingdevelopment.com/event/family-ministry-wednesdays/2027-11-17/
LOCATION:Archgate Center
CATEGORIES:High School,Sunday School,Middle School
END:VEVENT
BEGIN:VEVENT
DTSTART;TZID=America/Chicago:20271125T000000
DTEND;TZID=America/Chicago:20271125T020000
DTSTAMP:20260419T192554
CREATED:20250109T152923Z
LAST-MODIFIED:20250109T155324Z
UID:10001462-1827100800-1827108000@christchurch.codestagingdevelopment.com
SUMMARY:Family Ministry Wednesdays
DESCRIPTION:
URL:https://christchurch.codestagingdevelopment.com/event/family-ministry-wednesdays/2027-11-24/
LOCATION:Archgate Center
CATEGORIES:High School,Sunday School,Middle School
END:VEVENT
BEGIN:VEVENT
DTSTART;TZID=America/Chicago:20271202T000000
DTEND;TZID=America/Chicago:20271202T020000
DTSTAMP:20260419T192554
CREATED:20250109T152923Z
LAST-MODIFIED:20250109T155324Z
UID:10001463-1827705600-1827712800@christchurch.codestagingdevelopment.com
SUMMARY:Family Ministry Wednesdays
DESCRIPTION:
URL:https://christchurch.codestagingdevelopment.com/event/family-ministry-wednesdays/2027-12-01/
LOCATION:Archgate Center
CATEGORIES:High School,Sunday School,Middle School
END:VEVENT
END:VCALENDAR