BEGIN:VCALENDAR
VERSION:2.0
PRODID:-//Christ Church Plano - ECPv6.9.0//NONSGML v1.0//EN
CALSCALE:GREGORIAN
METHOD:PUBLISH
X-WR-CALNAME:Christ Church Plano
X-ORIGINAL-URL:https://christchurch.codestagingdevelopment.com
X-WR-CALDESC:Events for Christ Church Plano
REFRESH-INTERVAL;VALUE=DURATION:PT1H
X-Robots-Tag:noindex
X-PUBLISHED-TTL:PT1H
BEGIN:VTIMEZONE
TZID:America/Chicago
BEGIN:DAYLIGHT
TZOFFSETFROM:-0600
TZOFFSETTO:-0500
TZNAME:CDT
DTSTART:20290311T080000
END:DAYLIGHT
BEGIN:STANDARD
TZOFFSETFROM:-0500
TZOFFSETTO:-0600
TZNAME:CST
DTSTART:20291104T070000
END:STANDARD
BEGIN:DAYLIGHT
TZOFFSETFROM:-0600
TZOFFSETTO:-0500
TZNAME:CDT
DTSTART:20300310T080000
END:DAYLIGHT
BEGIN:STANDARD
TZOFFSETFROM:-0500
TZOFFSETTO:-0600
TZNAME:CST
DTSTART:20301103T070000
END:STANDARD
END:VTIMEZONE
BEGIN:VEVENT
DTSTART;TZID=America/Chicago:20290704T230000
DTEND;TZID=America/Chicago:20290705T010000
DTSTAMP:20260420T233632
CREATED:20250109T152923Z
LAST-MODIFIED:20250109T155324Z
UID:10001546-1877900400-1877907600@christchurch.codestagingdevelopment.com
SUMMARY:Family Ministry Wednesdays
DESCRIPTION:
URL:https://christchurch.codestagingdevelopment.com/event/family-ministry-wednesdays/2029-07-04/
LOCATION:Archgate Center
CATEGORIES:High School,Sunday School,Middle School
END:VEVENT
BEGIN:VEVENT
DTSTART;TZID=America/Chicago:20290711T230000
DTEND;TZID=America/Chicago:20290712T010000
DTSTAMP:20260420T233632
CREATED:20250109T152923Z
LAST-MODIFIED:20250109T155324Z
UID:10001547-1878505200-1878512400@christchurch.codestagingdevelopment.com
SUMMARY:Family Ministry Wednesdays
DESCRIPTION:
URL:https://christchurch.codestagingdevelopment.com/event/family-ministry-wednesdays/2029-07-11/
LOCATION:Archgate Center
CATEGORIES:High School,Sunday School,Middle School
END:VEVENT
BEGIN:VEVENT
DTSTART;TZID=America/Chicago:20290718T230000
DTEND;TZID=America/Chicago:20290719T010000
DTSTAMP:20260420T233632
CREATED:20250109T152923Z
LAST-MODIFIED:20250109T155324Z
UID:10001548-1879110000-1879117200@christchurch.codestagingdevelopment.com
SUMMARY:Family Ministry Wednesdays
DESCRIPTION:
URL:https://christchurch.codestagingdevelopment.com/event/family-ministry-wednesdays/2029-07-18/
LOCATION:Archgate Center
CATEGORIES:High School,Sunday School,Middle School
END:VEVENT
BEGIN:VEVENT
DTSTART;TZID=America/Chicago:20290725T230000
DTEND;TZID=America/Chicago:20290726T010000
DTSTAMP:20260420T233632
CREATED:20250109T152923Z
LAST-MODIFIED:20250109T155324Z
UID:10001549-1879714800-1879722000@christchurch.codestagingdevelopment.com
SUMMARY:Family Ministry Wednesdays
DESCRIPTION:
URL:https://christchurch.codestagingdevelopment.com/event/family-ministry-wednesdays/2029-07-25/
LOCATION:Archgate Center
CATEGORIES:High School,Sunday School,Middle School
END:VEVENT
BEGIN:VEVENT
DTSTART;TZID=America/Chicago:20290801T230000
DTEND;TZID=America/Chicago:20290802T010000
DTSTAMP:20260420T233632
CREATED:20250109T152923Z
LAST-MODIFIED:20250109T155324Z
UID:10001550-1880319600-1880326800@christchurch.codestagingdevelopment.com
SUMMARY:Family Ministry Wednesdays
DESCRIPTION:
URL:https://christchurch.codestagingdevelopment.com/event/family-ministry-wednesdays/2029-08-01/
LOCATION:Archgate Center
CATEGORIES:High School,Sunday School,Middle School
END:VEVENT
BEGIN:VEVENT
DTSTART;TZID=America/Chicago:20290808T230000
DTEND;TZID=America/Chicago:20290809T010000
DTSTAMP:20260420T233632
CREATED:20250109T152923Z
LAST-MODIFIED:20250109T155324Z
UID:10001551-1880924400-1880931600@christchurch.codestagingdevelopment.com
SUMMARY:Family Ministry Wednesdays
DESCRIPTION:
URL:https://christchurch.codestagingdevelopment.com/event/family-ministry-wednesdays/2029-08-08/
LOCATION:Archgate Center
CATEGORIES:High School,Sunday School,Middle School
END:VEVENT
BEGIN:VEVENT
DTSTART;TZID=America/Chicago:20290815T230000
DTEND;TZID=America/Chicago:20290816T010000
DTSTAMP:20260420T233632
CREATED:20250109T152923Z
LAST-MODIFIED:20250109T155324Z
UID:10001552-1881529200-1881536400@christchurch.codestagingdevelopment.com
SUMMARY:Family Ministry Wednesdays
DESCRIPTION:
URL:https://christchurch.codestagingdevelopment.com/event/family-ministry-wednesdays/2029-08-15/
LOCATION:Archgate Center
CATEGORIES:High School,Sunday School,Middle School
END:VEVENT
BEGIN:VEVENT
DTSTART;TZID=America/Chicago:20290822T230000
DTEND;TZID=America/Chicago:20290823T010000
DTSTAMP:20260420T233632
CREATED:20250109T152923Z
LAST-MODIFIED:20250109T155324Z
UID:10001553-1882134000-1882141200@christchurch.codestagingdevelopment.com
SUMMARY:Family Ministry Wednesdays
DESCRIPTION:
URL:https://christchurch.codestagingdevelopment.com/event/family-ministry-wednesdays/2029-08-22/
LOCATION:Archgate Center
CATEGORIES:High School,Sunday School,Middle School
END:VEVENT
BEGIN:VEVENT
DTSTART;TZID=America/Chicago:20290829T230000
DTEND;TZID=America/Chicago:20290830T010000
DTSTAMP:20260420T233632
CREATED:20250109T152923Z
LAST-MODIFIED:20250109T155324Z
UID:10001554-1882738800-1882746000@christchurch.codestagingdevelopment.com
SUMMARY:Family Ministry Wednesdays
DESCRIPTION:
URL:https://christchurch.codestagingdevelopment.com/event/family-ministry-wednesdays/2029-08-29/
LOCATION:Archgate Center
CATEGORIES:High School,Sunday School,Middle School
END:VEVENT
BEGIN:VEVENT
DTSTART;TZID=America/Chicago:20290905T230000
DTEND;TZID=America/Chicago:20290906T010000
DTSTAMP:20260420T233632
CREATED:20250109T152923Z
LAST-MODIFIED:20250109T155324Z
UID:10001555-1883343600-1883350800@christchurch.codestagingdevelopment.com
SUMMARY:Family Ministry Wednesdays
DESCRIPTION:
URL:https://christchurch.codestagingdevelopment.com/event/family-ministry-wednesdays/2029-09-05/
LOCATION:Archgate Center
CATEGORIES:High School,Sunday School,Middle School
END:VEVENT
BEGIN:VEVENT
DTSTART;TZID=America/Chicago:20290912T230000
DTEND;TZID=America/Chicago:20290913T010000
DTSTAMP:20260420T233632
CREATED:20250109T152923Z
LAST-MODIFIED:20250109T155324Z
UID:10001556-1883948400-1883955600@christchurch.codestagingdevelopment.com
SUMMARY:Family Ministry Wednesdays
DESCRIPTION:
URL:https://christchurch.codestagingdevelopment.com/event/family-ministry-wednesdays/2029-09-12/
LOCATION:Archgate Center
CATEGORIES:High School,Sunday School,Middle School
END:VEVENT
BEGIN:VEVENT
DTSTART;TZID=America/Chicago:20290919T230000
DTEND;TZID=America/Chicago:20290920T010000
DTSTAMP:20260420T233632
CREATED:20250109T152923Z
LAST-MODIFIED:20250109T155324Z
UID:10001557-1884553200-1884560400@christchurch.codestagingdevelopment.com
SUMMARY:Family Ministry Wednesdays
DESCRIPTION:
URL:https://christchurch.codestagingdevelopment.com/event/family-ministry-wednesdays/2029-09-19/
LOCATION:Archgate Center
CATEGORIES:High School,Sunday School,Middle School
END:VEVENT
BEGIN:VEVENT
DTSTART;TZID=America/Chicago:20290926T230000
DTEND;TZID=America/Chicago:20290927T010000
DTSTAMP:20260420T233632
CREATED:20250109T152923Z
LAST-MODIFIED:20250109T155324Z
UID:10001558-1885158000-1885165200@christchurch.codestagingdevelopment.com
SUMMARY:Family Ministry Wednesdays
DESCRIPTION:
URL:https://christchurch.codestagingdevelopment.com/event/family-ministry-wednesdays/2029-09-26/
LOCATION:Archgate Center
CATEGORIES:High School,Sunday School,Middle School
END:VEVENT
BEGIN:VEVENT
DTSTART;TZID=America/Chicago:20291003T230000
DTEND;TZID=America/Chicago:20291004T010000
DTSTAMP:20260420T233632
CREATED:20250109T152923Z
LAST-MODIFIED:20250109T155324Z
UID:10001559-1885762800-1885770000@christchurch.codestagingdevelopment.com
SUMMARY:Family Ministry Wednesdays
DESCRIPTION:
URL:https://christchurch.codestagingdevelopment.com/event/family-ministry-wednesdays/2029-10-03/
LOCATION:Archgate Center
CATEGORIES:High School,Sunday School,Middle School
END:VEVENT
BEGIN:VEVENT
DTSTART;TZID=America/Chicago:20291010T230000
DTEND;TZID=America/Chicago:20291011T010000
DTSTAMP:20260420T233632
CREATED:20250109T152923Z
LAST-MODIFIED:20250109T155324Z
UID:10001560-1886367600-1886374800@christchurch.codestagingdevelopment.com
SUMMARY:Family Ministry Wednesdays
DESCRIPTION:
URL:https://christchurch.codestagingdevelopment.com/event/family-ministry-wednesdays/2029-10-10/
LOCATION:Archgate Center
CATEGORIES:High School,Sunday School,Middle School
END:VEVENT
BEGIN:VEVENT
DTSTART;TZID=America/Chicago:20291017T230000
DTEND;TZID=America/Chicago:20291018T010000
DTSTAMP:20260420T233632
CREATED:20250109T152923Z
LAST-MODIFIED:20250109T155324Z
UID:10001561-1886972400-1886979600@christchurch.codestagingdevelopment.com
SUMMARY:Family Ministry Wednesdays
DESCRIPTION:
URL:https://christchurch.codestagingdevelopment.com/event/family-ministry-wednesdays/2029-10-17/
LOCATION:Archgate Center
CATEGORIES:High School,Sunday School,Middle School
END:VEVENT
BEGIN:VEVENT
DTSTART;TZID=America/Chicago:20291024T230000
DTEND;TZID=America/Chicago:20291025T010000
DTSTAMP:20260420T233632
CREATED:20250109T152923Z
LAST-MODIFIED:20250109T155324Z
UID:10001562-1887577200-1887584400@christchurch.codestagingdevelopment.com
SUMMARY:Family Ministry Wednesdays
DESCRIPTION:
URL:https://christchurch.codestagingdevelopment.com/event/family-ministry-wednesdays/2029-10-24/
LOCATION:Archgate Center
CATEGORIES:High School,Sunday School,Middle School
END:VEVENT
BEGIN:VEVENT
DTSTART;TZID=America/Chicago:20291031T230000
DTEND;TZID=America/Chicago:20291101T010000
DTSTAMP:20260420T233632
CREATED:20250109T152923Z
LAST-MODIFIED:20250109T155324Z
UID:10001563-1888182000-1888189200@christchurch.codestagingdevelopment.com
SUMMARY:Family Ministry Wednesdays
DESCRIPTION:
URL:https://christchurch.codestagingdevelopment.com/event/family-ministry-wednesdays/2029-10-31/
LOCATION:Archgate Center
CATEGORIES:High School,Sunday School,Middle School
END:VEVENT
BEGIN:VEVENT
DTSTART;TZID=America/Chicago:20291108T000000
DTEND;TZID=America/Chicago:20291108T020000
DTSTAMP:20260420T233632
CREATED:20250109T152923Z
LAST-MODIFIED:20250109T155324Z
UID:10001564-1888790400-1888797600@christchurch.codestagingdevelopment.com
SUMMARY:Family Ministry Wednesdays
DESCRIPTION:
URL:https://christchurch.codestagingdevelopment.com/event/family-ministry-wednesdays/2029-11-07/
LOCATION:Archgate Center
CATEGORIES:High School,Sunday School,Middle School
END:VEVENT
BEGIN:VEVENT
DTSTART;TZID=America/Chicago:20291115T000000
DTEND;TZID=America/Chicago:20291115T020000
DTSTAMP:20260420T233632
CREATED:20250109T152923Z
LAST-MODIFIED:20250109T155324Z
UID:10001565-1889395200-1889402400@christchurch.codestagingdevelopment.com
SUMMARY:Family Ministry Wednesdays
DESCRIPTION:
URL:https://christchurch.codestagingdevelopment.com/event/family-ministry-wednesdays/2029-11-14/
LOCATION:Archgate Center
CATEGORIES:High School,Sunday School,Middle School
END:VEVENT
BEGIN:VEVENT
DTSTART;TZID=America/Chicago:20291122T000000
DTEND;TZID=America/Chicago:20291122T020000
DTSTAMP:20260420T233632
CREATED:20250109T152923Z
LAST-MODIFIED:20250109T155324Z
UID:10001566-1890000000-1890007200@christchurch.codestagingdevelopment.com
SUMMARY:Family Ministry Wednesdays
DESCRIPTION:
URL:https://christchurch.codestagingdevelopment.com/event/family-ministry-wednesdays/2029-11-21/
LOCATION:Archgate Center
CATEGORIES:High School,Sunday School,Middle School
END:VEVENT
BEGIN:VEVENT
DTSTART;TZID=America/Chicago:20291129T000000
DTEND;TZID=America/Chicago:20291129T020000
DTSTAMP:20260420T233632
CREATED:20250109T152923Z
LAST-MODIFIED:20250109T155324Z
UID:10001567-1890604800-1890612000@christchurch.codestagingdevelopment.com
SUMMARY:Family Ministry Wednesdays
DESCRIPTION:
URL:https://christchurch.codestagingdevelopment.com/event/family-ministry-wednesdays/2029-11-28/
LOCATION:Archgate Center
CATEGORIES:High School,Sunday School,Middle School
END:VEVENT
BEGIN:VEVENT
DTSTART;TZID=America/Chicago:20291206T000000
DTEND;TZID=America/Chicago:20291206T020000
DTSTAMP:20260420T233632
CREATED:20250109T152923Z
LAST-MODIFIED:20250109T155324Z
UID:10001568-1891209600-1891216800@christchurch.codestagingdevelopment.com
SUMMARY:Family Ministry Wednesdays
DESCRIPTION:
URL:https://christchurch.codestagingdevelopment.com/event/family-ministry-wednesdays/2029-12-05/
LOCATION:Archgate Center
CATEGORIES:High School,Sunday School,Middle School
END:VEVENT
BEGIN:VEVENT
DTSTART;TZID=America/Chicago:20291213T000000
DTEND;TZID=America/Chicago:20291213T020000
DTSTAMP:20260420T233632
CREATED:20250109T152923Z
LAST-MODIFIED:20250109T155324Z
UID:10001569-1891814400-1891821600@christchurch.codestagingdevelopment.com
SUMMARY:Family Ministry Wednesdays
DESCRIPTION:
URL:https://christchurch.codestagingdevelopment.com/event/family-ministry-wednesdays/2029-12-12/
LOCATION:Archgate Center
CATEGORIES:High School,Sunday School,Middle School
END:VEVENT
BEGIN:VEVENT
DTSTART;TZID=America/Chicago:20291220T000000
DTEND;TZID=America/Chicago:20291220T020000
DTSTAMP:20260420T233632
CREATED:20250109T152923Z
LAST-MODIFIED:20250109T155324Z
UID:10001570-1892419200-1892426400@christchurch.codestagingdevelopment.com
SUMMARY:Family Ministry Wednesdays
DESCRIPTION:
URL:https://christchurch.codestagingdevelopment.com/event/family-ministry-wednesdays/2029-12-19/
LOCATION:Archgate Center
CATEGORIES:High School,Sunday School,Middle School
END:VEVENT
BEGIN:VEVENT
DTSTART;TZID=America/Chicago:20291227T000000
DTEND;TZID=America/Chicago:20291227T020000
DTSTAMP:20260420T233632
CREATED:20250109T152923Z
LAST-MODIFIED:20250109T155324Z
UID:10001571-1893024000-1893031200@christchurch.codestagingdevelopment.com
SUMMARY:Family Ministry Wednesdays
DESCRIPTION:
URL:https://christchurch.codestagingdevelopment.com/event/family-ministry-wednesdays/2029-12-26/
LOCATION:Archgate Center
CATEGORIES:High School,Sunday School,Middle School
END:VEVENT
BEGIN:VEVENT
DTSTART;TZID=America/Chicago:20300103T000000
DTEND;TZID=America/Chicago:20300103T020000
DTSTAMP:20260420T233632
CREATED:20250109T152923Z
LAST-MODIFIED:20250109T155324Z
UID:10001572-1893628800-1893636000@christchurch.codestagingdevelopment.com
SUMMARY:Family Ministry Wednesdays
DESCRIPTION:
URL:https://christchurch.codestagingdevelopment.com/event/family-ministry-wednesdays/2030-01-02/
LOCATION:Archgate Center
CATEGORIES:High School,Sunday School,Middle School
END:VEVENT
BEGIN:VEVENT
DTSTART;TZID=America/Chicago:20300110T000000
DTEND;TZID=America/Chicago:20300110T020000
DTSTAMP:20260420T233632
CREATED:20250109T152923Z
LAST-MODIFIED:20250109T155324Z
UID:10001573-1894233600-1894240800@christchurch.codestagingdevelopment.com
SUMMARY:Family Ministry Wednesdays
DESCRIPTION:
URL:https://christchurch.codestagingdevelopment.com/event/family-ministry-wednesdays/2030-01-09/
LOCATION:Archgate Center
CATEGORIES:High School,Sunday School,Middle School
END:VEVENT
END:VCALENDAR