BEGIN:VCALENDAR
VERSION:2.0
PRODID:-//Christ Church Plano - ECPv6.9.0//NONSGML v1.0//EN
CALSCALE:GREGORIAN
METHOD:PUBLISH
X-WR-CALNAME:Christ Church Plano
X-ORIGINAL-URL:https://christchurch.codestagingdevelopment.com
X-WR-CALDESC:Events for Christ Church Plano
REFRESH-INTERVAL;VALUE=DURATION:PT1H
X-Robots-Tag:noindex
X-PUBLISHED-TTL:PT1H
BEGIN:VTIMEZONE
TZID:America/Chicago
BEGIN:DAYLIGHT
TZOFFSETFROM:-0600
TZOFFSETTO:-0500
TZNAME:CDT
DTSTART:20290311T080000
END:DAYLIGHT
BEGIN:STANDARD
TZOFFSETFROM:-0500
TZOFFSETTO:-0600
TZNAME:CST
DTSTART:20291104T070000
END:STANDARD
END:VTIMEZONE
BEGIN:VEVENT
DTSTART;TZID=America/Chicago:20290308T000000
DTEND;TZID=America/Chicago:20290308T020000
DTSTAMP:20260420T233632
CREATED:20250109T152923Z
LAST-MODIFIED:20250109T155324Z
UID:10001529-1867622400-1867629600@christchurch.codestagingdevelopment.com
SUMMARY:Family Ministry Wednesdays
DESCRIPTION:
URL:https://christchurch.codestagingdevelopment.com/event/family-ministry-wednesdays/2029-03-07/
LOCATION:Archgate Center
CATEGORIES:High School,Sunday School,Middle School
END:VEVENT
BEGIN:VEVENT
DTSTART;TZID=America/Chicago:20290314T230000
DTEND;TZID=America/Chicago:20290315T010000
DTSTAMP:20260420T233632
CREATED:20250109T152923Z
LAST-MODIFIED:20250109T155324Z
UID:10001530-1868223600-1868230800@christchurch.codestagingdevelopment.com
SUMMARY:Family Ministry Wednesdays
DESCRIPTION:
URL:https://christchurch.codestagingdevelopment.com/event/family-ministry-wednesdays/2029-03-14/
LOCATION:Archgate Center
CATEGORIES:High School,Sunday School,Middle School
END:VEVENT
BEGIN:VEVENT
DTSTART;TZID=America/Chicago:20290321T230000
DTEND;TZID=America/Chicago:20290322T010000
DTSTAMP:20260420T233632
CREATED:20250109T152923Z
LAST-MODIFIED:20250109T155324Z
UID:10001531-1868828400-1868835600@christchurch.codestagingdevelopment.com
SUMMARY:Family Ministry Wednesdays
DESCRIPTION:
URL:https://christchurch.codestagingdevelopment.com/event/family-ministry-wednesdays/2029-03-21/
LOCATION:Archgate Center
CATEGORIES:High School,Sunday School,Middle School
END:VEVENT
BEGIN:VEVENT
DTSTART;TZID=America/Chicago:20290328T230000
DTEND;TZID=America/Chicago:20290329T010000
DTSTAMP:20260420T233632
CREATED:20250109T152923Z
LAST-MODIFIED:20250109T155324Z
UID:10001532-1869433200-1869440400@christchurch.codestagingdevelopment.com
SUMMARY:Family Ministry Wednesdays
DESCRIPTION:
URL:https://christchurch.codestagingdevelopment.com/event/family-ministry-wednesdays/2029-03-28/
LOCATION:Archgate Center
CATEGORIES:High School,Sunday School,Middle School
END:VEVENT
BEGIN:VEVENT
DTSTART;TZID=America/Chicago:20290404T230000
DTEND;TZID=America/Chicago:20290405T010000
DTSTAMP:20260420T233632
CREATED:20250109T152923Z
LAST-MODIFIED:20250109T155324Z
UID:10001533-1870038000-1870045200@christchurch.codestagingdevelopment.com
SUMMARY:Family Ministry Wednesdays
DESCRIPTION:
URL:https://christchurch.codestagingdevelopment.com/event/family-ministry-wednesdays/2029-04-04/
LOCATION:Archgate Center
CATEGORIES:High School,Sunday School,Middle School
END:VEVENT
BEGIN:VEVENT
DTSTART;TZID=America/Chicago:20290411T230000
DTEND;TZID=America/Chicago:20290412T010000
DTSTAMP:20260420T233632
CREATED:20250109T152923Z
LAST-MODIFIED:20250109T155324Z
UID:10001534-1870642800-1870650000@christchurch.codestagingdevelopment.com
SUMMARY:Family Ministry Wednesdays
DESCRIPTION:
URL:https://christchurch.codestagingdevelopment.com/event/family-ministry-wednesdays/2029-04-11/
LOCATION:Archgate Center
CATEGORIES:High School,Sunday School,Middle School
END:VEVENT
BEGIN:VEVENT
DTSTART;TZID=America/Chicago:20290418T230000
DTEND;TZID=America/Chicago:20290419T010000
DTSTAMP:20260420T233632
CREATED:20250109T152923Z
LAST-MODIFIED:20250109T155324Z
UID:10001535-1871247600-1871254800@christchurch.codestagingdevelopment.com
SUMMARY:Family Ministry Wednesdays
DESCRIPTION:
URL:https://christchurch.codestagingdevelopment.com/event/family-ministry-wednesdays/2029-04-18/
LOCATION:Archgate Center
CATEGORIES:High School,Sunday School,Middle School
END:VEVENT
BEGIN:VEVENT
DTSTART;TZID=America/Chicago:20290425T230000
DTEND;TZID=America/Chicago:20290426T010000
DTSTAMP:20260420T233632
CREATED:20250109T152923Z
LAST-MODIFIED:20250109T155324Z
UID:10001536-1871852400-1871859600@christchurch.codestagingdevelopment.com
SUMMARY:Family Ministry Wednesdays
DESCRIPTION:
URL:https://christchurch.codestagingdevelopment.com/event/family-ministry-wednesdays/2029-04-25/
LOCATION:Archgate Center
CATEGORIES:High School,Sunday School,Middle School
END:VEVENT
BEGIN:VEVENT
DTSTART;TZID=America/Chicago:20290502T230000
DTEND;TZID=America/Chicago:20290503T010000
DTSTAMP:20260420T233632
CREATED:20250109T152923Z
LAST-MODIFIED:20250109T155324Z
UID:10001537-1872457200-1872464400@christchurch.codestagingdevelopment.com
SUMMARY:Family Ministry Wednesdays
DESCRIPTION:
URL:https://christchurch.codestagingdevelopment.com/event/family-ministry-wednesdays/2029-05-02/
LOCATION:Archgate Center
CATEGORIES:High School,Sunday School,Middle School
END:VEVENT
BEGIN:VEVENT
DTSTART;TZID=America/Chicago:20290509T230000
DTEND;TZID=America/Chicago:20290510T010000
DTSTAMP:20260420T233632
CREATED:20250109T152923Z
LAST-MODIFIED:20250109T155324Z
UID:10001538-1873062000-1873069200@christchurch.codestagingdevelopment.com
SUMMARY:Family Ministry Wednesdays
DESCRIPTION:
URL:https://christchurch.codestagingdevelopment.com/event/family-ministry-wednesdays/2029-05-09/
LOCATION:Archgate Center
CATEGORIES:High School,Sunday School,Middle School
END:VEVENT
BEGIN:VEVENT
DTSTART;TZID=America/Chicago:20290516T230000
DTEND;TZID=America/Chicago:20290517T010000
DTSTAMP:20260420T233632
CREATED:20250109T152923Z
LAST-MODIFIED:20250109T155324Z
UID:10001539-1873666800-1873674000@christchurch.codestagingdevelopment.com
SUMMARY:Family Ministry Wednesdays
DESCRIPTION:
URL:https://christchurch.codestagingdevelopment.com/event/family-ministry-wednesdays/2029-05-16/
LOCATION:Archgate Center
CATEGORIES:High School,Sunday School,Middle School
END:VEVENT
BEGIN:VEVENT
DTSTART;TZID=America/Chicago:20290523T230000
DTEND;TZID=America/Chicago:20290524T010000
DTSTAMP:20260420T233633
CREATED:20250109T152923Z
LAST-MODIFIED:20250109T155324Z
UID:10001540-1874271600-1874278800@christchurch.codestagingdevelopment.com
SUMMARY:Family Ministry Wednesdays
DESCRIPTION:
URL:https://christchurch.codestagingdevelopment.com/event/family-ministry-wednesdays/2029-05-23/
LOCATION:Archgate Center
CATEGORIES:High School,Sunday School,Middle School
END:VEVENT
BEGIN:VEVENT
DTSTART;TZID=America/Chicago:20290530T230000
DTEND;TZID=America/Chicago:20290531T010000
DTSTAMP:20260420T233633
CREATED:20250109T152923Z
LAST-MODIFIED:20250109T155324Z
UID:10001541-1874876400-1874883600@christchurch.codestagingdevelopment.com
SUMMARY:Family Ministry Wednesdays
DESCRIPTION:
URL:https://christchurch.codestagingdevelopment.com/event/family-ministry-wednesdays/2029-05-30/
LOCATION:Archgate Center
CATEGORIES:High School,Sunday School,Middle School
END:VEVENT
BEGIN:VEVENT
DTSTART;TZID=America/Chicago:20290606T230000
DTEND;TZID=America/Chicago:20290607T010000
DTSTAMP:20260420T233633
CREATED:20250109T152923Z
LAST-MODIFIED:20250109T155324Z
UID:10001542-1875481200-1875488400@christchurch.codestagingdevelopment.com
SUMMARY:Family Ministry Wednesdays
DESCRIPTION:
URL:https://christchurch.codestagingdevelopment.com/event/family-ministry-wednesdays/2029-06-06/
LOCATION:Archgate Center
CATEGORIES:High School,Sunday School,Middle School
END:VEVENT
BEGIN:VEVENT
DTSTART;TZID=America/Chicago:20290613T230000
DTEND;TZID=America/Chicago:20290614T010000
DTSTAMP:20260420T233633
CREATED:20250109T152923Z
LAST-MODIFIED:20250109T155324Z
UID:10001543-1876086000-1876093200@christchurch.codestagingdevelopment.com
SUMMARY:Family Ministry Wednesdays
DESCRIPTION:
URL:https://christchurch.codestagingdevelopment.com/event/family-ministry-wednesdays/2029-06-13/
LOCATION:Archgate Center
CATEGORIES:High School,Sunday School,Middle School
END:VEVENT
BEGIN:VEVENT
DTSTART;TZID=America/Chicago:20290620T230000
DTEND;TZID=America/Chicago:20290621T010000
DTSTAMP:20260420T233633
CREATED:20250109T152923Z
LAST-MODIFIED:20250109T155324Z
UID:10001544-1876690800-1876698000@christchurch.codestagingdevelopment.com
SUMMARY:Family Ministry Wednesdays
DESCRIPTION:
URL:https://christchurch.codestagingdevelopment.com/event/family-ministry-wednesdays/2029-06-20/
LOCATION:Archgate Center
CATEGORIES:High School,Sunday School,Middle School
END:VEVENT
BEGIN:VEVENT
DTSTART;TZID=America/Chicago:20290627T230000
DTEND;TZID=America/Chicago:20290628T010000
DTSTAMP:20260420T233633
CREATED:20250109T152923Z
LAST-MODIFIED:20250109T155324Z
UID:10001545-1877295600-1877302800@christchurch.codestagingdevelopment.com
SUMMARY:Family Ministry Wednesdays
DESCRIPTION:
URL:https://christchurch.codestagingdevelopment.com/event/family-ministry-wednesdays/2029-06-27/
LOCATION:Archgate Center
CATEGORIES:High School,Sunday School,Middle School
END:VEVENT
BEGIN:VEVENT
DTSTART;TZID=America/Chicago:20290704T230000
DTEND;TZID=America/Chicago:20290705T010000
DTSTAMP:20260420T233633
CREATED:20250109T152923Z
LAST-MODIFIED:20250109T155324Z
UID:10001546-1877900400-1877907600@christchurch.codestagingdevelopment.com
SUMMARY:Family Ministry Wednesdays
DESCRIPTION:
URL:https://christchurch.codestagingdevelopment.com/event/family-ministry-wednesdays/2029-07-04/
LOCATION:Archgate Center
CATEGORIES:High School,Sunday School,Middle School
END:VEVENT
BEGIN:VEVENT
DTSTART;TZID=America/Chicago:20290711T230000
DTEND;TZID=America/Chicago:20290712T010000
DTSTAMP:20260420T233633
CREATED:20250109T152923Z
LAST-MODIFIED:20250109T155324Z
UID:10001547-1878505200-1878512400@christchurch.codestagingdevelopment.com
SUMMARY:Family Ministry Wednesdays
DESCRIPTION:
URL:https://christchurch.codestagingdevelopment.com/event/family-ministry-wednesdays/2029-07-11/
LOCATION:Archgate Center
CATEGORIES:High School,Sunday School,Middle School
END:VEVENT
BEGIN:VEVENT
DTSTART;TZID=America/Chicago:20290718T230000
DTEND;TZID=America/Chicago:20290719T010000
DTSTAMP:20260420T233633
CREATED:20250109T152923Z
LAST-MODIFIED:20250109T155324Z
UID:10001548-1879110000-1879117200@christchurch.codestagingdevelopment.com
SUMMARY:Family Ministry Wednesdays
DESCRIPTION:
URL:https://christchurch.codestagingdevelopment.com/event/family-ministry-wednesdays/2029-07-18/
LOCATION:Archgate Center
CATEGORIES:High School,Sunday School,Middle School
END:VEVENT
BEGIN:VEVENT
DTSTART;TZID=America/Chicago:20290725T230000
DTEND;TZID=America/Chicago:20290726T010000
DTSTAMP:20260420T233633
CREATED:20250109T152923Z
LAST-MODIFIED:20250109T155324Z
UID:10001549-1879714800-1879722000@christchurch.codestagingdevelopment.com
SUMMARY:Family Ministry Wednesdays
DESCRIPTION:
URL:https://christchurch.codestagingdevelopment.com/event/family-ministry-wednesdays/2029-07-25/
LOCATION:Archgate Center
CATEGORIES:High School,Sunday School,Middle School
END:VEVENT
BEGIN:VEVENT
DTSTART;TZID=America/Chicago:20290801T230000
DTEND;TZID=America/Chicago:20290802T010000
DTSTAMP:20260420T233633
CREATED:20250109T152923Z
LAST-MODIFIED:20250109T155324Z
UID:10001550-1880319600-1880326800@christchurch.codestagingdevelopment.com
SUMMARY:Family Ministry Wednesdays
DESCRIPTION:
URL:https://christchurch.codestagingdevelopment.com/event/family-ministry-wednesdays/2029-08-01/
LOCATION:Archgate Center
CATEGORIES:High School,Sunday School,Middle School
END:VEVENT
BEGIN:VEVENT
DTSTART;TZID=America/Chicago:20290808T230000
DTEND;TZID=America/Chicago:20290809T010000
DTSTAMP:20260420T233633
CREATED:20250109T152923Z
LAST-MODIFIED:20250109T155324Z
UID:10001551-1880924400-1880931600@christchurch.codestagingdevelopment.com
SUMMARY:Family Ministry Wednesdays
DESCRIPTION:
URL:https://christchurch.codestagingdevelopment.com/event/family-ministry-wednesdays/2029-08-08/
LOCATION:Archgate Center
CATEGORIES:High School,Sunday School,Middle School
END:VEVENT
BEGIN:VEVENT
DTSTART;TZID=America/Chicago:20290815T230000
DTEND;TZID=America/Chicago:20290816T010000
DTSTAMP:20260420T233633
CREATED:20250109T152923Z
LAST-MODIFIED:20250109T155324Z
UID:10001552-1881529200-1881536400@christchurch.codestagingdevelopment.com
SUMMARY:Family Ministry Wednesdays
DESCRIPTION:
URL:https://christchurch.codestagingdevelopment.com/event/family-ministry-wednesdays/2029-08-15/
LOCATION:Archgate Center
CATEGORIES:High School,Sunday School,Middle School
END:VEVENT
BEGIN:VEVENT
DTSTART;TZID=America/Chicago:20290822T230000
DTEND;TZID=America/Chicago:20290823T010000
DTSTAMP:20260420T233633
CREATED:20250109T152923Z
LAST-MODIFIED:20250109T155324Z
UID:10001553-1882134000-1882141200@christchurch.codestagingdevelopment.com
SUMMARY:Family Ministry Wednesdays
DESCRIPTION:
URL:https://christchurch.codestagingdevelopment.com/event/family-ministry-wednesdays/2029-08-22/
LOCATION:Archgate Center
CATEGORIES:High School,Sunday School,Middle School
END:VEVENT
BEGIN:VEVENT
DTSTART;TZID=America/Chicago:20290829T230000
DTEND;TZID=America/Chicago:20290830T010000
DTSTAMP:20260420T233633
CREATED:20250109T152923Z
LAST-MODIFIED:20250109T155324Z
UID:10001554-1882738800-1882746000@christchurch.codestagingdevelopment.com
SUMMARY:Family Ministry Wednesdays
DESCRIPTION:
URL:https://christchurch.codestagingdevelopment.com/event/family-ministry-wednesdays/2029-08-29/
LOCATION:Archgate Center
CATEGORIES:High School,Sunday School,Middle School
END:VEVENT
BEGIN:VEVENT
DTSTART;TZID=America/Chicago:20290905T230000
DTEND;TZID=America/Chicago:20290906T010000
DTSTAMP:20260420T233633
CREATED:20250109T152923Z
LAST-MODIFIED:20250109T155324Z
UID:10001555-1883343600-1883350800@christchurch.codestagingdevelopment.com
SUMMARY:Family Ministry Wednesdays
DESCRIPTION:
URL:https://christchurch.codestagingdevelopment.com/event/family-ministry-wednesdays/2029-09-05/
LOCATION:Archgate Center
CATEGORIES:High School,Sunday School,Middle School
END:VEVENT
BEGIN:VEVENT
DTSTART;TZID=America/Chicago:20290912T230000
DTEND;TZID=America/Chicago:20290913T010000
DTSTAMP:20260420T233633
CREATED:20250109T152923Z
LAST-MODIFIED:20250109T155324Z
UID:10001556-1883948400-1883955600@christchurch.codestagingdevelopment.com
SUMMARY:Family Ministry Wednesdays
DESCRIPTION:
URL:https://christchurch.codestagingdevelopment.com/event/family-ministry-wednesdays/2029-09-12/
LOCATION:Archgate Center
CATEGORIES:High School,Sunday School,Middle School
END:VEVENT
BEGIN:VEVENT
DTSTART;TZID=America/Chicago:20290919T230000
DTEND;TZID=America/Chicago:20290920T010000
DTSTAMP:20260420T233633
CREATED:20250109T152923Z
LAST-MODIFIED:20250109T155324Z
UID:10001557-1884553200-1884560400@christchurch.codestagingdevelopment.com
SUMMARY:Family Ministry Wednesdays
DESCRIPTION:
URL:https://christchurch.codestagingdevelopment.com/event/family-ministry-wednesdays/2029-09-19/
LOCATION:Archgate Center
CATEGORIES:High School,Sunday School,Middle School
END:VEVENT
BEGIN:VEVENT
DTSTART;TZID=America/Chicago:20290926T230000
DTEND;TZID=America/Chicago:20290927T010000
DTSTAMP:20260420T233633
CREATED:20250109T152923Z
LAST-MODIFIED:20250109T155324Z
UID:10001558-1885158000-1885165200@christchurch.codestagingdevelopment.com
SUMMARY:Family Ministry Wednesdays
DESCRIPTION:
URL:https://christchurch.codestagingdevelopment.com/event/family-ministry-wednesdays/2029-09-26/
LOCATION:Archgate Center
CATEGORIES:High School,Sunday School,Middle School
END:VEVENT
END:VCALENDAR