BEGIN:VCALENDAR
VERSION:2.0
PRODID:-//Christ Church Plano - ECPv6.9.0//NONSGML v1.0//EN
CALSCALE:GREGORIAN
METHOD:PUBLISH
X-ORIGINAL-URL:https://christchurch.codestagingdevelopment.com
X-WR-CALDESC:Events for Christ Church Plano
REFRESH-INTERVAL;VALUE=DURATION:PT1H
X-Robots-Tag:noindex
X-PUBLISHED-TTL:PT1H
BEGIN:VTIMEZONE
TZID:America/Chicago
BEGIN:DAYLIGHT
TZOFFSETFROM:-0600
TZOFFSETTO:-0500
TZNAME:CDT
DTSTART:20280312T080000
END:DAYLIGHT
BEGIN:STANDARD
TZOFFSETFROM:-0500
TZOFFSETTO:-0600
TZNAME:CST
DTSTART:20281105T070000
END:STANDARD
END:VTIMEZONE
BEGIN:VEVENT
DTSTART;TZID=America/Chicago:20280813T121500
DTEND;TZID=America/Chicago:20280813T131500
DTSTAMP:20260422T093037
CREATED:20250109T150557Z
LAST-MODIFIED:20250114T203721Z
UID:10001238-1849781700-1849785300@christchurch.codestagingdevelopment.com
SUMMARY:Chapel Worship
DESCRIPTION:Christ Church celebrates the death and resurrection of our Lord and Savior Jesus Christ through participation in weekly worship and special services. \nLearn more about worship at Christ Church \nWatch recent sermons
URL:https://christchurch.codestagingdevelopment.com/event/chapel-worship/2028-08-13/
LOCATION:Chapel
CATEGORIES:Nursery,Worship
ATTACH;FMTTYPE=image/jpeg:https://christchurch.codestagingdevelopment.com/wp-content/uploads/2025/01/Interior-Chapel-960.jpg
END:VEVENT
BEGIN:VEVENT
DTSTART;TZID=America/Chicago:20280813T140000
DTEND;TZID=America/Chicago:20280813T171500
DTSTAMP:20260422T093037
CREATED:20250109T192110Z
LAST-MODIFIED:20250114T203641Z
UID:10002086-1849788000-1849799700@christchurch.codestagingdevelopment.com
SUMMARY:Sanctuary Worship
DESCRIPTION:Christ Church celebrates the death and resurrection of our Lord and Savior Jesus Christ through participation in weekly worship and special services. \nLearn more about worship at Christ Church \nWatch recent sermons
URL:https://christchurch.codestagingdevelopment.com/event/sanctuary-worship-2/2028-08-13/
LOCATION:Sanctuary
CATEGORIES:Nursery,Worship
ATTACH;FMTTYPE=image/jpeg:https://christchurch.codestagingdevelopment.com/wp-content/uploads/2025/01/Interior-Sanctuary-960.jpg
END:VEVENT
BEGIN:VEVENT
DTSTART;TZID=America/Chicago:20280820T121500
DTEND;TZID=America/Chicago:20280820T131500
DTSTAMP:20260422T093037
CREATED:20250109T150557Z
LAST-MODIFIED:20250114T203721Z
UID:10001239-1850386500-1850390100@christchurch.codestagingdevelopment.com
SUMMARY:Chapel Worship
DESCRIPTION:Christ Church celebrates the death and resurrection of our Lord and Savior Jesus Christ through participation in weekly worship and special services. \nLearn more about worship at Christ Church \nWatch recent sermons
URL:https://christchurch.codestagingdevelopment.com/event/chapel-worship/2028-08-20/
LOCATION:Chapel
CATEGORIES:Nursery,Worship
ATTACH;FMTTYPE=image/jpeg:https://christchurch.codestagingdevelopment.com/wp-content/uploads/2025/01/Interior-Chapel-960.jpg
END:VEVENT
BEGIN:VEVENT
DTSTART;TZID=America/Chicago:20280820T140000
DTEND;TZID=America/Chicago:20280820T171500
DTSTAMP:20260422T093037
CREATED:20250109T192110Z
LAST-MODIFIED:20250114T203641Z
UID:10002087-1850392800-1850404500@christchurch.codestagingdevelopment.com
SUMMARY:Sanctuary Worship
DESCRIPTION:Christ Church celebrates the death and resurrection of our Lord and Savior Jesus Christ through participation in weekly worship and special services. \nLearn more about worship at Christ Church \nWatch recent sermons
URL:https://christchurch.codestagingdevelopment.com/event/sanctuary-worship-2/2028-08-20/
LOCATION:Sanctuary
CATEGORIES:Nursery,Worship
ATTACH;FMTTYPE=image/jpeg:https://christchurch.codestagingdevelopment.com/wp-content/uploads/2025/01/Interior-Sanctuary-960.jpg
END:VEVENT
BEGIN:VEVENT
DTSTART;TZID=America/Chicago:20280827T121500
DTEND;TZID=America/Chicago:20280827T131500
DTSTAMP:20260422T093037
CREATED:20250109T150557Z
LAST-MODIFIED:20250114T203721Z
UID:10001240-1850991300-1850994900@christchurch.codestagingdevelopment.com
SUMMARY:Chapel Worship
DESCRIPTION:Christ Church celebrates the death and resurrection of our Lord and Savior Jesus Christ through participation in weekly worship and special services. \nLearn more about worship at Christ Church \nWatch recent sermons
URL:https://christchurch.codestagingdevelopment.com/event/chapel-worship/2028-08-27/
LOCATION:Chapel
CATEGORIES:Nursery,Worship
ATTACH;FMTTYPE=image/jpeg:https://christchurch.codestagingdevelopment.com/wp-content/uploads/2025/01/Interior-Chapel-960.jpg
END:VEVENT
BEGIN:VEVENT
DTSTART;TZID=America/Chicago:20280827T140000
DTEND;TZID=America/Chicago:20280827T171500
DTSTAMP:20260422T093037
CREATED:20250109T192110Z
LAST-MODIFIED:20250114T203641Z
UID:10002088-1850997600-1851009300@christchurch.codestagingdevelopment.com
SUMMARY:Sanctuary Worship
DESCRIPTION:Christ Church celebrates the death and resurrection of our Lord and Savior Jesus Christ through participation in weekly worship and special services. \nLearn more about worship at Christ Church \nWatch recent sermons
URL:https://christchurch.codestagingdevelopment.com/event/sanctuary-worship-2/2028-08-27/
LOCATION:Sanctuary
CATEGORIES:Nursery,Worship
ATTACH;FMTTYPE=image/jpeg:https://christchurch.codestagingdevelopment.com/wp-content/uploads/2025/01/Interior-Sanctuary-960.jpg
END:VEVENT
BEGIN:VEVENT
DTSTART;TZID=America/Chicago:20280903T121500
DTEND;TZID=America/Chicago:20280903T131500
DTSTAMP:20260422T093037
CREATED:20250109T150557Z
LAST-MODIFIED:20250114T203721Z
UID:10001241-1851596100-1851599700@christchurch.codestagingdevelopment.com
SUMMARY:Chapel Worship
DESCRIPTION:Christ Church celebrates the death and resurrection of our Lord and Savior Jesus Christ through participation in weekly worship and special services. \nLearn more about worship at Christ Church \nWatch recent sermons
URL:https://christchurch.codestagingdevelopment.com/event/chapel-worship/2028-09-03/
LOCATION:Chapel
CATEGORIES:Nursery,Worship
ATTACH;FMTTYPE=image/jpeg:https://christchurch.codestagingdevelopment.com/wp-content/uploads/2025/01/Interior-Chapel-960.jpg
END:VEVENT
BEGIN:VEVENT
DTSTART;TZID=America/Chicago:20280903T140000
DTEND;TZID=America/Chicago:20280903T171500
DTSTAMP:20260422T093037
CREATED:20250109T192110Z
LAST-MODIFIED:20250114T203641Z
UID:10002089-1851602400-1851614100@christchurch.codestagingdevelopment.com
SUMMARY:Sanctuary Worship
DESCRIPTION:Christ Church celebrates the death and resurrection of our Lord and Savior Jesus Christ through participation in weekly worship and special services. \nLearn more about worship at Christ Church \nWatch recent sermons
URL:https://christchurch.codestagingdevelopment.com/event/sanctuary-worship-2/2028-09-03/
LOCATION:Sanctuary
CATEGORIES:Nursery,Worship
ATTACH;FMTTYPE=image/jpeg:https://christchurch.codestagingdevelopment.com/wp-content/uploads/2025/01/Interior-Sanctuary-960.jpg
END:VEVENT
BEGIN:VEVENT
DTSTART;TZID=America/Chicago:20280910T121500
DTEND;TZID=America/Chicago:20280910T131500
DTSTAMP:20260422T093037
CREATED:20250109T150557Z
LAST-MODIFIED:20250114T203721Z
UID:10001242-1852200900-1852204500@christchurch.codestagingdevelopment.com
SUMMARY:Chapel Worship
DESCRIPTION:Christ Church celebrates the death and resurrection of our Lord and Savior Jesus Christ through participation in weekly worship and special services. \nLearn more about worship at Christ Church \nWatch recent sermons
URL:https://christchurch.codestagingdevelopment.com/event/chapel-worship/2028-09-10/
LOCATION:Chapel
CATEGORIES:Nursery,Worship
ATTACH;FMTTYPE=image/jpeg:https://christchurch.codestagingdevelopment.com/wp-content/uploads/2025/01/Interior-Chapel-960.jpg
END:VEVENT
BEGIN:VEVENT
DTSTART;TZID=America/Chicago:20280910T140000
DTEND;TZID=America/Chicago:20280910T171500
DTSTAMP:20260422T093037
CREATED:20250109T192110Z
LAST-MODIFIED:20250114T203641Z
UID:10002090-1852207200-1852218900@christchurch.codestagingdevelopment.com
SUMMARY:Sanctuary Worship
DESCRIPTION:Christ Church celebrates the death and resurrection of our Lord and Savior Jesus Christ through participation in weekly worship and special services. \nLearn more about worship at Christ Church \nWatch recent sermons
URL:https://christchurch.codestagingdevelopment.com/event/sanctuary-worship-2/2028-09-10/
LOCATION:Sanctuary
CATEGORIES:Nursery,Worship
ATTACH;FMTTYPE=image/jpeg:https://christchurch.codestagingdevelopment.com/wp-content/uploads/2025/01/Interior-Sanctuary-960.jpg
END:VEVENT
BEGIN:VEVENT
DTSTART;TZID=America/Chicago:20280917T121500
DTEND;TZID=America/Chicago:20280917T131500
DTSTAMP:20260422T093037
CREATED:20250109T150557Z
LAST-MODIFIED:20250114T203721Z
UID:10001243-1852805700-1852809300@christchurch.codestagingdevelopment.com
SUMMARY:Chapel Worship
DESCRIPTION:Christ Church celebrates the death and resurrection of our Lord and Savior Jesus Christ through participation in weekly worship and special services. \nLearn more about worship at Christ Church \nWatch recent sermons
URL:https://christchurch.codestagingdevelopment.com/event/chapel-worship/2028-09-17/
LOCATION:Chapel
CATEGORIES:Nursery,Worship
ATTACH;FMTTYPE=image/jpeg:https://christchurch.codestagingdevelopment.com/wp-content/uploads/2025/01/Interior-Chapel-960.jpg
END:VEVENT
BEGIN:VEVENT
DTSTART;TZID=America/Chicago:20280917T140000
DTEND;TZID=America/Chicago:20280917T171500
DTSTAMP:20260422T093038
CREATED:20250109T192110Z
LAST-MODIFIED:20250114T203641Z
UID:10002091-1852812000-1852823700@christchurch.codestagingdevelopment.com
SUMMARY:Sanctuary Worship
DESCRIPTION:Christ Church celebrates the death and resurrection of our Lord and Savior Jesus Christ through participation in weekly worship and special services. \nLearn more about worship at Christ Church \nWatch recent sermons
URL:https://christchurch.codestagingdevelopment.com/event/sanctuary-worship-2/2028-09-17/
LOCATION:Sanctuary
CATEGORIES:Nursery,Worship
ATTACH;FMTTYPE=image/jpeg:https://christchurch.codestagingdevelopment.com/wp-content/uploads/2025/01/Interior-Sanctuary-960.jpg
END:VEVENT
BEGIN:VEVENT
DTSTART;TZID=America/Chicago:20280924T121500
DTEND;TZID=America/Chicago:20280924T131500
DTSTAMP:20260422T093038
CREATED:20250109T150557Z
LAST-MODIFIED:20250114T203721Z
UID:10001244-1853410500-1853414100@christchurch.codestagingdevelopment.com
SUMMARY:Chapel Worship
DESCRIPTION:Christ Church celebrates the death and resurrection of our Lord and Savior Jesus Christ through participation in weekly worship and special services. \nLearn more about worship at Christ Church \nWatch recent sermons
URL:https://christchurch.codestagingdevelopment.com/event/chapel-worship/2028-09-24/
LOCATION:Chapel
CATEGORIES:Nursery,Worship
ATTACH;FMTTYPE=image/jpeg:https://christchurch.codestagingdevelopment.com/wp-content/uploads/2025/01/Interior-Chapel-960.jpg
END:VEVENT
BEGIN:VEVENT
DTSTART;TZID=America/Chicago:20280924T140000
DTEND;TZID=America/Chicago:20280924T171500
DTSTAMP:20260422T093038
CREATED:20250109T192110Z
LAST-MODIFIED:20250114T203641Z
UID:10002092-1853416800-1853428500@christchurch.codestagingdevelopment.com
SUMMARY:Sanctuary Worship
DESCRIPTION:Christ Church celebrates the death and resurrection of our Lord and Savior Jesus Christ through participation in weekly worship and special services. \nLearn more about worship at Christ Church \nWatch recent sermons
URL:https://christchurch.codestagingdevelopment.com/event/sanctuary-worship-2/2028-09-24/
LOCATION:Sanctuary
CATEGORIES:Nursery,Worship
ATTACH;FMTTYPE=image/jpeg:https://christchurch.codestagingdevelopment.com/wp-content/uploads/2025/01/Interior-Sanctuary-960.jpg
END:VEVENT
BEGIN:VEVENT
DTSTART;TZID=America/Chicago:20281001T121500
DTEND;TZID=America/Chicago:20281001T131500
DTSTAMP:20260422T093038
CREATED:20250109T150557Z
LAST-MODIFIED:20250114T203721Z
UID:10001245-1854015300-1854018900@christchurch.codestagingdevelopment.com
SUMMARY:Chapel Worship
DESCRIPTION:Christ Church celebrates the death and resurrection of our Lord and Savior Jesus Christ through participation in weekly worship and special services. \nLearn more about worship at Christ Church \nWatch recent sermons
URL:https://christchurch.codestagingdevelopment.com/event/chapel-worship/2028-10-01/
LOCATION:Chapel
CATEGORIES:Nursery,Worship
ATTACH;FMTTYPE=image/jpeg:https://christchurch.codestagingdevelopment.com/wp-content/uploads/2025/01/Interior-Chapel-960.jpg
END:VEVENT
BEGIN:VEVENT
DTSTART;TZID=America/Chicago:20281001T140000
DTEND;TZID=America/Chicago:20281001T171500
DTSTAMP:20260422T093038
CREATED:20250109T192110Z
LAST-MODIFIED:20250114T203641Z
UID:10002093-1854021600-1854033300@christchurch.codestagingdevelopment.com
SUMMARY:Sanctuary Worship
DESCRIPTION:Christ Church celebrates the death and resurrection of our Lord and Savior Jesus Christ through participation in weekly worship and special services. \nLearn more about worship at Christ Church \nWatch recent sermons
URL:https://christchurch.codestagingdevelopment.com/event/sanctuary-worship-2/2028-10-01/
LOCATION:Sanctuary
CATEGORIES:Nursery,Worship
ATTACH;FMTTYPE=image/jpeg:https://christchurch.codestagingdevelopment.com/wp-content/uploads/2025/01/Interior-Sanctuary-960.jpg
END:VEVENT
BEGIN:VEVENT
DTSTART;TZID=America/Chicago:20281008T121500
DTEND;TZID=America/Chicago:20281008T131500
DTSTAMP:20260422T093038
CREATED:20250109T150557Z
LAST-MODIFIED:20250114T203721Z
UID:10001246-1854620100-1854623700@christchurch.codestagingdevelopment.com
SUMMARY:Chapel Worship
DESCRIPTION:Christ Church celebrates the death and resurrection of our Lord and Savior Jesus Christ through participation in weekly worship and special services. \nLearn more about worship at Christ Church \nWatch recent sermons
URL:https://christchurch.codestagingdevelopment.com/event/chapel-worship/2028-10-08/
LOCATION:Chapel
CATEGORIES:Nursery,Worship
ATTACH;FMTTYPE=image/jpeg:https://christchurch.codestagingdevelopment.com/wp-content/uploads/2025/01/Interior-Chapel-960.jpg
END:VEVENT
BEGIN:VEVENT
DTSTART;TZID=America/Chicago:20281008T140000
DTEND;TZID=America/Chicago:20281008T171500
DTSTAMP:20260422T093038
CREATED:20250109T192110Z
LAST-MODIFIED:20250114T203641Z
UID:10002094-1854626400-1854638100@christchurch.codestagingdevelopment.com
SUMMARY:Sanctuary Worship
DESCRIPTION:Christ Church celebrates the death and resurrection of our Lord and Savior Jesus Christ through participation in weekly worship and special services. \nLearn more about worship at Christ Church \nWatch recent sermons
URL:https://christchurch.codestagingdevelopment.com/event/sanctuary-worship-2/2028-10-08/
LOCATION:Sanctuary
CATEGORIES:Nursery,Worship
ATTACH;FMTTYPE=image/jpeg:https://christchurch.codestagingdevelopment.com/wp-content/uploads/2025/01/Interior-Sanctuary-960.jpg
END:VEVENT
BEGIN:VEVENT
DTSTART;TZID=America/Chicago:20281015T121500
DTEND;TZID=America/Chicago:20281015T131500
DTSTAMP:20260422T093038
CREATED:20250109T150557Z
LAST-MODIFIED:20250114T203721Z
UID:10001247-1855224900-1855228500@christchurch.codestagingdevelopment.com
SUMMARY:Chapel Worship
DESCRIPTION:Christ Church celebrates the death and resurrection of our Lord and Savior Jesus Christ through participation in weekly worship and special services. \nLearn more about worship at Christ Church \nWatch recent sermons
URL:https://christchurch.codestagingdevelopment.com/event/chapel-worship/2028-10-15/
LOCATION:Chapel
CATEGORIES:Nursery,Worship
ATTACH;FMTTYPE=image/jpeg:https://christchurch.codestagingdevelopment.com/wp-content/uploads/2025/01/Interior-Chapel-960.jpg
END:VEVENT
BEGIN:VEVENT
DTSTART;TZID=America/Chicago:20281015T140000
DTEND;TZID=America/Chicago:20281015T171500
DTSTAMP:20260422T093038
CREATED:20250109T192110Z
LAST-MODIFIED:20250114T203641Z
UID:10002095-1855231200-1855242900@christchurch.codestagingdevelopment.com
SUMMARY:Sanctuary Worship
DESCRIPTION:Christ Church celebrates the death and resurrection of our Lord and Savior Jesus Christ through participation in weekly worship and special services. \nLearn more about worship at Christ Church \nWatch recent sermons
URL:https://christchurch.codestagingdevelopment.com/event/sanctuary-worship-2/2028-10-15/
LOCATION:Sanctuary
CATEGORIES:Nursery,Worship
ATTACH;FMTTYPE=image/jpeg:https://christchurch.codestagingdevelopment.com/wp-content/uploads/2025/01/Interior-Sanctuary-960.jpg
END:VEVENT
BEGIN:VEVENT
DTSTART;TZID=America/Chicago:20281022T121500
DTEND;TZID=America/Chicago:20281022T131500
DTSTAMP:20260422T093038
CREATED:20250109T150557Z
LAST-MODIFIED:20250114T203721Z
UID:10001248-1855829700-1855833300@christchurch.codestagingdevelopment.com
SUMMARY:Chapel Worship
DESCRIPTION:Christ Church celebrates the death and resurrection of our Lord and Savior Jesus Christ through participation in weekly worship and special services. \nLearn more about worship at Christ Church \nWatch recent sermons
URL:https://christchurch.codestagingdevelopment.com/event/chapel-worship/2028-10-22/
LOCATION:Chapel
CATEGORIES:Nursery,Worship
ATTACH;FMTTYPE=image/jpeg:https://christchurch.codestagingdevelopment.com/wp-content/uploads/2025/01/Interior-Chapel-960.jpg
END:VEVENT
BEGIN:VEVENT
DTSTART;TZID=America/Chicago:20281022T140000
DTEND;TZID=America/Chicago:20281022T171500
DTSTAMP:20260422T093038
CREATED:20250109T192110Z
LAST-MODIFIED:20250114T203641Z
UID:10002096-1855836000-1855847700@christchurch.codestagingdevelopment.com
SUMMARY:Sanctuary Worship
DESCRIPTION:Christ Church celebrates the death and resurrection of our Lord and Savior Jesus Christ through participation in weekly worship and special services. \nLearn more about worship at Christ Church \nWatch recent sermons
URL:https://christchurch.codestagingdevelopment.com/event/sanctuary-worship-2/2028-10-22/
LOCATION:Sanctuary
CATEGORIES:Nursery,Worship
ATTACH;FMTTYPE=image/jpeg:https://christchurch.codestagingdevelopment.com/wp-content/uploads/2025/01/Interior-Sanctuary-960.jpg
END:VEVENT
BEGIN:VEVENT
DTSTART;TZID=America/Chicago:20281029T121500
DTEND;TZID=America/Chicago:20281029T131500
DTSTAMP:20260422T093038
CREATED:20250109T150557Z
LAST-MODIFIED:20250114T203721Z
UID:10001249-1856434500-1856438100@christchurch.codestagingdevelopment.com
SUMMARY:Chapel Worship
DESCRIPTION:Christ Church celebrates the death and resurrection of our Lord and Savior Jesus Christ through participation in weekly worship and special services. \nLearn more about worship at Christ Church \nWatch recent sermons
URL:https://christchurch.codestagingdevelopment.com/event/chapel-worship/2028-10-29/
LOCATION:Chapel
CATEGORIES:Nursery,Worship
ATTACH;FMTTYPE=image/jpeg:https://christchurch.codestagingdevelopment.com/wp-content/uploads/2025/01/Interior-Chapel-960.jpg
END:VEVENT
BEGIN:VEVENT
DTSTART;TZID=America/Chicago:20281029T140000
DTEND;TZID=America/Chicago:20281029T171500
DTSTAMP:20260422T093038
CREATED:20250109T192110Z
LAST-MODIFIED:20250114T203641Z
UID:10002097-1856440800-1856452500@christchurch.codestagingdevelopment.com
SUMMARY:Sanctuary Worship
DESCRIPTION:Christ Church celebrates the death and resurrection of our Lord and Savior Jesus Christ through participation in weekly worship and special services. \nLearn more about worship at Christ Church \nWatch recent sermons
URL:https://christchurch.codestagingdevelopment.com/event/sanctuary-worship-2/2028-10-29/
LOCATION:Sanctuary
CATEGORIES:Nursery,Worship
ATTACH;FMTTYPE=image/jpeg:https://christchurch.codestagingdevelopment.com/wp-content/uploads/2025/01/Interior-Sanctuary-960.jpg
END:VEVENT
BEGIN:VEVENT
DTSTART;TZID=America/Chicago:20281105T131500
DTEND;TZID=America/Chicago:20281105T141500
DTSTAMP:20260422T093038
CREATED:20250109T150557Z
LAST-MODIFIED:20250114T203721Z
UID:10001250-1857042900-1857046500@christchurch.codestagingdevelopment.com
SUMMARY:Chapel Worship
DESCRIPTION:Christ Church celebrates the death and resurrection of our Lord and Savior Jesus Christ through participation in weekly worship and special services. \nLearn more about worship at Christ Church \nWatch recent sermons
URL:https://christchurch.codestagingdevelopment.com/event/chapel-worship/2028-11-05/
LOCATION:Chapel
CATEGORIES:Nursery,Worship
ATTACH;FMTTYPE=image/jpeg:https://christchurch.codestagingdevelopment.com/wp-content/uploads/2025/01/Interior-Chapel-960.jpg
END:VEVENT
BEGIN:VEVENT
DTSTART;TZID=America/Chicago:20281105T150000
DTEND;TZID=America/Chicago:20281105T181500
DTSTAMP:20260422T093038
CREATED:20250109T192110Z
LAST-MODIFIED:20250114T203641Z
UID:10002098-1857049200-1857060900@christchurch.codestagingdevelopment.com
SUMMARY:Sanctuary Worship
DESCRIPTION:Christ Church celebrates the death and resurrection of our Lord and Savior Jesus Christ through participation in weekly worship and special services. \nLearn more about worship at Christ Church \nWatch recent sermons
URL:https://christchurch.codestagingdevelopment.com/event/sanctuary-worship-2/2028-11-05/
LOCATION:Sanctuary
CATEGORIES:Nursery,Worship
ATTACH;FMTTYPE=image/jpeg:https://christchurch.codestagingdevelopment.com/wp-content/uploads/2025/01/Interior-Sanctuary-960.jpg
END:VEVENT
BEGIN:VEVENT
DTSTART;TZID=America/Chicago:20281112T131500
DTEND;TZID=America/Chicago:20281112T141500
DTSTAMP:20260422T093038
CREATED:20250109T150557Z
LAST-MODIFIED:20250114T203721Z
UID:10001251-1857647700-1857651300@christchurch.codestagingdevelopment.com
SUMMARY:Chapel Worship
DESCRIPTION:Christ Church celebrates the death and resurrection of our Lord and Savior Jesus Christ through participation in weekly worship and special services. \nLearn more about worship at Christ Church \nWatch recent sermons
URL:https://christchurch.codestagingdevelopment.com/event/chapel-worship/2028-11-12/
LOCATION:Chapel
CATEGORIES:Nursery,Worship
ATTACH;FMTTYPE=image/jpeg:https://christchurch.codestagingdevelopment.com/wp-content/uploads/2025/01/Interior-Chapel-960.jpg
END:VEVENT
BEGIN:VEVENT
DTSTART;TZID=America/Chicago:20281112T150000
DTEND;TZID=America/Chicago:20281112T181500
DTSTAMP:20260422T093038
CREATED:20250109T192110Z
LAST-MODIFIED:20250114T203641Z
UID:10002099-1857654000-1857665700@christchurch.codestagingdevelopment.com
SUMMARY:Sanctuary Worship
DESCRIPTION:Christ Church celebrates the death and resurrection of our Lord and Savior Jesus Christ through participation in weekly worship and special services. \nLearn more about worship at Christ Church \nWatch recent sermons
URL:https://christchurch.codestagingdevelopment.com/event/sanctuary-worship-2/2028-11-12/
LOCATION:Sanctuary
CATEGORIES:Nursery,Worship
ATTACH;FMTTYPE=image/jpeg:https://christchurch.codestagingdevelopment.com/wp-content/uploads/2025/01/Interior-Sanctuary-960.jpg
END:VEVENT
BEGIN:VEVENT
DTSTART;TZID=America/Chicago:20281119T131500
DTEND;TZID=America/Chicago:20281119T141500
DTSTAMP:20260422T093038
CREATED:20250109T150557Z
LAST-MODIFIED:20250114T203721Z
UID:10001252-1858252500-1858256100@christchurch.codestagingdevelopment.com
SUMMARY:Chapel Worship
DESCRIPTION:Christ Church celebrates the death and resurrection of our Lord and Savior Jesus Christ through participation in weekly worship and special services. \nLearn more about worship at Christ Church \nWatch recent sermons
URL:https://christchurch.codestagingdevelopment.com/event/chapel-worship/2028-11-19/
LOCATION:Chapel
CATEGORIES:Nursery,Worship
ATTACH;FMTTYPE=image/jpeg:https://christchurch.codestagingdevelopment.com/wp-content/uploads/2025/01/Interior-Chapel-960.jpg
END:VEVENT
BEGIN:VEVENT
DTSTART;TZID=America/Chicago:20281119T150000
DTEND;TZID=America/Chicago:20281119T181500
DTSTAMP:20260422T093038
CREATED:20250109T192110Z
LAST-MODIFIED:20250114T203641Z
UID:10002100-1858258800-1858270500@christchurch.codestagingdevelopment.com
SUMMARY:Sanctuary Worship
DESCRIPTION:Christ Church celebrates the death and resurrection of our Lord and Savior Jesus Christ through participation in weekly worship and special services. \nLearn more about worship at Christ Church \nWatch recent sermons
URL:https://christchurch.codestagingdevelopment.com/event/sanctuary-worship-2/2028-11-19/
LOCATION:Sanctuary
CATEGORIES:Nursery,Worship
ATTACH;FMTTYPE=image/jpeg:https://christchurch.codestagingdevelopment.com/wp-content/uploads/2025/01/Interior-Sanctuary-960.jpg
END:VEVENT
END:VCALENDAR