BEGIN:VCALENDAR
VERSION:2.0
PRODID:-//Christ Church Plano - ECPv6.9.0//NONSGML v1.0//EN
CALSCALE:GREGORIAN
METHOD:PUBLISH
X-WR-CALNAME:Christ Church Plano
X-ORIGINAL-URL:https://christchurch.codestagingdevelopment.com
X-WR-CALDESC:Events for Christ Church Plano
REFRESH-INTERVAL;VALUE=DURATION:PT1H
X-Robots-Tag:noindex
X-PUBLISHED-TTL:PT1H
BEGIN:VTIMEZONE
TZID:America/Chicago
BEGIN:DAYLIGHT
TZOFFSETFROM:-0600
TZOFFSETTO:-0500
TZNAME:CDT
DTSTART:20270314T080000
END:DAYLIGHT
BEGIN:STANDARD
TZOFFSETFROM:-0500
TZOFFSETTO:-0600
TZNAME:CST
DTSTART:20271107T070000
END:STANDARD
BEGIN:DAYLIGHT
TZOFFSETFROM:-0600
TZOFFSETTO:-0500
TZNAME:CDT
DTSTART:20280312T080000
END:DAYLIGHT
BEGIN:STANDARD
TZOFFSETFROM:-0500
TZOFFSETTO:-0600
TZNAME:CST
DTSTART:20281105T070000
END:STANDARD
END:VTIMEZONE
BEGIN:VEVENT
DTSTART;TZID=America/Chicago:20271202T000000
DTEND;TZID=America/Chicago:20271202T020000
DTSTAMP:20260420T022110
CREATED:20250109T152923Z
LAST-MODIFIED:20250109T155324Z
UID:10001463-1827705600-1827712800@christchurch.codestagingdevelopment.com
SUMMARY:Family Ministry Wednesdays
DESCRIPTION:
URL:https://christchurch.codestagingdevelopment.com/event/family-ministry-wednesdays/2027-12-01/
LOCATION:Archgate Center
CATEGORIES:High School,Sunday School,Middle School
END:VEVENT
BEGIN:VEVENT
DTSTART;TZID=America/Chicago:20271209T000000
DTEND;TZID=America/Chicago:20271209T020000
DTSTAMP:20260420T022110
CREATED:20250109T152923Z
LAST-MODIFIED:20250109T155324Z
UID:10001464-1828310400-1828317600@christchurch.codestagingdevelopment.com
SUMMARY:Family Ministry Wednesdays
DESCRIPTION:
URL:https://christchurch.codestagingdevelopment.com/event/family-ministry-wednesdays/2027-12-08/
LOCATION:Archgate Center
CATEGORIES:High School,Sunday School,Middle School
END:VEVENT
BEGIN:VEVENT
DTSTART;TZID=America/Chicago:20271216T000000
DTEND;TZID=America/Chicago:20271216T020000
DTSTAMP:20260420T022110
CREATED:20250109T152923Z
LAST-MODIFIED:20250109T155324Z
UID:10001465-1828915200-1828922400@christchurch.codestagingdevelopment.com
SUMMARY:Family Ministry Wednesdays
DESCRIPTION:
URL:https://christchurch.codestagingdevelopment.com/event/family-ministry-wednesdays/2027-12-15/
LOCATION:Archgate Center
CATEGORIES:High School,Sunday School,Middle School
END:VEVENT
BEGIN:VEVENT
DTSTART;TZID=America/Chicago:20271223T000000
DTEND;TZID=America/Chicago:20271223T020000
DTSTAMP:20260420T022110
CREATED:20250109T152923Z
LAST-MODIFIED:20250109T155324Z
UID:10001466-1829520000-1829527200@christchurch.codestagingdevelopment.com
SUMMARY:Family Ministry Wednesdays
DESCRIPTION:
URL:https://christchurch.codestagingdevelopment.com/event/family-ministry-wednesdays/2027-12-22/
LOCATION:Archgate Center
CATEGORIES:High School,Sunday School,Middle School
END:VEVENT
BEGIN:VEVENT
DTSTART;TZID=America/Chicago:20271230T000000
DTEND;TZID=America/Chicago:20271230T020000
DTSTAMP:20260420T022110
CREATED:20250109T152923Z
LAST-MODIFIED:20250109T155324Z
UID:10001467-1830124800-1830132000@christchurch.codestagingdevelopment.com
SUMMARY:Family Ministry Wednesdays
DESCRIPTION:
URL:https://christchurch.codestagingdevelopment.com/event/family-ministry-wednesdays/2027-12-29/
LOCATION:Archgate Center
CATEGORIES:High School,Sunday School,Middle School
END:VEVENT
BEGIN:VEVENT
DTSTART;TZID=America/Chicago:20280106T000000
DTEND;TZID=America/Chicago:20280106T020000
DTSTAMP:20260420T022110
CREATED:20250109T152923Z
LAST-MODIFIED:20250109T155324Z
UID:10001468-1830729600-1830736800@christchurch.codestagingdevelopment.com
SUMMARY:Family Ministry Wednesdays
DESCRIPTION:
URL:https://christchurch.codestagingdevelopment.com/event/family-ministry-wednesdays/2028-01-05/
LOCATION:Archgate Center
CATEGORIES:High School,Sunday School,Middle School
END:VEVENT
BEGIN:VEVENT
DTSTART;TZID=America/Chicago:20280113T000000
DTEND;TZID=America/Chicago:20280113T020000
DTSTAMP:20260420T022110
CREATED:20250109T152923Z
LAST-MODIFIED:20250109T155324Z
UID:10001469-1831334400-1831341600@christchurch.codestagingdevelopment.com
SUMMARY:Family Ministry Wednesdays
DESCRIPTION:
URL:https://christchurch.codestagingdevelopment.com/event/family-ministry-wednesdays/2028-01-12/
LOCATION:Archgate Center
CATEGORIES:High School,Sunday School,Middle School
END:VEVENT
BEGIN:VEVENT
DTSTART;TZID=America/Chicago:20280120T000000
DTEND;TZID=America/Chicago:20280120T020000
DTSTAMP:20260420T022110
CREATED:20250109T152923Z
LAST-MODIFIED:20250109T155324Z
UID:10001470-1831939200-1831946400@christchurch.codestagingdevelopment.com
SUMMARY:Family Ministry Wednesdays
DESCRIPTION:
URL:https://christchurch.codestagingdevelopment.com/event/family-ministry-wednesdays/2028-01-19/
LOCATION:Archgate Center
CATEGORIES:High School,Sunday School,Middle School
END:VEVENT
BEGIN:VEVENT
DTSTART;TZID=America/Chicago:20280127T000000
DTEND;TZID=America/Chicago:20280127T020000
DTSTAMP:20260420T022110
CREATED:20250109T152923Z
LAST-MODIFIED:20250109T155324Z
UID:10001471-1832544000-1832551200@christchurch.codestagingdevelopment.com
SUMMARY:Family Ministry Wednesdays
DESCRIPTION:
URL:https://christchurch.codestagingdevelopment.com/event/family-ministry-wednesdays/2028-01-26/
LOCATION:Archgate Center
CATEGORIES:High School,Sunday School,Middle School
END:VEVENT
BEGIN:VEVENT
DTSTART;TZID=America/Chicago:20280203T000000
DTEND;TZID=America/Chicago:20280203T020000
DTSTAMP:20260420T022110
CREATED:20250109T152923Z
LAST-MODIFIED:20250109T155324Z
UID:10001472-1833148800-1833156000@christchurch.codestagingdevelopment.com
SUMMARY:Family Ministry Wednesdays
DESCRIPTION:
URL:https://christchurch.codestagingdevelopment.com/event/family-ministry-wednesdays/2028-02-02/
LOCATION:Archgate Center
CATEGORIES:High School,Sunday School,Middle School
END:VEVENT
BEGIN:VEVENT
DTSTART;TZID=America/Chicago:20280210T000000
DTEND;TZID=America/Chicago:20280210T020000
DTSTAMP:20260420T022110
CREATED:20250109T152923Z
LAST-MODIFIED:20250109T155324Z
UID:10001473-1833753600-1833760800@christchurch.codestagingdevelopment.com
SUMMARY:Family Ministry Wednesdays
DESCRIPTION:
URL:https://christchurch.codestagingdevelopment.com/event/family-ministry-wednesdays/2028-02-09/
LOCATION:Archgate Center
CATEGORIES:High School,Sunday School,Middle School
END:VEVENT
BEGIN:VEVENT
DTSTART;TZID=America/Chicago:20280217T000000
DTEND;TZID=America/Chicago:20280217T020000
DTSTAMP:20260420T022110
CREATED:20250109T152923Z
LAST-MODIFIED:20250109T155324Z
UID:10001474-1834358400-1834365600@christchurch.codestagingdevelopment.com
SUMMARY:Family Ministry Wednesdays
DESCRIPTION:
URL:https://christchurch.codestagingdevelopment.com/event/family-ministry-wednesdays/2028-02-16/
LOCATION:Archgate Center
CATEGORIES:High School,Sunday School,Middle School
END:VEVENT
BEGIN:VEVENT
DTSTART;TZID=America/Chicago:20280224T000000
DTEND;TZID=America/Chicago:20280224T020000
DTSTAMP:20260420T022110
CREATED:20250109T152923Z
LAST-MODIFIED:20250109T155324Z
UID:10001475-1834963200-1834970400@christchurch.codestagingdevelopment.com
SUMMARY:Family Ministry Wednesdays
DESCRIPTION:
URL:https://christchurch.codestagingdevelopment.com/event/family-ministry-wednesdays/2028-02-23/
LOCATION:Archgate Center
CATEGORIES:High School,Sunday School,Middle School
END:VEVENT
BEGIN:VEVENT
DTSTART;TZID=America/Chicago:20280302T000000
DTEND;TZID=America/Chicago:20280302T020000
DTSTAMP:20260420T022110
CREATED:20250109T152923Z
LAST-MODIFIED:20250109T155324Z
UID:10001476-1835568000-1835575200@christchurch.codestagingdevelopment.com
SUMMARY:Family Ministry Wednesdays
DESCRIPTION:
URL:https://christchurch.codestagingdevelopment.com/event/family-ministry-wednesdays/2028-03-01/
LOCATION:Archgate Center
CATEGORIES:High School,Sunday School,Middle School
END:VEVENT
BEGIN:VEVENT
DTSTART;TZID=America/Chicago:20280309T000000
DTEND;TZID=America/Chicago:20280309T020000
DTSTAMP:20260420T022110
CREATED:20250109T152923Z
LAST-MODIFIED:20250109T155324Z
UID:10001477-1836172800-1836180000@christchurch.codestagingdevelopment.com
SUMMARY:Family Ministry Wednesdays
DESCRIPTION:
URL:https://christchurch.codestagingdevelopment.com/event/family-ministry-wednesdays/2028-03-08/
LOCATION:Archgate Center
CATEGORIES:High School,Sunday School,Middle School
END:VEVENT
BEGIN:VEVENT
DTSTART;TZID=America/Chicago:20280315T230000
DTEND;TZID=America/Chicago:20280316T010000
DTSTAMP:20260420T022110
CREATED:20250109T152923Z
LAST-MODIFIED:20250109T155324Z
UID:10001478-1836774000-1836781200@christchurch.codestagingdevelopment.com
SUMMARY:Family Ministry Wednesdays
DESCRIPTION:
URL:https://christchurch.codestagingdevelopment.com/event/family-ministry-wednesdays/2028-03-15/
LOCATION:Archgate Center
CATEGORIES:High School,Sunday School,Middle School
END:VEVENT
BEGIN:VEVENT
DTSTART;TZID=America/Chicago:20280322T230000
DTEND;TZID=America/Chicago:20280323T010000
DTSTAMP:20260420T022110
CREATED:20250109T152923Z
LAST-MODIFIED:20250109T155324Z
UID:10001479-1837378800-1837386000@christchurch.codestagingdevelopment.com
SUMMARY:Family Ministry Wednesdays
DESCRIPTION:
URL:https://christchurch.codestagingdevelopment.com/event/family-ministry-wednesdays/2028-03-22/
LOCATION:Archgate Center
CATEGORIES:High School,Sunday School,Middle School
END:VEVENT
BEGIN:VEVENT
DTSTART;TZID=America/Chicago:20280329T230000
DTEND;TZID=America/Chicago:20280330T010000
DTSTAMP:20260420T022110
CREATED:20250109T152923Z
LAST-MODIFIED:20250109T155324Z
UID:10001480-1837983600-1837990800@christchurch.codestagingdevelopment.com
SUMMARY:Family Ministry Wednesdays
DESCRIPTION:
URL:https://christchurch.codestagingdevelopment.com/event/family-ministry-wednesdays/2028-03-29/
LOCATION:Archgate Center
CATEGORIES:High School,Sunday School,Middle School
END:VEVENT
BEGIN:VEVENT
DTSTART;TZID=America/Chicago:20280405T230000
DTEND;TZID=America/Chicago:20280406T010000
DTSTAMP:20260420T022110
CREATED:20250109T152923Z
LAST-MODIFIED:20250109T155324Z
UID:10001481-1838588400-1838595600@christchurch.codestagingdevelopment.com
SUMMARY:Family Ministry Wednesdays
DESCRIPTION:
URL:https://christchurch.codestagingdevelopment.com/event/family-ministry-wednesdays/2028-04-05/
LOCATION:Archgate Center
CATEGORIES:High School,Sunday School,Middle School
END:VEVENT
BEGIN:VEVENT
DTSTART;TZID=America/Chicago:20280412T230000
DTEND;TZID=America/Chicago:20280413T010000
DTSTAMP:20260420T022110
CREATED:20250109T152923Z
LAST-MODIFIED:20250109T155324Z
UID:10001482-1839193200-1839200400@christchurch.codestagingdevelopment.com
SUMMARY:Family Ministry Wednesdays
DESCRIPTION:
URL:https://christchurch.codestagingdevelopment.com/event/family-ministry-wednesdays/2028-04-12/
LOCATION:Archgate Center
CATEGORIES:High School,Sunday School,Middle School
END:VEVENT
BEGIN:VEVENT
DTSTART;TZID=America/Chicago:20280419T230000
DTEND;TZID=America/Chicago:20280420T010000
DTSTAMP:20260420T022110
CREATED:20250109T152923Z
LAST-MODIFIED:20250109T155324Z
UID:10001483-1839798000-1839805200@christchurch.codestagingdevelopment.com
SUMMARY:Family Ministry Wednesdays
DESCRIPTION:
URL:https://christchurch.codestagingdevelopment.com/event/family-ministry-wednesdays/2028-04-19/
LOCATION:Archgate Center
CATEGORIES:High School,Sunday School,Middle School
END:VEVENT
BEGIN:VEVENT
DTSTART;TZID=America/Chicago:20280426T230000
DTEND;TZID=America/Chicago:20280427T010000
DTSTAMP:20260420T022110
CREATED:20250109T152923Z
LAST-MODIFIED:20250109T155324Z
UID:10001484-1840402800-1840410000@christchurch.codestagingdevelopment.com
SUMMARY:Family Ministry Wednesdays
DESCRIPTION:
URL:https://christchurch.codestagingdevelopment.com/event/family-ministry-wednesdays/2028-04-26/
LOCATION:Archgate Center
CATEGORIES:High School,Sunday School,Middle School
END:VEVENT
BEGIN:VEVENT
DTSTART;TZID=America/Chicago:20280503T230000
DTEND;TZID=America/Chicago:20280504T010000
DTSTAMP:20260420T022110
CREATED:20250109T152923Z
LAST-MODIFIED:20250109T155324Z
UID:10001485-1841007600-1841014800@christchurch.codestagingdevelopment.com
SUMMARY:Family Ministry Wednesdays
DESCRIPTION:
URL:https://christchurch.codestagingdevelopment.com/event/family-ministry-wednesdays/2028-05-03/
LOCATION:Archgate Center
CATEGORIES:High School,Sunday School,Middle School
END:VEVENT
BEGIN:VEVENT
DTSTART;TZID=America/Chicago:20280510T230000
DTEND;TZID=America/Chicago:20280511T010000
DTSTAMP:20260420T022110
CREATED:20250109T152923Z
LAST-MODIFIED:20250109T155324Z
UID:10001486-1841612400-1841619600@christchurch.codestagingdevelopment.com
SUMMARY:Family Ministry Wednesdays
DESCRIPTION:
URL:https://christchurch.codestagingdevelopment.com/event/family-ministry-wednesdays/2028-05-10/
LOCATION:Archgate Center
CATEGORIES:High School,Sunday School,Middle School
END:VEVENT
BEGIN:VEVENT
DTSTART;TZID=America/Chicago:20280517T230000
DTEND;TZID=America/Chicago:20280518T010000
DTSTAMP:20260420T022110
CREATED:20250109T152923Z
LAST-MODIFIED:20250109T155324Z
UID:10001487-1842217200-1842224400@christchurch.codestagingdevelopment.com
SUMMARY:Family Ministry Wednesdays
DESCRIPTION:
URL:https://christchurch.codestagingdevelopment.com/event/family-ministry-wednesdays/2028-05-17/
LOCATION:Archgate Center
CATEGORIES:High School,Sunday School,Middle School
END:VEVENT
BEGIN:VEVENT
DTSTART;TZID=America/Chicago:20280524T230000
DTEND;TZID=America/Chicago:20280525T010000
DTSTAMP:20260420T022110
CREATED:20250109T152923Z
LAST-MODIFIED:20250109T155324Z
UID:10001488-1842822000-1842829200@christchurch.codestagingdevelopment.com
SUMMARY:Family Ministry Wednesdays
DESCRIPTION:
URL:https://christchurch.codestagingdevelopment.com/event/family-ministry-wednesdays/2028-05-24/
LOCATION:Archgate Center
CATEGORIES:High School,Sunday School,Middle School
END:VEVENT
BEGIN:VEVENT
DTSTART;TZID=America/Chicago:20280531T230000
DTEND;TZID=America/Chicago:20280601T010000
DTSTAMP:20260420T022110
CREATED:20250109T152923Z
LAST-MODIFIED:20250109T155324Z
UID:10001489-1843426800-1843434000@christchurch.codestagingdevelopment.com
SUMMARY:Family Ministry Wednesdays
DESCRIPTION:
URL:https://christchurch.codestagingdevelopment.com/event/family-ministry-wednesdays/2028-05-31/
LOCATION:Archgate Center
CATEGORIES:High School,Sunday School,Middle School
END:VEVENT
BEGIN:VEVENT
DTSTART;TZID=America/Chicago:20280607T230000
DTEND;TZID=America/Chicago:20280608T010000
DTSTAMP:20260420T022110
CREATED:20250109T152923Z
LAST-MODIFIED:20250109T155324Z
UID:10001490-1844031600-1844038800@christchurch.codestagingdevelopment.com
SUMMARY:Family Ministry Wednesdays
DESCRIPTION:
URL:https://christchurch.codestagingdevelopment.com/event/family-ministry-wednesdays/2028-06-07/
LOCATION:Archgate Center
CATEGORIES:High School,Sunday School,Middle School
END:VEVENT
BEGIN:VEVENT
DTSTART;TZID=America/Chicago:20280614T230000
DTEND;TZID=America/Chicago:20280615T010000
DTSTAMP:20260420T022110
CREATED:20250109T152923Z
LAST-MODIFIED:20250109T155324Z
UID:10001491-1844636400-1844643600@christchurch.codestagingdevelopment.com
SUMMARY:Family Ministry Wednesdays
DESCRIPTION:
URL:https://christchurch.codestagingdevelopment.com/event/family-ministry-wednesdays/2028-06-14/
LOCATION:Archgate Center
CATEGORIES:High School,Sunday School,Middle School
END:VEVENT
BEGIN:VEVENT
DTSTART;TZID=America/Chicago:20280621T230000
DTEND;TZID=America/Chicago:20280622T010000
DTSTAMP:20260420T022110
CREATED:20250109T152923Z
LAST-MODIFIED:20250109T155324Z
UID:10001492-1845241200-1845248400@christchurch.codestagingdevelopment.com
SUMMARY:Family Ministry Wednesdays
DESCRIPTION:
URL:https://christchurch.codestagingdevelopment.com/event/family-ministry-wednesdays/2028-06-21/
LOCATION:Archgate Center
CATEGORIES:High School,Sunday School,Middle School
END:VEVENT
END:VCALENDAR