BEGIN:VCALENDAR
VERSION:2.0
PRODID:-//Christ Church Plano - ECPv6.9.0//NONSGML v1.0//EN
CALSCALE:GREGORIAN
METHOD:PUBLISH
X-WR-CALNAME:Christ Church Plano
X-ORIGINAL-URL:https://christchurch.codestagingdevelopment.com
X-WR-CALDESC:Events for Christ Church Plano
REFRESH-INTERVAL;VALUE=DURATION:PT1H
X-Robots-Tag:noindex
X-PUBLISHED-TTL:PT1H
BEGIN:VTIMEZONE
TZID:America/Chicago
BEGIN:DAYLIGHT
TZOFFSETFROM:-0600
TZOFFSETTO:-0500
TZNAME:CDT
DTSTART:20240310T080000
END:DAYLIGHT
BEGIN:STANDARD
TZOFFSETFROM:-0500
TZOFFSETTO:-0600
TZNAME:CST
DTSTART:20241103T070000
END:STANDARD
END:VTIMEZONE
BEGIN:VEVENT
DTSTART;TZID=America/Chicago:20241201T140000
DTEND;TZID=America/Chicago:20241201T230000
DTSTAMP:20260419T160749
CREATED:20250109T184100Z
LAST-MODIFIED:20250109T223827Z
UID:6756-1733061600-1733094000@christchurch.codestagingdevelopment.com
SUMMARY:Thanksgiving Outreach
DESCRIPTION:A time-honored Christ Church tradition\, mobilizing the abundance of our church family to help those less fortunate in the greater Plano community. \nTo Contribute\nHelp us provide nourishing meals to approximately 535 families in need and an additional 437 generous meal vouchers for senior residents and homeless youth in our community. \n\nEach $70 donation provides one large meal box for a family of six. The box contains a turkey\, rice\, beans\, apples\, oranges\, dry goods\, potatoes\, and onions—everything needed for a complete Thanksgiving!\n\nPlease donate online using the link below. You can also designate checks for the offertory by writing “Thanksgiving Outreach” on the memo line. Checks may be placed in the offering plate or delivered to the Ministry Center offices. \nGive Now \nTo Volunteer\nThanksgiving Outreach culminates in a large volunteer effort to box and deliver meals to our distributing agencies and churches. Volunteers are needed on Tuesday\, November 19 and Friday through Sunday\, November 22-24. Childcare for volunteers is available only on November 24 until 3:30 p.m. \nPlease recruit your family and small group to join our volunteers using the form below.
URL:https://christchurch.codestagingdevelopment.com/event/thanksgiving-outreach/
CATEGORIES:Adults,Mission
END:VEVENT
END:VCALENDAR