BEGIN:VCALENDAR
VERSION:2.0
PRODID:-//Christ Church Plano - ECPv6.9.0//NONSGML v1.0//EN
CALSCALE:GREGORIAN
METHOD:PUBLISH
X-WR-CALNAME:Christ Church Plano
X-ORIGINAL-URL:https://christchurch.codestagingdevelopment.com
X-WR-CALDESC:Events for Christ Church Plano
REFRESH-INTERVAL;VALUE=DURATION:PT1H
X-Robots-Tag:noindex
X-PUBLISHED-TTL:PT1H
BEGIN:VTIMEZONE
TZID:America/Chicago
BEGIN:DAYLIGHT
TZOFFSETFROM:-0600
TZOFFSETTO:-0500
TZNAME:CDT
DTSTART:20250309T080000
END:DAYLIGHT
BEGIN:STANDARD
TZOFFSETFROM:-0500
TZOFFSETTO:-0600
TZNAME:CST
DTSTART:20251102T070000
END:STANDARD
END:VTIMEZONE
BEGIN:VEVENT
DTSTART;TZID=America/Chicago:20250208T010000
DTEND;TZID=America/Chicago:20250208T040000
DTSTAMP:20260423T054105
CREATED:20250109T170542Z
LAST-MODIFIED:20250116T183816Z
UID:6588-1738976400-1738987200@christchurch.codestagingdevelopment.com
SUMMARY:Night at the Rink
DESCRIPTION:We’ve reserved seating together: Section 119 & 200.\nUse the link below to buy family tickets. \n\n6 p.m. – Gates Open\n7:10 p.m. – Game Begins\nStay after for a group photo on the ice!
URL:https://christchurch.codestagingdevelopment.com/event/night-at-the-rink/
LOCATION:Credit Union of Texas Event Center\, 200 E. Stacy Rd.\, Allen\, TX\, 75002\, United States
CATEGORIES:High School,Sunday School,Middle School,Adults
ATTACH;FMTTYPE=image/jpeg:https://christchurch.codestagingdevelopment.com/wp-content/uploads/2025/01/Night-Rink-960.jpg
END:VEVENT
END:VCALENDAR