BEGIN:VCALENDAR
VERSION:2.0
PRODID:-//Christ Church Plano - ECPv6.9.0//NONSGML v1.0//EN
CALSCALE:GREGORIAN
METHOD:PUBLISH
X-WR-CALNAME:Christ Church Plano
X-ORIGINAL-URL:https://christchurch.codestagingdevelopment.com
X-WR-CALDESC:Events for Christ Church Plano
REFRESH-INTERVAL;VALUE=DURATION:PT1H
X-Robots-Tag:noindex
X-PUBLISHED-TTL:PT1H
BEGIN:VTIMEZONE
TZID:America/Chicago
BEGIN:DAYLIGHT
TZOFFSETFROM:-0600
TZOFFSETTO:-0500
TZNAME:CDT
DTSTART:20240310T080000
END:DAYLIGHT
BEGIN:STANDARD
TZOFFSETFROM:-0500
TZOFFSETTO:-0600
TZNAME:CST
DTSTART:20241103T070000
END:STANDARD
END:VTIMEZONE
BEGIN:VEVENT
DTSTART;TZID=America/Chicago:20241201T140000
DTEND;TZID=America/Chicago:20241201T230000
DTSTAMP:20260421T204603
CREATED:20250109T172241Z
LAST-MODIFIED:20250109T223521Z
UID:6602-1733061600-1733094000@christchurch.codestagingdevelopment.com
SUMMARY:Holy Week Begins
DESCRIPTION:Palm Sunday\n\n\n\nSunday\, March 24\n7:15 a.m. Chapel\n9 & 11 a.m. Sanctuary\n \nHoly Week begins with the commemoration of Christ’s entry into Jerusalem. Join us for worship at regular service times. \n\n\n\n\n\n\n \nMaundy Thursday\n\n\n\nThursday\, March 28\n7 p.m. Sanctuary \nGather and reflect on Jesus’s Last Supper\, his new commandment\, and his institution of Holy Eucharist. \n\n\n\n\n\n\n \nStations of the Cross\n\n\n\nFriday\, March 29\n12 noon Sanctuary \nMeditate with guided prayer through the 14 stages of Jesus’s journey to the Cross and Tomb. \n\n\n\n\n\n\n \nLiturgy of the Passion\n\n\n\nFriday\, March 29\n7 p.m. Sanctuary \nJoin us on Good Friday for prayer\, special music\, and a dramatic reading of the Passion by Bishop Paul. \n\n\n\n\n\n\n \nEaster Sunday\n\n\n\nSunday\, March 31\n7 a.m. Chapel\n9 & 11 a.m. Sanctuary \nCelebrate the resurrection of Jesus Christ. Please note that services times have changed to include a sunrise Chapel service in addition to our Sanctuary worship.
URL:https://christchurch.codestagingdevelopment.com/event/holy-week-begins/
CATEGORIES:Worship
END:VEVENT
END:VCALENDAR