BEGIN:VCALENDAR
VERSION:2.0
PRODID:-//Christ Church Plano - ECPv6.9.0//NONSGML v1.0//EN
CALSCALE:GREGORIAN
METHOD:PUBLISH
X-WR-CALNAME:Christ Church Plano
X-ORIGINAL-URL:https://christchurch.codestagingdevelopment.com
X-WR-CALDESC:Events for Christ Church Plano
REFRESH-INTERVAL;VALUE=DURATION:PT1H
X-Robots-Tag:noindex
X-PUBLISHED-TTL:PT1H
BEGIN:VTIMEZONE
TZID:America/Chicago
BEGIN:DAYLIGHT
TZOFFSETFROM:-0600
TZOFFSETTO:-0500
TZNAME:CDT
DTSTART:20250309T080000
END:DAYLIGHT
BEGIN:STANDARD
TZOFFSETFROM:-0500
TZOFFSETTO:-0600
TZNAME:CST
DTSTART:20251102T070000
END:STANDARD
END:VTIMEZONE
BEGIN:VEVENT
DTSTART;TZID=America/Chicago:20250202T183000
DTEND;TZID=America/Chicago:20250202T200000
DTSTAMP:20260422T185704
CREATED:20241210T214554Z
LAST-MODIFIED:20250116T181237Z
UID:3773-1738521000-1738526400@christchurch.codestagingdevelopment.com
SUMMARY:England Pilgrimage Informational Meeting
DESCRIPTION:Tour Dates: May 25 – June 4\, 2025\nTo view the trip itinerary\, details\, and cost\, please visit the following registration page: https://www.footstepministries.org/christ-church-england-2025
URL:https://christchurch.codestagingdevelopment.com/event/england-pilgrimage-informational-meeting/
LOCATION:Adult Education Building
CATEGORIES:Adults
ATTACH;FMTTYPE=image/jpeg:https://christchurch.codestagingdevelopment.com/wp-content/uploads/2024/12/Tour-England-960.jpg
ORGANIZER;CN="The Rev. Robert Kincaid":MAILTO:robertk@christchurchplano.org
END:VEVENT
END:VCALENDAR