BEGIN:VCALENDAR
VERSION:2.0
PRODID:-//Christ Church Plano - ECPv6.9.0//NONSGML v1.0//EN
CALSCALE:GREGORIAN
METHOD:PUBLISH
X-WR-CALNAME:Christ Church Plano
X-ORIGINAL-URL:https://christchurch.codestagingdevelopment.com
X-WR-CALDESC:Events for Christ Church Plano
REFRESH-INTERVAL;VALUE=DURATION:PT1H
X-Robots-Tag:noindex
X-PUBLISHED-TTL:PT1H
BEGIN:VTIMEZONE
TZID:America/Chicago
BEGIN:DAYLIGHT
TZOFFSETFROM:-0600
TZOFFSETTO:-0500
TZNAME:CDT
DTSTART:20250309T080000
END:DAYLIGHT
BEGIN:STANDARD
TZOFFSETFROM:-0500
TZOFFSETTO:-0600
TZNAME:CST
DTSTART:20251102T070000
END:STANDARD
END:VTIMEZONE
BEGIN:VEVENT
DTSTART;TZID=America/Chicago:20250305T130000
DTEND;TZID=America/Chicago:20250306T010000
DTSTAMP:20260420T021541
CREATED:20250109T151038Z
LAST-MODIFIED:20250117T180839Z
UID:6531-1741179600-1741222800@christchurch.codestagingdevelopment.com
SUMMARY:Ash Wednesday Services
DESCRIPTION:About Lent\nJoin us in repentance and self-examination as we walk towards Easter and the Cross. \nIn the liturgy for Ash Wednesday\, the Book of Common Prayer invites Christians to an annual “observance of a holy Lent: by self-examination and repentance.” Self-examination may prompt some difficult questions and issues. \nIf you need further guidance or encouragement this Lent\, we encourage you to reach out to a member of our clergy. We are here to help.
URL:https://christchurch.codestagingdevelopment.com/event/ash-wednesday-services/
LOCATION:Sanctuary
CATEGORIES:Worship
END:VEVENT
END:VCALENDAR